BEGIN:VCALENDAR
VERSION:2.0
PRODID:-//GardenOntario - ECPv6.15.20//NONSGML v1.0//EN
CALSCALE:GREGORIAN
METHOD:PUBLISH
X-ORIGINAL-URL:https://gardenontario.org
X-WR-CALDESC:Events for GardenOntario
REFRESH-INTERVAL;VALUE=DURATION:PT1H
X-Robots-Tag:noindex
X-PUBLISHED-TTL:PT1H
BEGIN:VTIMEZONE
TZID:America/Toronto
BEGIN:DAYLIGHT
TZOFFSETFROM:-0500
TZOFFSETTO:-0400
TZNAME:EDT
DTSTART:20240310T070000
END:DAYLIGHT
BEGIN:STANDARD
TZOFFSETFROM:-0400
TZOFFSETTO:-0500
TZNAME:EST
DTSTART:20241103T060000
END:STANDARD
BEGIN:DAYLIGHT
TZOFFSETFROM:-0500
TZOFFSETTO:-0400
TZNAME:EDT
DTSTART:20250309T070000
END:DAYLIGHT
BEGIN:STANDARD
TZOFFSETFROM:-0400
TZOFFSETTO:-0500
TZNAME:EST
DTSTART:20251102T060000
END:STANDARD
BEGIN:DAYLIGHT
TZOFFSETFROM:-0500
TZOFFSETTO:-0400
TZNAME:EDT
DTSTART:20260308T070000
END:DAYLIGHT
BEGIN:STANDARD
TZOFFSETFROM:-0400
TZOFFSETTO:-0500
TZNAME:EST
DTSTART:20261101T060000
END:STANDARD
END:VTIMEZONE
BEGIN:VEVENT
DTSTART;TZID=America/Toronto:20250712T090000
DTEND;TZID=America/Toronto:20250712T160000
DTSTAMP:20260423T205920
CREATED:20250606T185717Z
LAST-MODIFIED:20250606T185717Z
UID:10001476-1752310800-1752336000@gardenontario.org
SUMMARY:Saugeen Shores Tour of Gardens
DESCRIPTION:Fill your car with friends and tour our fabulous gardens! This fundraising event for Huron Shores Hospice showcases beautiful urban and rural gardens that have been selected to inspire and educate all those who wander through them. Join in the fun and wear your best decorated hat\, enjoy a bite at the Cafe Gilou foodtruck. Hosted by the Southport Horticultural Society. \n  \nTickets can be bought through our website or in LAC BOUTIQUE in Southampton and BOTTLED UP in Port Elgin \n  \nEarly Bird Ticket Price (before July 1st): $30 \nTicket Price on and after July 1st: $40 \n  \nhttps://www.southporthorticulturalsociety.com/event-details/saugeen-shores-tour-of-gardens
URL:https://gardenontario.org/event/saugeen-shores-tour-of-gardens-2/
LOCATION:Saugeen Shores
CATEGORIES:Garden Tour
ATTACH;FMTTYPE=image/jpeg:https://gardenontario.org/wp-content/uploads/poster-for-SM-scaled.jpg
ORGANIZER;CN="Southport Horticultural Society":MAILTO:southporthorticulturalsociety@gmail.com
END:VEVENT
END:VCALENDAR