BEGIN:VCALENDAR
VERSION:2.0
PRODID:-//GardenOntario - ECPv6.15.20//NONSGML v1.0//EN
CALSCALE:GREGORIAN
METHOD:PUBLISH
X-ORIGINAL-URL:https://gardenontario.org
X-WR-CALDESC:Events for GardenOntario
REFRESH-INTERVAL;VALUE=DURATION:PT1H
X-Robots-Tag:noindex
X-PUBLISHED-TTL:PT1H
BEGIN:VTIMEZONE
TZID:America/Toronto
BEGIN:DAYLIGHT
TZOFFSETFROM:-0500
TZOFFSETTO:-0400
TZNAME:EDT
DTSTART:20240310T070000
END:DAYLIGHT
BEGIN:STANDARD
TZOFFSETFROM:-0400
TZOFFSETTO:-0500
TZNAME:EST
DTSTART:20241103T060000
END:STANDARD
BEGIN:DAYLIGHT
TZOFFSETFROM:-0500
TZOFFSETTO:-0400
TZNAME:EDT
DTSTART:20250309T070000
END:DAYLIGHT
BEGIN:STANDARD
TZOFFSETFROM:-0400
TZOFFSETTO:-0500
TZNAME:EST
DTSTART:20251102T060000
END:STANDARD
BEGIN:DAYLIGHT
TZOFFSETFROM:-0500
TZOFFSETTO:-0400
TZNAME:EDT
DTSTART:20260308T070000
END:DAYLIGHT
BEGIN:STANDARD
TZOFFSETFROM:-0400
TZOFFSETTO:-0500
TZNAME:EST
DTSTART:20261101T060000
END:STANDARD
END:VTIMEZONE
BEGIN:VEVENT
DTSTART;TZID=America/Toronto:20250524T090000
DTEND;TZID=America/Toronto:20250524T130000
DTSTAMP:20260424T153420
CREATED:20250407T201944Z
LAST-MODIFIED:20250407T201944Z
UID:10001423-1748077200-1748091600@gardenontario.org
SUMMARY:Plant Sale
DESCRIPTION:Fundraising Plant Sale: \nPerennials and annuals (vegetables\, herbs) for your garden as well as house plants will be available to buy.   There will be a focus on native and pollinator plants.   Additional non-plant items like gardening books and tools will also be available.  Parking and entrance at back of Church.  Cash and e-transfer accepted
URL:https://gardenontario.org/event/plant-sale-7/
LOCATION:NorthBurlingtonBaptist Church\, 1377 Walkers Line (corner of Forest Run Av.)\, Burlington\, L7M 0Z1
CATEGORIES:Plant Sale
ORGANIZER;CN="Burlington Horticultural Society":MAILTO:burlhortsoc@gmail.com
GEO:43.3759691;-79.8005602
X-APPLE-STRUCTURED-LOCATION;VALUE=URI;X-ADDRESS=NorthBurlingtonBaptist Church 1377 Walkers Line (corner of Forest Run Av.) Burlington L7M 0Z1;X-APPLE-RADIUS=500;X-TITLE=1377 Walkers Line (corner of Forest Run Av.):geo:-79.8005602,43.3759691
END:VEVENT
END:VCALENDAR