BEGIN:VCALENDAR
VERSION:2.0
PRODID:-//GardenOntario - ECPv6.15.20//NONSGML v1.0//EN
CALSCALE:GREGORIAN
METHOD:PUBLISH
X-ORIGINAL-URL:https://gardenontario.org
X-WR-CALDESC:Events for GardenOntario
REFRESH-INTERVAL;VALUE=DURATION:PT1H
X-Robots-Tag:noindex
X-PUBLISHED-TTL:PT1H
BEGIN:VTIMEZONE
TZID:America/Toronto
BEGIN:DAYLIGHT
TZOFFSETFROM:-0500
TZOFFSETTO:-0400
TZNAME:EDT
DTSTART:20250309T070000
END:DAYLIGHT
BEGIN:STANDARD
TZOFFSETFROM:-0400
TZOFFSETTO:-0500
TZNAME:EST
DTSTART:20251102T060000
END:STANDARD
BEGIN:DAYLIGHT
TZOFFSETFROM:-0500
TZOFFSETTO:-0400
TZNAME:EDT
DTSTART:20260308T070000
END:DAYLIGHT
BEGIN:STANDARD
TZOFFSETFROM:-0400
TZOFFSETTO:-0500
TZNAME:EST
DTSTART:20261101T060000
END:STANDARD
BEGIN:DAYLIGHT
TZOFFSETFROM:-0500
TZOFFSETTO:-0400
TZNAME:EDT
DTSTART:20270314T070000
END:DAYLIGHT
BEGIN:STANDARD
TZOFFSETFROM:-0400
TZOFFSETTO:-0500
TZNAME:EST
DTSTART:20271107T060000
END:STANDARD
END:VTIMEZONE
BEGIN:VEVENT
DTSTART;TZID=America/Toronto:20260701T100000
DTEND;TZID=America/Toronto:20260701T170000
DTSTAMP:20260419T140526
CREATED:20260210T161658Z
LAST-MODIFIED:20260210T161658Z
UID:10001739-1782900000-1782925200@gardenontario.org
SUMMARY:Elora & Salem Dominion Day/ Canada Day Parade
DESCRIPTION:Members: To participate in the parade please meet at the Elora Curling Club.  10 am sharp!
URL:https://gardenontario.org/event/elora-salem-dominion-day-canada-day-parade/
LOCATION:Elora Curling Club\, 27 Davis St. W.\, Elora\, N0B 1S0
CATEGORIES:Community Event
ATTACH;FMTTYPE=image/png:https://gardenontario.org/wp-content/uploads/ES-logo-14.png
ORGANIZER;CN="Elora and Salem Horticultural Society":MAILTO:elorasalemhort@gmail.com
END:VEVENT
END:VCALENDAR