BEGIN:VCALENDAR
VERSION:2.0
PRODID:-//GardenOntario - ECPv6.15.20//NONSGML v1.0//EN
CALSCALE:GREGORIAN
METHOD:PUBLISH
X-WR-CALNAME:GardenOntario
X-ORIGINAL-URL:https://gardenontario.org
X-WR-CALDESC:Events for GardenOntario
REFRESH-INTERVAL;VALUE=DURATION:PT1H
X-Robots-Tag:noindex
X-PUBLISHED-TTL:PT1H
BEGIN:VTIMEZONE
TZID:America/Toronto
BEGIN:DAYLIGHT
TZOFFSETFROM:-0500
TZOFFSETTO:-0400
TZNAME:EDT
DTSTART:20230312T070000
END:DAYLIGHT
BEGIN:STANDARD
TZOFFSETFROM:-0400
TZOFFSETTO:-0500
TZNAME:EST
DTSTART:20231105T060000
END:STANDARD
BEGIN:DAYLIGHT
TZOFFSETFROM:-0500
TZOFFSETTO:-0400
TZNAME:EDT
DTSTART:20240310T070000
END:DAYLIGHT
BEGIN:STANDARD
TZOFFSETFROM:-0400
TZOFFSETTO:-0500
TZNAME:EST
DTSTART:20241103T060000
END:STANDARD
BEGIN:DAYLIGHT
TZOFFSETFROM:-0500
TZOFFSETTO:-0400
TZNAME:EDT
DTSTART:20250309T070000
END:DAYLIGHT
BEGIN:STANDARD
TZOFFSETFROM:-0400
TZOFFSETTO:-0500
TZNAME:EST
DTSTART:20251102T060000
END:STANDARD
BEGIN:DAYLIGHT
TZOFFSETFROM:-0500
TZOFFSETTO:-0400
TZNAME:EDT
DTSTART:20260308T070000
END:DAYLIGHT
BEGIN:STANDARD
TZOFFSETFROM:-0400
TZOFFSETTO:-0500
TZNAME:EST
DTSTART:20261101T060000
END:STANDARD
END:VTIMEZONE
BEGIN:VEVENT
DTSTART;TZID=America/Toronto:20250524T080000
DTEND;TZID=America/Toronto:20250524T120000
DTSTAMP:20260424T141104
CREATED:20240518T174150Z
LAST-MODIFIED:20250303T175054Z
UID:10000908-1748073600-1748088000@gardenontario.org
SUMMARY:BHS Plant Sale 2025
DESCRIPTION:Beautiful perennials from our members’ gardens. Come early for best selection. Cash only.
URL:https://gardenontario.org/event/bhs-plant-sale/
LOCATION:South Oakville Centre(formerly Hopedale Mall)\, 1515 Rebecca Street\,\, Oakville
ATTACH;FMTTYPE=image/jpeg:https://gardenontario.org/wp-content/uploads/PlantSalePoster2025.jpg
ORGANIZER;CN="Margaret Larson":MAILTO:larsonmzz@yahoo.ca
GEO:43.4126787;-79.7061473
X-APPLE-STRUCTURED-LOCATION;VALUE=URI;X-ADDRESS=South Oakville Centre(formerly Hopedale Mall) 1515 Rebecca Street Oakville;X-APPLE-RADIUS=500;X-TITLE=1515 Rebecca Street\,:geo:-79.7061473,43.4126787
END:VEVENT
BEGIN:VEVENT
DTSTART;TZID=America/Toronto:20240525T080000
DTEND;TZID=America/Toronto:20240525T120000
DTSTAMP:20260424T141104
CREATED:20240515T162238Z
LAST-MODIFIED:20240515T171941Z
UID:10000901-1716624000-1716638400@gardenontario.org
SUMMARY:Bronte Horticultural Society Plant Sale
DESCRIPTION:Whether you’re a seasoned gardener or just starting out\, this event is perfect for adding some greenery to your life. Explore a variety of plants\, chat with fellow plant enthusiasts\, and maybe even pick up a new favourite for your collection. Don’t miss out on this opportunity to spruce up your garden! Come early for the best selection. Cash only.
URL:https://gardenontario.org/event/bronte-horticultural-society-plant-sale/
CATEGORIES:Plant Sale
ATTACH;FMTTYPE=image/jpeg:https://gardenontario.org/wp-content/uploads/Plant-Sale2024.jpg
ORGANIZER;CN="Margaret Larson":MAILTO:larsonmzz@yahoo.ca
END:VEVENT
END:VCALENDAR