BEGIN:VCALENDAR
VERSION:2.0
PRODID:-//GardenOntario - ECPv6.15.20//NONSGML v1.0//EN
CALSCALE:GREGORIAN
METHOD:PUBLISH
X-WR-CALNAME:GardenOntario
X-ORIGINAL-URL:https://gardenontario.org
X-WR-CALDESC:Events for GardenOntario
REFRESH-INTERVAL;VALUE=DURATION:PT1H
X-Robots-Tag:noindex
X-PUBLISHED-TTL:PT1H
BEGIN:VTIMEZONE
TZID:America/Toronto
BEGIN:DAYLIGHT
TZOFFSETFROM:-0500
TZOFFSETTO:-0400
TZNAME:EDT
DTSTART:20250309T070000
END:DAYLIGHT
BEGIN:STANDARD
TZOFFSETFROM:-0400
TZOFFSETTO:-0500
TZNAME:EST
DTSTART:20251102T060000
END:STANDARD
BEGIN:DAYLIGHT
TZOFFSETFROM:-0500
TZOFFSETTO:-0400
TZNAME:EDT
DTSTART:20260308T070000
END:DAYLIGHT
BEGIN:STANDARD
TZOFFSETFROM:-0400
TZOFFSETTO:-0500
TZNAME:EST
DTSTART:20261101T060000
END:STANDARD
BEGIN:DAYLIGHT
TZOFFSETFROM:-0500
TZOFFSETTO:-0400
TZNAME:EDT
DTSTART:20270314T070000
END:DAYLIGHT
BEGIN:STANDARD
TZOFFSETFROM:-0400
TZOFFSETTO:-0500
TZNAME:EST
DTSTART:20271107T060000
END:STANDARD
END:VTIMEZONE
BEGIN:VEVENT
DTSTART;TZID=America/Toronto:20261108T103000
DTEND;TZID=America/Toronto:20261108T113000
DTSTAMP:20260423T202551
CREATED:20260417T125717Z
LAST-MODIFIED:20260417T125717Z
UID:10001849-1794133800-1794137400@gardenontario.org
SUMMARY:Lay Wreath at Williamstown Cenotaph
DESCRIPTION:Sunday\, November 8 – 10:30 a.m.\nRemembrance Day Parade & Wreath Laying\nLocation: Cenotaph\, Williamstown
URL:https://gardenontario.org/event/lay-wreath-at-williamstown-cenotaph/
LOCATION:Farmtown Park\, Stirling ON\, 437 West Front Street\, Stirling\, K0K3E0
GEO:43.2041616;-80.4041263
X-APPLE-STRUCTURED-LOCATION;VALUE=URI;X-ADDRESS=Farmtown Park Stirling ON 437 West Front Street Stirling K0K3E0;X-APPLE-RADIUS=500;X-TITLE=437 West Front Street:geo:-80.4041263,43.2041616
END:VEVENT
BEGIN:VEVENT
DTSTART;TZID=America/Toronto:20261109T190000
DTEND;TZID=America/Toronto:20261109T200000
DTSTAMP:20260423T202551
CREATED:20260416T015613Z
LAST-MODIFIED:20260416T015613Z
UID:10001834-1794250800-1794254400@gardenontario.org
SUMMARY:How to Make a Christmas Door Swag
DESCRIPTION:It’s time to decorate for the holiday season — let’s help you get ready. Join Cliff Byrnes\, our evening’s guest speaker\, as he demonstrates how to make a beautiful\, festive\, economical and easy-to-make Christmas door swag.
URL:https://gardenontario.org/event/how-to-make-a-christmas-door-swag/
LOCATION:St. Peter’s  Anglican Church\, 4333 Bath Road\, Kingston\, K7M 4Z1
CATEGORIES:Course/Seminar/Workshop,Guest Speaker,Society Meeting
ATTACH;FMTTYPE=image/gif:https://gardenontario.org/wp-content/uploads/CBDHS_Logo_Colour_A.gif
ORGANIZER;CN="CollinsBayHorticulturalSociety":MAILTO:collinsbayhs@outlook.com
END:VEVENT
BEGIN:VEVENT
DTSTART;TZID=America/Toronto:20261111T080000
DTEND;TZID=America/Toronto:20261111T170000
DTSTAMP:20260423T202551
CREATED:20260203T022627Z
LAST-MODIFIED:20260203T022627Z
UID:10001714-1794384000-1794416400@gardenontario.org
SUMMARY:Credit Valley Horticultural Society November Annual General Meeting
DESCRIPTION:We will be having our AGM this November.  Elections\, awards\, and a short presentation are on the schedule. \n——- \nDoors open at 7 pm with the meeting starting at 7:30 pm. \nVisitors always welcome. There is a nominal fee of $5 to help offset the cost of speakers.
URL:https://gardenontario.org/event/credit-valley-horticultural-society-november-annual-general-meeting/
LOCATION:Erin Mills Twin Arena\, Unity Drive 3205\, Mississauga\, Regional Municipality of Peel\, L5L 4L5\, Canada
CATEGORIES:Society Meeting
ATTACH;FMTTYPE=image/png:https://gardenontario.org/wp-content/uploads/CVHS_troutlily_logo151x173-22.png
ORGANIZER;CN="Credit Valley Horticultural Society":MAILTO:creditvalleyhort@gmail.com
GEO:43.5370162;-79.7116789
X-APPLE-STRUCTURED-LOCATION;VALUE=URI;X-ADDRESS=Erin Mills Twin Arena Unity Drive 3205 Mississauga Regional Municipality of Peel L5L 4L5 Canada;X-APPLE-RADIUS=500;X-TITLE=Unity Drive 3205:geo:-79.7116789,43.5370162
END:VEVENT
END:VCALENDAR