BEGIN:VCALENDAR
VERSION:2.0
PRODID:-//GardenOntario - ECPv6.15.20//NONSGML v1.0//EN
CALSCALE:GREGORIAN
METHOD:PUBLISH
X-WR-CALNAME:GardenOntario
X-ORIGINAL-URL:https://gardenontario.org
X-WR-CALDESC:Events for GardenOntario
REFRESH-INTERVAL;VALUE=DURATION:PT1H
X-Robots-Tag:noindex
X-PUBLISHED-TTL:PT1H
BEGIN:VTIMEZONE
TZID:America/Toronto
BEGIN:DAYLIGHT
TZOFFSETFROM:-0500
TZOFFSETTO:-0400
TZNAME:EDT
DTSTART:20250309T070000
END:DAYLIGHT
BEGIN:STANDARD
TZOFFSETFROM:-0400
TZOFFSETTO:-0500
TZNAME:EST
DTSTART:20251102T060000
END:STANDARD
BEGIN:DAYLIGHT
TZOFFSETFROM:-0500
TZOFFSETTO:-0400
TZNAME:EDT
DTSTART:20260308T070000
END:DAYLIGHT
BEGIN:STANDARD
TZOFFSETFROM:-0400
TZOFFSETTO:-0500
TZNAME:EST
DTSTART:20261101T060000
END:STANDARD
BEGIN:DAYLIGHT
TZOFFSETFROM:-0500
TZOFFSETTO:-0400
TZNAME:EDT
DTSTART:20270314T070000
END:DAYLIGHT
BEGIN:STANDARD
TZOFFSETFROM:-0400
TZOFFSETTO:-0500
TZNAME:EST
DTSTART:20271107T060000
END:STANDARD
END:VTIMEZONE
BEGIN:VEVENT
DTSTART;TZID=America/Toronto:20261020T190000
DTEND;TZID=America/Toronto:20261020T203000
DTSTAMP:20260423T202923
CREATED:20260331T183233Z
LAST-MODIFIED:20260331T183233Z
UID:10001809-1792522800-1792528200@gardenontario.org
SUMMARY:Plant Bingo! with Carly McDougal
DESCRIPTION:A great night of fun where the prizes are plants! 
URL:https://gardenontario.org/event/plant-bingo-with-carly-mcdougal/
LOCATION:Mount Albert Community Centre\, 53 Main Street\, Mount Albert\, L0G 1M0\, Canada
ATTACH;FMTTYPE=image/png:https://gardenontario.org/wp-content/uploads/Final-logo-for-2025-6.png
ORGANIZER;CN="East Gwillimbury Gardeners":MAILTO:eggardeners@gmail.com
GEO:44.1350376;-79.3109495
X-APPLE-STRUCTURED-LOCATION;VALUE=URI;X-ADDRESS=Mount Albert Community Centre 53 Main Street Mount Albert L0G 1M0 Canada;X-APPLE-RADIUS=500;X-TITLE=53 Main Street:geo:-79.3109495,44.1350376
END:VEVENT
END:VCALENDAR