BEGIN:VCALENDAR
VERSION:2.0
PRODID:-//GardenOntario - ECPv6.15.20//NONSGML v1.0//EN
CALSCALE:GREGORIAN
METHOD:PUBLISH
X-WR-CALNAME:GardenOntario
X-ORIGINAL-URL:https://gardenontario.org
X-WR-CALDESC:Events for GardenOntario
REFRESH-INTERVAL;VALUE=DURATION:PT1H
X-Robots-Tag:noindex
X-PUBLISHED-TTL:PT1H
BEGIN:VTIMEZONE
TZID:America/Toronto
BEGIN:DAYLIGHT
TZOFFSETFROM:-0500
TZOFFSETTO:-0400
TZNAME:EDT
DTSTART:20250309T070000
END:DAYLIGHT
BEGIN:STANDARD
TZOFFSETFROM:-0400
TZOFFSETTO:-0500
TZNAME:EST
DTSTART:20251102T060000
END:STANDARD
BEGIN:DAYLIGHT
TZOFFSETFROM:-0500
TZOFFSETTO:-0400
TZNAME:EDT
DTSTART:20260308T070000
END:DAYLIGHT
BEGIN:STANDARD
TZOFFSETFROM:-0400
TZOFFSETTO:-0500
TZNAME:EST
DTSTART:20261101T060000
END:STANDARD
BEGIN:DAYLIGHT
TZOFFSETFROM:-0500
TZOFFSETTO:-0400
TZNAME:EDT
DTSTART:20270314T070000
END:DAYLIGHT
BEGIN:STANDARD
TZOFFSETFROM:-0400
TZOFFSETTO:-0500
TZNAME:EST
DTSTART:20271107T060000
END:STANDARD
END:VTIMEZONE
BEGIN:VEVENT
DTSTART;TZID=America/Toronto:20261013T193000
DTEND;TZID=America/Toronto:20261013T210000
DTSTAMP:20260423T202926
CREATED:20260221T174610Z
LAST-MODIFIED:20260221T174610Z
UID:10001768-1791919800-1791925200@gardenontario.org
SUMMARY:CHINGUACOUSY: “DIY Garden Décor”
DESCRIPTION:October 13\, 2026 “DIY Garden Décor” Speaker: Michele Drenters
URL:https://gardenontario.org/event/chinguacousy-diy-garden-decor/
LOCATION:Knightsbridge Community Seniors Centre\, 1A Knightsbridge Road\, Brampton\, ON\, L6T 4B7\, Canada
CATEGORIES:Society Meeting
ATTACH;FMTTYPE=image/jpeg:https://gardenontario.org/wp-content/uploads/ChingGC50375PIX-11.jpg
ORGANIZER;CN="Chinguacousy Garden Club and Horticultural Society":MAILTO:chinguacousygc@hotmail.ca
GEO:43.7170256;-79.7170436
X-APPLE-STRUCTURED-LOCATION;VALUE=URI;X-ADDRESS=Knightsbridge Community Seniors Centre 1A Knightsbridge Road Brampton ON L6T 4B7 Canada;X-APPLE-RADIUS=500;X-TITLE=1A Knightsbridge Road:geo:-79.7170436,43.7170256
END:VEVENT
BEGIN:VEVENT
DTSTART;TZID=America/Toronto:20261014T080000
DTEND;TZID=America/Toronto:20261014T170000
DTSTAMP:20260423T202926
CREATED:20260210T163513Z
LAST-MODIFIED:20260210T163513Z
UID:10001744-1791964800-1791997200@gardenontario.org
SUMMARY:Elora & Salem – Meeting & Speaker: Rebecca Baker
DESCRIPTION:General Meeting and Speaker: Rebecca Baker ” Fall into Spring”
URL:https://gardenontario.org/event/elora-salem-meeting-speaker-rebecca-baker/
LOCATION:Grandway Events Centre\, 7445 Wellington Rd 21\, Elora\, N0B 1S0
CATEGORIES:Guest Speaker
ATTACH;FMTTYPE=image/png:https://gardenontario.org/wp-content/uploads/ES-logo-18.png
ORGANIZER;CN="Elora and Salem Horticultural Society":MAILTO:elorasalemhort@gmail.com
GEO:43.6731586;-80.4325652
X-APPLE-STRUCTURED-LOCATION;VALUE=URI;X-ADDRESS=Grandway Events Centre 7445 Wellington Rd 21 Elora N0B 1S0;X-APPLE-RADIUS=500;X-TITLE=7445 Wellington Rd 21:geo:-80.4325652,43.6731586
END:VEVENT
BEGIN:VEVENT
DTSTART;TZID=America/Toronto:20261014T190000
DTEND;TZID=America/Toronto:20261014T213000
DTSTAMP:20260423T202926
CREATED:20260203T020934Z
LAST-MODIFIED:20260203T020934Z
UID:10001712-1792004400-1792013400@gardenontario.org
SUMMARY:Credit Valley Horticultural Society October Meeting
DESCRIPTION:Our October guest speaker Terry Kennedy will be speaking to us about orchids. \n——- \nDoors open at 7 pm with the meeting starting at 7:30 pm. \nVisitors always welcome. There is a nominal fee of $5 to help offset the cost of speakers.
URL:https://gardenontario.org/event/credit-valley-horticultural-society-october-meeting/
LOCATION:Erin Mills Twin Arena\, Unity Drive 3205\, Mississauga\, Regional Municipality of Peel\, L5L 4L5\, Canada
CATEGORIES:Guest Speaker,Society Meeting
ATTACH;FMTTYPE=image/png:https://gardenontario.org/wp-content/uploads/CVHS_troutlily_logo151x173-21.png
ORGANIZER;CN="Credit Valley Horticultural Society":MAILTO:creditvalleyhort@gmail.com
GEO:43.5370162;-79.7116789
X-APPLE-STRUCTURED-LOCATION;VALUE=URI;X-ADDRESS=Erin Mills Twin Arena Unity Drive 3205 Mississauga Regional Municipality of Peel L5L 4L5 Canada;X-APPLE-RADIUS=500;X-TITLE=Unity Drive 3205:geo:-79.7116789,43.5370162
END:VEVENT
BEGIN:VEVENT
DTSTART;TZID=America/Toronto:20261015T190000
DTEND;TZID=America/Toronto:20261015T203000
DTSTAMP:20260423T202927
CREATED:20260201T234157Z
LAST-MODIFIED:20260201T234157Z
UID:10001704-1792090800-1792096200@gardenontario.org
SUMMARY:TRENTON HORTICULTURAL SOCIETY OCTOBER MEETING ON HOT SAUCES
DESCRIPTION:Mark Barranger-Mitchell is back in the kitchen cooking up a variety of hot sauces to sample and will provide recipes for our members.  Flower Show and Photo Competition as well.
URL:https://gardenontario.org/event/trenton-horticultural-society-october-meeting-on-hot-sauces/
LOCATION:BatawaCommunityCentre\, 81 Plant St.\, Batawa\, K0K 1E0
ORGANIZER;CN="Trenton Horticultural Society":MAILTO:trentonhorticulture@gmail.com
GEO:44.171082;-77.5939097
X-APPLE-STRUCTURED-LOCATION;VALUE=URI;X-ADDRESS=BatawaCommunityCentre 81 Plant St. Batawa K0K 1E0;X-APPLE-RADIUS=500;X-TITLE=81 Plant St.:geo:-77.5939097,44.171082
END:VEVENT
END:VCALENDAR