BEGIN:VCALENDAR
VERSION:2.0
PRODID:-//GardenOntario - ECPv6.15.20//NONSGML v1.0//EN
CALSCALE:GREGORIAN
METHOD:PUBLISH
X-WR-CALNAME:GardenOntario
X-ORIGINAL-URL:https://gardenontario.org
X-WR-CALDESC:Events for GardenOntario
REFRESH-INTERVAL;VALUE=DURATION:PT1H
X-Robots-Tag:noindex
X-PUBLISHED-TTL:PT1H
BEGIN:VTIMEZONE
TZID:America/Toronto
BEGIN:DAYLIGHT
TZOFFSETFROM:-0500
TZOFFSETTO:-0400
TZNAME:EDT
DTSTART:20250309T070000
END:DAYLIGHT
BEGIN:STANDARD
TZOFFSETFROM:-0400
TZOFFSETTO:-0500
TZNAME:EST
DTSTART:20251102T060000
END:STANDARD
BEGIN:DAYLIGHT
TZOFFSETFROM:-0500
TZOFFSETTO:-0400
TZNAME:EDT
DTSTART:20260308T070000
END:DAYLIGHT
BEGIN:STANDARD
TZOFFSETFROM:-0400
TZOFFSETTO:-0500
TZNAME:EST
DTSTART:20261101T060000
END:STANDARD
BEGIN:DAYLIGHT
TZOFFSETFROM:-0500
TZOFFSETTO:-0400
TZNAME:EDT
DTSTART:20270314T070000
END:DAYLIGHT
BEGIN:STANDARD
TZOFFSETFROM:-0400
TZOFFSETTO:-0500
TZNAME:EST
DTSTART:20271107T060000
END:STANDARD
END:VTIMEZONE
BEGIN:VEVENT
DTSTART;TZID=America/Toronto:20260417T100000
DTEND;TZID=America/Toronto:20260930T110000
DTSTAMP:20260424T010354
CREATED:20260417T112535Z
LAST-MODIFIED:20260417T112535Z
UID:10001839-1776420000-1790766000@gardenontario.org
SUMMARY:Community Civic Improvements
DESCRIPTION:Volunteer to help with Williamstown and Lancaster community civic improvements. \nHelp with planting\, weeding\, watering in public places to beautify our towns. Williamstown bridge boxes\, Glen Gordon Park\, Village entrance signs\, Lancaster library garden and children’s garden at the Nor’ Westerner’s Museum… Contact Mary Regan 613-931-3285 to participate
URL:https://gardenontario.org/event/community-civic-improvements/
CATEGORIES:Community Event
END:VEVENT
BEGIN:VEVENT
DTSTART;TZID=America/Toronto:20260902T120000
DTEND;TZID=America/Toronto:20260902T160000
DTSTAMP:20260424T010354
CREATED:20260417T122405Z
LAST-MODIFIED:20260417T122405Z
UID:10001845-1788350400-1788364800@gardenontario.org
SUMMARY:Garden Tour
DESCRIPTION:Wednesday\, September 2\, 1:00 p.m. to 4:00 p.m. – Farm Tour\nHyssop & Sage Aquaponics Farm Tour & Tea Sampling\nLocation: 16574 County Rd 36 (Post Road)\, Long Sault\nCarpool from the arena – leaving Williamstown Arena parking lot at 12:00 p.m.\nSign up and indicate if you wish to carpool Lia Lindeman 613-347-3533 lindeman.clan11@hotmail.com\nCost: TBA
URL:https://gardenontario.org/event/garden-tour-6/
LOCATION:Farmtown Park\, Stirling ON\, 437 West Front Street\, Stirling\, K0K3E0
GEO:43.2041616;-80.4041263
X-APPLE-STRUCTURED-LOCATION;VALUE=URI;X-ADDRESS=Farmtown Park Stirling ON 437 West Front Street Stirling K0K3E0;X-APPLE-RADIUS=500;X-TITLE=437 West Front Street:geo:-80.4041263,43.2041616
END:VEVENT
BEGIN:VEVENT
DTSTART;TZID=America/Toronto:20260902T184500
DTEND;TZID=America/Toronto:20260902T200000
DTSTAMP:20260424T010354
CREATED:20250917T142453Z
LAST-MODIFIED:20250917T142453Z
UID:10001529-1788374700-1788379200@gardenontario.org
SUMMARY:October Monthly Meeting
DESCRIPTION:Allan Reuter Centre starting at 6:45 for social\, 7pm start. \nSpeaker: \n 
URL:https://gardenontario.org/event/october-monthly-meeting/2026-09-02/
LOCATION:Allan Reuter Centre\, 507 King St East\, Cambridge\, N3H 3N4
CATEGORIES:Society Meeting
ORGANIZER;CN="Preston Horticultural Society":MAILTO:fmgillespie@gmail.com
GEO:43.39729;-80.3605552
X-APPLE-STRUCTURED-LOCATION;VALUE=URI;X-ADDRESS=Allan Reuter Centre 507 King St East Cambridge N3H 3N4;X-APPLE-RADIUS=500;X-TITLE=507 King St East:geo:-80.3605552,43.39729
END:VEVENT
END:VCALENDAR