BEGIN:VCALENDAR
VERSION:2.0
PRODID:-//GardenOntario - ECPv6.15.20//NONSGML v1.0//EN
CALSCALE:GREGORIAN
METHOD:PUBLISH
X-WR-CALNAME:GardenOntario
X-ORIGINAL-URL:https://gardenontario.org
X-WR-CALDESC:Events for GardenOntario
REFRESH-INTERVAL;VALUE=DURATION:PT1H
X-Robots-Tag:noindex
X-PUBLISHED-TTL:PT1H
BEGIN:VTIMEZONE
TZID:America/Toronto
BEGIN:DAYLIGHT
TZOFFSETFROM:-0500
TZOFFSETTO:-0400
TZNAME:EDT
DTSTART:20250309T070000
END:DAYLIGHT
BEGIN:STANDARD
TZOFFSETFROM:-0400
TZOFFSETTO:-0500
TZNAME:EST
DTSTART:20251102T060000
END:STANDARD
BEGIN:DAYLIGHT
TZOFFSETFROM:-0500
TZOFFSETTO:-0400
TZNAME:EDT
DTSTART:20260308T070000
END:DAYLIGHT
BEGIN:STANDARD
TZOFFSETFROM:-0400
TZOFFSETTO:-0500
TZNAME:EST
DTSTART:20261101T060000
END:STANDARD
BEGIN:DAYLIGHT
TZOFFSETFROM:-0500
TZOFFSETTO:-0400
TZNAME:EDT
DTSTART:20270314T070000
END:DAYLIGHT
BEGIN:STANDARD
TZOFFSETFROM:-0400
TZOFFSETTO:-0500
TZNAME:EST
DTSTART:20271107T060000
END:STANDARD
END:VTIMEZONE
BEGIN:VEVENT
DTSTART;TZID=America/Toronto:20260417T100000
DTEND;TZID=America/Toronto:20260930T110000
DTSTAMP:20260424T010227
CREATED:20260417T112535Z
LAST-MODIFIED:20260417T112535Z
UID:10001839-1776420000-1790766000@gardenontario.org
SUMMARY:Community Civic Improvements
DESCRIPTION:Volunteer to help with Williamstown and Lancaster community civic improvements. \nHelp with planting\, weeding\, watering in public places to beautify our towns. Williamstown bridge boxes\, Glen Gordon Park\, Village entrance signs\, Lancaster library garden and children’s garden at the Nor’ Westerner’s Museum… Contact Mary Regan 613-931-3285 to participate
URL:https://gardenontario.org/event/community-civic-improvements/
CATEGORIES:Community Event
END:VEVENT
BEGIN:VEVENT
DTSTART;TZID=America/Toronto:20260708T100000
DTEND;TZID=America/Toronto:20260819T120000
DTSTAMP:20260424T010227
CREATED:20260417T115359Z
LAST-MODIFIED:20260417T115359Z
UID:10001842-1783504800-1787140800@gardenontario.org
SUMMARY:Children's Garden
DESCRIPTION:July 8\, 22 + August 5\, 19 (Rain date: August 26) 10:00 a.m.-12:00 p.m.\nChildren’s Garden Program\nLocation: Glengarry Nor’Westers & Loyalist Museum\nContact Lia Lindeman lindeman.clanll@hotmail.com or see the sign-up sheet at our meeting\nKitchen helpers\, especially\, are needed
URL:https://gardenontario.org/event/childrens-garden/
LOCATION:Farmtown Park\, Stirling ON\, 437 West Front Street\, Stirling\, K0K3E0
GEO:43.2041616;-80.4041263
X-APPLE-STRUCTURED-LOCATION;VALUE=URI;X-ADDRESS=Farmtown Park Stirling ON 437 West Front Street Stirling K0K3E0;X-APPLE-RADIUS=500;X-TITLE=437 West Front Street:geo:-80.4041263,43.2041616
END:VEVENT
BEGIN:VEVENT
DTSTART;TZID=America/Toronto:20260816T140000
DTEND;TZID=America/Toronto:20260816T160000
DTSTAMP:20260424T010227
CREATED:20260210T162826Z
LAST-MODIFIED:20260210T162826Z
UID:10001742-1786888800-1786896000@gardenontario.org
SUMMARY:Elora & Salem Healing Garden Social
DESCRIPTION:Meet in the Garden Gazebo at the Groves Hospital\, Fergus.
URL:https://gardenontario.org/event/elora-salem-healing-garden-social-2/
LOCATION:Groves Memorial Hospital\, 131 Frederick Campbell St.\, Fergus\, N1M 0H3
ATTACH;FMTTYPE=image/png:https://gardenontario.org/wp-content/uploads/ES-logo-16.png
ORGANIZER;CN="Elora and Salem Horticultural Society":MAILTO:elorasalemhort@gmail.com
GEO:43.6971867;-80.3943952
X-APPLE-STRUCTURED-LOCATION;VALUE=URI;X-ADDRESS=Groves Memorial Hospital 131 Frederick Campbell St. Fergus N1M 0H3;X-APPLE-RADIUS=500;X-TITLE=131 Frederick Campbell St.:geo:-80.3943952,43.6971867
END:VEVENT
BEGIN:VEVENT
DTSTART;TZID=America/Toronto:20260820T190000
DTEND;TZID=America/Toronto:20260820T203000
DTSTAMP:20260424T010227
CREATED:20260201T232808Z
LAST-MODIFIED:20260201T232808Z
UID:10001702-1787252400-1787257800@gardenontario.org
SUMMARY:TRENTON HORTICULTURAL SOCIETY AUGUST MEETING - FLOWER & VEGETABLE SHOW
DESCRIPTION:Come and see what has been growing in the gardens of our members.  Out guest speaker is from the Lower Trent Conservation speaking on Rain Gardens and Soils.  There will be a Fall Harvest Sale of vegetables and plants.
URL:https://gardenontario.org/event/trenton-horticultural-society-august-meeting-flower-vegetable-show/
LOCATION:BatawaCommunityCentre\, 81 Plant St.\, Batawa\, K0K 1E0
ATTACH;FMTTYPE=image/jpeg:https://gardenontario.org/wp-content/uploads/DSC_1007v2-scaled.jpg
ORGANIZER;CN="Trenton Horticultural Society":MAILTO:trentonhorticulture@gmail.com
GEO:44.171082;-77.5939097
X-APPLE-STRUCTURED-LOCATION;VALUE=URI;X-ADDRESS=BatawaCommunityCentre 81 Plant St. Batawa K0K 1E0;X-APPLE-RADIUS=500;X-TITLE=81 Plant St.:geo:-77.5939097,44.171082
END:VEVENT
END:VCALENDAR