BEGIN:VCALENDAR
VERSION:2.0
PRODID:-//GardenOntario - ECPv6.15.20//NONSGML v1.0//EN
CALSCALE:GREGORIAN
METHOD:PUBLISH
X-ORIGINAL-URL:https://gardenontario.org
X-WR-CALDESC:Events for GardenOntario
REFRESH-INTERVAL;VALUE=DURATION:PT1H
X-Robots-Tag:noindex
X-PUBLISHED-TTL:PT1H
BEGIN:VTIMEZONE
TZID:America/Toronto
BEGIN:DAYLIGHT
TZOFFSETFROM:-0500
TZOFFSETTO:-0400
TZNAME:EDT
DTSTART:20250309T070000
END:DAYLIGHT
BEGIN:STANDARD
TZOFFSETFROM:-0400
TZOFFSETTO:-0500
TZNAME:EST
DTSTART:20251102T060000
END:STANDARD
BEGIN:DAYLIGHT
TZOFFSETFROM:-0500
TZOFFSETTO:-0400
TZNAME:EDT
DTSTART:20260308T070000
END:DAYLIGHT
BEGIN:STANDARD
TZOFFSETFROM:-0400
TZOFFSETTO:-0500
TZNAME:EST
DTSTART:20261101T060000
END:STANDARD
BEGIN:DAYLIGHT
TZOFFSETFROM:-0500
TZOFFSETTO:-0400
TZNAME:EDT
DTSTART:20270314T070000
END:DAYLIGHT
BEGIN:STANDARD
TZOFFSETFROM:-0400
TZOFFSETTO:-0500
TZNAME:EST
DTSTART:20271107T060000
END:STANDARD
END:VTIMEZONE
BEGIN:VEVENT
DTSTART;TZID=America/Toronto:20260417T100000
DTEND;TZID=America/Toronto:20260930T110000
DTSTAMP:20260419T092245
CREATED:20260417T112535Z
LAST-MODIFIED:20260417T112535Z
UID:10001839-1776420000-1790766000@gardenontario.org
SUMMARY:Community Civic Improvements
DESCRIPTION:Volunteer to help with Williamstown and Lancaster community civic improvements. \nHelp with planting\, weeding\, watering in public places to beautify our towns. Williamstown bridge boxes\, Glen Gordon Park\, Village entrance signs\, Lancaster library garden and children’s garden at the Nor’ Westerner’s Museum… Contact Mary Regan 613-931-3285 to participate
URL:https://gardenontario.org/event/community-civic-improvements/
CATEGORIES:Community Event
END:VEVENT
BEGIN:VEVENT
DTSTART;TZID=America/Toronto:20260614T130000
DTEND;TZID=America/Toronto:20260614T173000
DTSTAMP:20260419T092245
CREATED:20260115T070059Z
LAST-MODIFIED:20260115T070059Z
UID:10001662-1781442000-1781458200@gardenontario.org
SUMMARY:Garden Tour
DESCRIPTION:Garden Showcase is an annual event\, self guided tour of outstanding Guelph gardens with one country property and six city properties.  Explore creative ideas in design\, eco practices\, landscapes and garden structures. Your experience will be enhanced with local artists and musicians.
URL:https://gardenontario.org/event/garden-tour-3/
LOCATION:Guelph and Area
CATEGORIES:Garden Tour
ATTACH;FMTTYPE=image/jpeg:https://gardenontario.org/wp-content/uploads/Garden-Tour-copy.jpeg
ORGANIZER;CN="Guelph Horticultural Society":MAILTO:guelphhort@gmail.com
END:VEVENT
BEGIN:VEVENT
DTSTART;TZID=America/Toronto:20260615T190000
DTEND;TZID=America/Toronto:20260615T210000
DTSTAMP:20260419T092245
CREATED:20260404T210932Z
LAST-MODIFIED:20260404T210932Z
UID:10001814-1781550000-1781557200@gardenontario.org
SUMMARY:Russell & District: Flower Show
DESCRIPTION:Annual Flower Show
URL:https://gardenontario.org/event/russell-district-flower-show/
LOCATION:Marionville Community Centre\, 4629 Gregoire Road\, Marionville
CATEGORIES:Flower & Vegetable Show
ORGANIZER;CN="Russell &amp%3B District Horticultural Society":MAILTO:russellgardeners@gmail.com
GEO:45.1829182;-75.3532235
X-APPLE-STRUCTURED-LOCATION;VALUE=URI;X-ADDRESS=Marionville Community Centre 4629 Gregoire Road Marionville;X-APPLE-RADIUS=500;X-TITLE=4629 Gregoire Road:geo:-75.3532235,45.1829182
END:VEVENT
BEGIN:VEVENT
DTSTART;TZID=America/Toronto:20260615T190000
DTEND;TZID=America/Toronto:20260615T210000
DTSTAMP:20260419T092245
CREATED:20260404T211148Z
LAST-MODIFIED:20260405T145609Z
UID:10001815-1781550000-1781557200@gardenontario.org
SUMMARY:Russell & District: Guest speaker Wendy Batson on Ikebana
DESCRIPTION:At our regular monthly meeting we will have guest speaker\, Wendy Batson who will give us a presentation on Ikebana – Japanese flower arranging.
URL:https://gardenontario.org/event/russell-district-ikebana/
LOCATION:Marionville Community Centre\, 4629 Gregoire Road\, Marionville
CATEGORIES:Guest Speaker,Society Meeting
ATTACH;FMTTYPE=image/jpeg:https://gardenontario.org/wp-content/uploads/poster-sm1.jpeg
ORGANIZER;CN="Russell &amp%3B District Horticultural Society":MAILTO:russellgardeners@gmail.com
GEO:45.1829182;-75.3532235
X-APPLE-STRUCTURED-LOCATION;VALUE=URI;X-ADDRESS=Marionville Community Centre 4629 Gregoire Road Marionville;X-APPLE-RADIUS=500;X-TITLE=4629 Gregoire Road:geo:-75.3532235,45.1829182
END:VEVENT
BEGIN:VEVENT
DTSTART;TZID=America/Toronto:20260616T190000
DTEND;TZID=America/Toronto:20260616T203000
DTSTAMP:20260419T092245
CREATED:20260331T182618Z
LAST-MODIFIED:20260331T182618Z
UID:10001808-1781636400-1781641800@gardenontario.org
SUMMARY:Pollination Games with Brenda Near
DESCRIPTION:In this presentation\, Brenda will show you all the hanky panky that goes on in your flowers\, and will reveal the clever ways flowers have evolved to get the deed done properly.  
URL:https://gardenontario.org/event/pollination-games-with-brenda-near/
LOCATION:Mount Albert Community Centre\, 53 Main Street\, Mount Albert\, L0G 1M0\, Canada
ATTACH;FMTTYPE=image/png:https://gardenontario.org/wp-content/uploads/Final-logo-for-2025-5.png
ORGANIZER;CN="East Gwillimbury Gardeners":MAILTO:eggardeners@gmail.com
GEO:44.1350376;-79.3109495
X-APPLE-STRUCTURED-LOCATION;VALUE=URI;X-ADDRESS=Mount Albert Community Centre 53 Main Street Mount Albert L0G 1M0 Canada;X-APPLE-RADIUS=500;X-TITLE=53 Main Street:geo:-79.3109495,44.1350376
END:VEVENT
BEGIN:VEVENT
DTSTART;TZID=America/Toronto:20260616T190000
DTEND;TZID=America/Toronto:20260616T210000
DTSTAMP:20260419T092245
CREATED:20260330T132432Z
LAST-MODIFIED:20260330T132432Z
UID:10001805-1781636400-1781643600@gardenontario.org
SUMMARY:Culinary Delights With Herbs and Edible Flowers
DESCRIPTION:Nancy McDonald\, Master Gardener\, will shed a new light on how we can enjoy the fruits of our gardening labor in a different way.  Join us for a flavorful gardening talk that explores the culinary magic of herbs and edible flowers. Learn how to grow\, harvest and use these aromatic and colorful plants to elevate your cooking and add beauty to your plate. You’ll discover creative ways to incorporate garden-fresh ingredients into everyday meals and special occasions.   \nNancy McDonald grew up on a farm on PEI and learned the practical aspects of gardening from her parents. Her love of flowers came from spending time in her grandmother’s beautiful mixed garden. After 42 years of a very fulfilling nursing career\, Nancy’s thoughts turned to retirement and volunteer opportunities. She has been a member of the Master Gardeners of Ottawa-Carleton for 15 years.  As a Master Gardener\, Nancy completed the Pollinator Steward Certification in 2024. She is a member of the Ottawa Horticultural Society and continues to enjoy her small suburban garden and the birds\, bees and butterflies that visit. She also enjoys making flavorful recipes in her kitchen using herbs and edible flowers from her garden.
URL:https://gardenontario.org/event/culinary-delights-with-herbs-and-edible-flowers/
LOCATION:St Mark’s Anglican Church\, Ottawa\, 1606 Fisher Ave\, Ottawa\, K2C 1X6
ATTACH;FMTTYPE=image/jpeg:https://gardenontario.org/wp-content/uploads/June2026-Nancys-salad.jpeg
ORGANIZER;CN="Ottawa Horticultural Society":MAILTO:info@ottawahort.org
GEO:45.3596176;-75.7102211
X-APPLE-STRUCTURED-LOCATION;VALUE=URI;X-ADDRESS=St Mark’s Anglican Church Ottawa 1606 Fisher Ave Ottawa K2C 1X6;X-APPLE-RADIUS=500;X-TITLE=1606 Fisher Ave:geo:-75.7102211,45.3596176
END:VEVENT
BEGIN:VEVENT
DTSTART;TZID=America/Toronto:20260618T170000
DTEND;TZID=America/Toronto:20260618T210000
DTSTAMP:20260419T092245
CREATED:20260415T181951Z
LAST-MODIFIED:20260415T181951Z
UID:10001833-1781802000-1781816400@gardenontario.org
SUMMARY:Orangeville Hidden Gems Garden Tour "Grand Views of Grand Valley"
DESCRIPTION:Please join us for our annual Hidden Gems garden tour. This year we are featuring some “Grand Views of Grand Valley”. Tickets are available to purchase for $20 at the Orangeville\, Hillsburgh\, Grand Valley and Erin horticulture meetings.
URL:https://gardenontario.org/event/orangeville-hidden-gems-garden-tour-grand-views-of-grand-valley/
LOCATION:GrandValleyOntario
END:VEVENT
BEGIN:VEVENT
DTSTART;TZID=America/Toronto:20260618T190000
DTEND;TZID=America/Toronto:20260618T203000
DTSTAMP:20260419T092245
CREATED:20260201T232258Z
LAST-MODIFIED:20260201T232308Z
UID:10001701-1781809200-1781814600@gardenontario.org
SUMMARY:TRENTON HORTICULTURAL SOCIETY ROSE SHOW & COMPETITION
DESCRIPTION:Smell the roses and learn from our guest speaker Roland Cave Brown Cave about successfully growing roses.
URL:https://gardenontario.org/event/trenton-horticultural-society-rose-show-competition/
LOCATION:BatawaCommunityCentre\, 81 Plant St.\, Batawa\, K0K 1E0
ATTACH;FMTTYPE=image/jpeg:https://gardenontario.org/wp-content/uploads/20200830_125030-1-scaled.jpg
ORGANIZER;CN="Trenton Horticultural Society":MAILTO:trentonhorticulture@gmail.com
GEO:44.171082;-77.5939097
X-APPLE-STRUCTURED-LOCATION;VALUE=URI;X-ADDRESS=BatawaCommunityCentre 81 Plant St. Batawa K0K 1E0;X-APPLE-RADIUS=500;X-TITLE=81 Plant St.:geo:-77.5939097,44.171082
END:VEVENT
BEGIN:VEVENT
DTSTART;TZID=America/Toronto:20260620T110000
DTEND;TZID=America/Toronto:20260620T160000
DTSTAMP:20260419T092245
CREATED:20260128T211456Z
LAST-MODIFIED:20260128T211456Z
UID:10001694-1781953200-1781971200@gardenontario.org
SUMMARY:Summer Flower Show
DESCRIPTION:Our annual Summer Flower Show running at the same time as Guelph’s Art on the Street. Members can find the entries on page 20 of their yearbook.  There is an invitational class for students enrolled in the Garden Clubs of Ontario\, Floral Design Judging School – 8 spots Pre=register by contacting Louise Milton at 519-766-9674 or email GHSminishows25@gmail.com. \nNot a member but want to enter. Join our society through our webpage.
URL:https://gardenontario.org/event/summer-flower-show/
LOCATION:Old Quebec Street Shoppes
CATEGORIES:Flower & Vegetable Show
ATTACH;FMTTYPE=image/jpeg:https://gardenontario.org/wp-content/uploads/GHS-Flower-Show-2018-2-1-1.jpg
ORGANIZER;CN="Guelph Horticultural Society":MAILTO:guelphhort@gmail.com
END:VEVENT
END:VCALENDAR