BEGIN:VCALENDAR
VERSION:2.0
PRODID:-//GardenOntario - ECPv6.15.20//NONSGML v1.0//EN
CALSCALE:GREGORIAN
METHOD:PUBLISH
X-WR-CALNAME:GardenOntario
X-ORIGINAL-URL:https://gardenontario.org
X-WR-CALDESC:Events for GardenOntario
REFRESH-INTERVAL;VALUE=DURATION:PT1H
X-Robots-Tag:noindex
X-PUBLISHED-TTL:PT1H
BEGIN:VTIMEZONE
TZID:America/Toronto
BEGIN:DAYLIGHT
TZOFFSETFROM:-0500
TZOFFSETTO:-0400
TZNAME:EDT
DTSTART:20240310T070000
END:DAYLIGHT
BEGIN:STANDARD
TZOFFSETFROM:-0400
TZOFFSETTO:-0500
TZNAME:EST
DTSTART:20241103T060000
END:STANDARD
BEGIN:DAYLIGHT
TZOFFSETFROM:-0500
TZOFFSETTO:-0400
TZNAME:EDT
DTSTART:20250309T070000
END:DAYLIGHT
BEGIN:STANDARD
TZOFFSETFROM:-0400
TZOFFSETTO:-0500
TZNAME:EST
DTSTART:20251102T060000
END:STANDARD
BEGIN:DAYLIGHT
TZOFFSETFROM:-0500
TZOFFSETTO:-0400
TZNAME:EDT
DTSTART:20260308T070000
END:DAYLIGHT
BEGIN:STANDARD
TZOFFSETFROM:-0400
TZOFFSETTO:-0500
TZNAME:EST
DTSTART:20261101T060000
END:STANDARD
END:VTIMEZONE
BEGIN:VEVENT
DTSTART;TZID=America/Toronto:20251201T191500
DTEND;TZID=America/Toronto:20251201T210000
DTSTAMP:20260423T103554
CREATED:20241229T215236Z
LAST-MODIFIED:20241229T215615Z
UID:10001106-1764616500-1764622800@gardenontario.org
SUMMARY:Garden Stratford Annual Meeting and Social
DESCRIPTION:Garden Stratford Annual Meeting and Social \nEntertainment by “Velvet and Ivory”\, Beverly Maranger and Tim Elliott \nMeeting is open to all; free admission.  Interested in joining Garden Stratford?  Go to About/Membership at www.gardenstratford.org \, or join at the meeting. \nProgram is subject to change.
URL:https://gardenontario.org/event/garden-stratford-meeting-annual-meeting-and-social/
LOCATION:Army Navy Airforce261\, 151 Lorne Ave E\, Stratford\, N5A6S4\, Canada
CATEGORIES:Society Meeting
ATTACH;FMTTYPE=image/jpeg:https://gardenontario.org/wp-content/uploads/StratfordHortLOGO-2021-40.jpg
ORGANIZER;CN="Stratford and District Horticultural Society (GARDEN STRATFORD)":MAILTO:info@gardenstratford.org
GEO:43.3532638;-80.9918289
X-APPLE-STRUCTURED-LOCATION;VALUE=URI;X-ADDRESS=Army Navy Airforce261 151 Lorne Ave E Stratford N5A6S4 Canada;X-APPLE-RADIUS=500;X-TITLE=151 Lorne Ave E:geo:-80.9918289,43.3532638
END:VEVENT
BEGIN:VEVENT
DTSTART;TZID=America/Toronto:20251202T193000
DTEND;TZID=America/Toronto:20251202T203000
DTSTAMP:20260423T103554
CREATED:20250702T201910Z
LAST-MODIFIED:20250702T202441Z
UID:10001486-1764703800-1764707400@gardenontario.org
SUMMARY:General Meeting
DESCRIPTION:Dec 10 – General meeting to the Junior Farmers building at 7:30.  Speaker is OPP Constable Andrew Gamble speaking about “Online Safety.
URL:https://gardenontario.org/event/summer-picnic/
END:VEVENT
BEGIN:VEVENT
DTSTART;TZID=America/Toronto:20251203T180000
DTEND;TZID=America/Toronto:20251203T210000
DTSTAMP:20260423T103554
CREATED:20251126T155224Z
LAST-MODIFIED:20251126T155224Z
UID:10001602-1764784800-1764795600@gardenontario.org
SUMMARY:Paris Hort. Society Christmas Dinner Meeting
DESCRIPTION:Annual Christmas dinner meeting prepared by the Paris Agric. Homecraft.
URL:https://gardenontario.org/event/paris-hort-society-christmas-dinner-meeting-2/
LOCATION:Paris Fairgrounds\, Silver St.\, Paris
CATEGORIES:Society Meeting
ORGANIZER;CN="Paris Horticultural Society":MAILTO:dcollins55@bell.net
GEO:43.2048121;-80.3963557
X-APPLE-STRUCTURED-LOCATION;VALUE=URI;X-ADDRESS=Paris Fairgrounds Silver St. Paris;X-APPLE-RADIUS=500;X-TITLE=Silver St.:geo:-80.3963557,43.2048121
END:VEVENT
BEGIN:VEVENT
DTSTART;TZID=America/Toronto:20251203T184500
DTEND;TZID=America/Toronto:20251203T200000
DTSTAMP:20260423T103554
CREATED:20250917T142453Z
LAST-MODIFIED:20250917T142453Z
UID:10001520-1764787500-1764792000@gardenontario.org
SUMMARY:October Monthly Meeting
DESCRIPTION:Allan Reuter Centre starting at 6:45 for social\, 7pm start. \nSpeaker: \n 
URL:https://gardenontario.org/event/october-monthly-meeting/2025-12-03/
LOCATION:Allan Reuter Centre\, 507 King St East\, Cambridge\, N3H 3N4
CATEGORIES:Society Meeting
ORGANIZER;CN="Preston Horticultural Society":MAILTO:fmgillespie@gmail.com
GEO:43.39729;-80.3605552
X-APPLE-STRUCTURED-LOCATION;VALUE=URI;X-ADDRESS=Allan Reuter Centre 507 King St East Cambridge N3H 3N4;X-APPLE-RADIUS=500;X-TITLE=507 King St East:geo:-80.3605552,43.39729
END:VEVENT
END:VCALENDAR