BEGIN:VCALENDAR
VERSION:2.0
PRODID:-//GardenOntario - ECPv6.15.20//NONSGML v1.0//EN
CALSCALE:GREGORIAN
METHOD:PUBLISH
X-WR-CALNAME:GardenOntario
X-ORIGINAL-URL:https://gardenontario.org
X-WR-CALDESC:Events for GardenOntario
REFRESH-INTERVAL;VALUE=DURATION:PT1H
X-Robots-Tag:noindex
X-PUBLISHED-TTL:PT1H
BEGIN:VTIMEZONE
TZID:America/Toronto
BEGIN:DAYLIGHT
TZOFFSETFROM:-0500
TZOFFSETTO:-0400
TZNAME:EDT
DTSTART:20240310T070000
END:DAYLIGHT
BEGIN:STANDARD
TZOFFSETFROM:-0400
TZOFFSETTO:-0500
TZNAME:EST
DTSTART:20241103T060000
END:STANDARD
BEGIN:DAYLIGHT
TZOFFSETFROM:-0500
TZOFFSETTO:-0400
TZNAME:EDT
DTSTART:20250309T070000
END:DAYLIGHT
BEGIN:STANDARD
TZOFFSETFROM:-0400
TZOFFSETTO:-0500
TZNAME:EST
DTSTART:20251102T060000
END:STANDARD
BEGIN:DAYLIGHT
TZOFFSETFROM:-0500
TZOFFSETTO:-0400
TZNAME:EDT
DTSTART:20260308T070000
END:DAYLIGHT
BEGIN:STANDARD
TZOFFSETFROM:-0400
TZOFFSETTO:-0500
TZNAME:EST
DTSTART:20261101T060000
END:STANDARD
END:VTIMEZONE
BEGIN:VEVENT
DTSTART;TZID=America/Toronto:20250922T190000
DTEND;TZID=America/Toronto:20250922T210000
DTSTAMP:20260423T131113
CREATED:20250126T015832Z
LAST-MODIFIED:20250126T015832Z
UID:10001162-1758567600-1758574800@gardenontario.org
SUMMARY:FLORAL ARTS -
DESCRIPTION:SEPTEMBER 22\, 2025\nFloral Arts – A chance to learn more about floral design. Explore new techniques in a welcoming learning environment. Contact us at: gan.hort.soc@gmail.com for details.\nPlease use the 338 Herbert St door same as Doctor’s offices
URL:https://gardenontario.org/event/floral-arts-2/
LOCATION:Carveth Care Centre Multipurpose Room Herbert St.\, 338 Herbert St\, Gananoque Ontario\, K7G 2Z1
CATEGORIES:Workshops
ATTACH;FMTTYPE=image/jpeg:https://gardenontario.org/wp-content/uploads/Georgia-on-yellow-for-post-card-7.jpg
ORGANIZER;CN="Gananoque Horticultural Society":MAILTO:gan.hort.soc@gmail.com
GEO:44.3364381;-76.1574769
X-APPLE-STRUCTURED-LOCATION;VALUE=URI;X-ADDRESS=Carveth Care Centre Multipurpose Room Herbert St. 338 Herbert St Gananoque Ontario K7G 2Z1;X-APPLE-RADIUS=500;X-TITLE=338 Herbert St:geo:-76.1574769,44.3364381
END:VEVENT
BEGIN:VEVENT
DTSTART;TZID=America/Toronto:20250923T190000
DTEND;TZID=America/Toronto:20250923T210000
DTSTAMP:20260423T131113
CREATED:20250919T004903Z
LAST-MODIFIED:20250919T004903Z
UID:10001578-1758654000-1758661200@gardenontario.org
SUMMARY:How is your garden doing as the gardening season comes to an end? Best tips and lessons learned from the perspective of garden centre owner
DESCRIPTION:Mary Reid\, Master Gardener and owner of the Green Thumb Garden Centre (and regular guest on the CBC weekly noon Garden Show)\, will share her wisdom and lessons learned that she has acquired during her busy and long career in the horticulture industry.  Her unique sense of humor will be sure to entertain you. \nFrom teacher to banker to garden centre owner\, Mary Reid matches the description of a multi-talented person.  She grew up in a family of gardeners\, worked as a gardener during her summers at university\, and still finds time to garden at home. Mary uses her many skills and extensive experience to run a popular and successful garden centre\, the Green Thumb Garden Centre. She is a member of Landscape Ontario\, a CLP (Certified Landscape Professional) and volunteers as a Master Gardener. Mary enjoys speaking to various local groups and can occasionally be heard skillfully answering questions on the CBC Ontario Today noon show on Mondays.
URL:https://gardenontario.org/event/how-is-your-garden-doing-as-the-gardening-season-comes-to-an-end-best-tips-and-lessons-learned-from-the-perspective-of-garden-centre-owner/
LOCATION:St Mark’s Anglican Church\, Ottawa\, 1606 Fisher Ave\, Ottawa\, K2C 1X6
ATTACH;FMTTYPE=image/jpeg:https://gardenontario.org/wp-content/uploads/MaryReid.jpeg
ORGANIZER;CN="Ottawa Horticultural Society":MAILTO:info@ottawahort.org
GEO:45.3596176;-75.7102211
X-APPLE-STRUCTURED-LOCATION;VALUE=URI;X-ADDRESS=St Mark’s Anglican Church Ottawa 1606 Fisher Ave Ottawa K2C 1X6;X-APPLE-RADIUS=500;X-TITLE=1606 Fisher Ave:geo:-75.7102211,45.3596176
END:VEVENT
BEGIN:VEVENT
DTSTART;TZID=America/Toronto:20250923T193000
DTEND;TZID=America/Toronto:20250923T213000
DTSTAMP:20260423T131113
CREATED:20250222T183243Z
LAST-MODIFIED:20250222T183243Z
UID:10001348-1758655800-1758663000@gardenontario.org
SUMMARY:Guelph Horticultural Society General Meeting and Mini Flower Show
DESCRIPTION:Speaker: Kevin Kavanagh \nTopic: “Climate Change”
URL:https://gardenontario.org/event/guelph-horticultural-society-general-meeting-and-mini-flower-show-6/
LOCATION:Dublin Street United Church\, 68 Suffolk Street\, West\, Guelph\, N1H2J2
CATEGORIES:Society Meeting
ORGANIZER;CN="Guelph Horticultural Society":MAILTO:guelphhort@gmail.com
GEO:43.5461992;-80.2563472
X-APPLE-STRUCTURED-LOCATION;VALUE=URI;X-ADDRESS=Dublin Street United Church 68 Suffolk Street West Guelph N1H2J2;X-APPLE-RADIUS=500;X-TITLE=68 Suffolk Street\, West:geo:-80.2563472,43.5461992
END:VEVENT
BEGIN:VEVENT
DTSTART;TZID=America/Toronto:20250923T193000
DTEND;TZID=America/Toronto:20250923T213000
DTSTAMP:20260423T131113
CREATED:20250311T194326Z
LAST-MODIFIED:20250314T145056Z
UID:10001396-1758655800-1758663000@gardenontario.org
SUMMARY:Schomberg Horticultural Society – Robert Pavlis – Garden Myths
DESCRIPTION:Robert Pavlis\, has 50 years of gardening experience\, is an award-winning author of 11 gardening books\, holds an M.Sc. in chemistry and biochemistry\, teaches numerous gardening courses and has written articles for many popular magazines such as Mother Earth News. \n  \nGarden Myths \n  \nPresentation of a number of gardening myths\, including myths about planting trees\, natural pesticides are safe\, hostas don’t grow in sun\, and weed barriers prevent weeds from growing. \nThe topics will use plenty of pictures showing gardens and flowers to keep everyone interested. \n  \nhttps://www.gardenmyths.com/author/robert/ \nFlower show\, refreshments\, door prizes. Free to members\, $ 5.00 at the door for non-members
URL:https://gardenontario.org/event/schomberg-horticultural-society-robert-pavlis-garden-myths/
LOCATION:Schomberg Community Hall\, 325 Main Street\, Schomberg\, L0G 1T0
CATEGORIES:Community Event,Course/Seminar/Workshop,District,Flower & Vegetable Show,Guest Speaker,Partner Event,Society Meeting
ATTACH;FMTTYPE=image/jpeg:https://gardenontario.org/wp-content/uploads/Robert-Pavlis-2-2.jpg
ORGANIZER;CN="Schomberg Horticultural Society":MAILTO:schomberghortsociety@gmail.com
GEO:44.0039021;-79.6844574
X-APPLE-STRUCTURED-LOCATION;VALUE=URI;X-ADDRESS=Schomberg Community Hall 325 Main Street Schomberg L0G 1T0;X-APPLE-RADIUS=500;X-TITLE=325 Main Street:geo:-79.6844574,44.0039021
END:VEVENT
BEGIN:VEVENT
DTSTART;TZID=America/Toronto:20250924T190000
DTEND;TZID=America/Toronto:20250924T203000
DTSTAMP:20260423T131113
CREATED:20250203T015308Z
LAST-MODIFIED:20250203T015308Z
UID:10001207-1758740400-1758745800@gardenontario.org
SUMMARY:Help Plants Thrive not Just Survive
DESCRIPTION:Mel Lesperance from Springwater Garden Centre will share his tips on how to keep your plants at their best for the whole season.
URL:https://gardenontario.org/event/help-plants-thrive-not-just-survive/
LOCATION:Elmvale Legion\, 7 John Street\, Elmvale
GEO:44.5812852;-79.8652903
X-APPLE-STRUCTURED-LOCATION;VALUE=URI;X-ADDRESS=Elmvale Legion 7 John Street Elmvale;X-APPLE-RADIUS=500;X-TITLE=7 John Street:geo:-79.8652903,44.5812852
END:VEVENT
BEGIN:VEVENT
DTSTART;TZID=America/Toronto:20250925T190000
DTEND;TZID=America/Toronto:20250925T213000
DTSTAMP:20260423T131113
CREATED:20250303T194949Z
LAST-MODIFIED:20250303T194949Z
UID:10001383-1758826800-1758835800@gardenontario.org
SUMMARY:September Meeting / Orono Horticultural Society
DESCRIPTION:Guest Speaker: Shawnna Burgess\, Orono Hort Society Director  Topic: Winter Sowing in Containers \nIncludes a flower and vegetable show
URL:https://gardenontario.org/event/september-meeting-orono-horticultural-society/
LOCATION:200 Station Street\, Orono – Durham County Senior’s Complex\, 200 Station Street\, Orono\, L0B 1M0
CATEGORIES:Flower & Vegetable Show,Guest Speaker
ATTACH;FMTTYPE=image/jpeg:https://gardenontario.org/wp-content/uploads/yearbook-rose.jpg
ORGANIZER;CN="Orono Horticultural Society":MAILTO:oronohortsociety@gmail.com
GEO:43.9757;-78.62029
X-APPLE-STRUCTURED-LOCATION;VALUE=URI;X-ADDRESS=200 Station Street Orono – Durham County Senior’s Complex 200 Station Street Orono L0B 1M0;X-APPLE-RADIUS=500;X-TITLE=200 Station Street:geo:-78.62029,43.9757
END:VEVENT
END:VCALENDAR