BEGIN:VCALENDAR
VERSION:2.0
PRODID:-//GardenOntario - ECPv6.15.20//NONSGML v1.0//EN
CALSCALE:GREGORIAN
METHOD:PUBLISH
X-ORIGINAL-URL:https://gardenontario.org
X-WR-CALDESC:Events for GardenOntario
REFRESH-INTERVAL;VALUE=DURATION:PT1H
X-Robots-Tag:noindex
X-PUBLISHED-TTL:PT1H
BEGIN:VTIMEZONE
TZID:America/Toronto
BEGIN:DAYLIGHT
TZOFFSETFROM:-0500
TZOFFSETTO:-0400
TZNAME:EDT
DTSTART:20240310T070000
END:DAYLIGHT
BEGIN:STANDARD
TZOFFSETFROM:-0400
TZOFFSETTO:-0500
TZNAME:EST
DTSTART:20241103T060000
END:STANDARD
BEGIN:DAYLIGHT
TZOFFSETFROM:-0500
TZOFFSETTO:-0400
TZNAME:EDT
DTSTART:20250309T070000
END:DAYLIGHT
BEGIN:STANDARD
TZOFFSETFROM:-0400
TZOFFSETTO:-0500
TZNAME:EST
DTSTART:20251102T060000
END:STANDARD
BEGIN:DAYLIGHT
TZOFFSETFROM:-0500
TZOFFSETTO:-0400
TZNAME:EDT
DTSTART:20260308T070000
END:DAYLIGHT
BEGIN:STANDARD
TZOFFSETFROM:-0400
TZOFFSETTO:-0500
TZNAME:EST
DTSTART:20261101T060000
END:STANDARD
END:VTIMEZONE
BEGIN:VEVENT
DTSTART;TZID=America/Toronto:20250915T190000
DTEND;TZID=America/Toronto:20250915T203000
DTSTAMP:20260423T135450
CREATED:20250824T150437Z
LAST-MODIFIED:20250824T151514Z
UID:10001508-1757962800-1757968200@gardenontario.org
SUMMARY:September Speaker
DESCRIPTION:Woolwich Gardeners speaker: Nikola Barsoum (Half Moon Herbals: Farm & Apothecary) “What Does it Take to Grow Your Own Medicine?” \nMonday September 15\, 2025 \nLocation: St. James Lutheran Church\, 60 Arthur St. S.\,  Elmira\, ON N3B 2M9 (Wyatt St. entrance) \n7:00-8:30 p.m. \nWoolwich Gardeners members free; free-will donation for non-members \nOpen to the public! Bring your own mug for refreshments and treats.
URL:https://gardenontario.org/event/september-speaker/
LOCATION:St. James Lutheran\, 60 Arthur St. S.\, Elmira\, ON\, N3B 2M9
CATEGORIES:Community Event,Guest Speaker
ATTACH;FMTTYPE=image/jpeg:https://gardenontario.org/wp-content/uploads/Nicola-Barsoum-scaled.jpeg
GEO:43.5980982;-80.5598585
X-APPLE-STRUCTURED-LOCATION;VALUE=URI;X-ADDRESS=St. James Lutheran 60 Arthur St. S. Elmira ON N3B 2M9;X-APPLE-RADIUS=500;X-TITLE=60 Arthur St. S.:geo:-80.5598585,43.5980982
END:VEVENT
BEGIN:VEVENT
DTSTART;TZID=America/Toronto:20250915T190000
DTEND;TZID=America/Toronto:20250915T210000
DTSTAMP:20260423T135450
CREATED:20250302T003355Z
LAST-MODIFIED:20250302T003355Z
UID:10001371-1757962800-1757970000@gardenontario.org
SUMMARY:Russell & District: Dreams to Reality
DESCRIPTION:Guest speaker Candace Dressler will join us at our regular monthly meeting to give a talk on Dreams to Reality: A Gardener’s Dream vs. Nature’s Reality.
URL:https://gardenontario.org/event/russell-district-dreams-to-reality/
LOCATION:Marionville Community Centre\, 4629 Gregoire Road\, Marionville
CATEGORIES:Society Meeting
ATTACH;FMTTYPE=image/jpeg:https://gardenontario.org/wp-content/uploads/2025-09-dreams-scaled.jpg
ORGANIZER;CN="Russell &amp%3B District Horticultural Society":MAILTO:russellgardeners@gmail.com
GEO:45.1829182;-75.3532235
X-APPLE-STRUCTURED-LOCATION;VALUE=URI;X-ADDRESS=Marionville Community Centre 4629 Gregoire Road Marionville;X-APPLE-RADIUS=500;X-TITLE=4629 Gregoire Road:geo:-75.3532235,45.1829182
END:VEVENT
BEGIN:VEVENT
DTSTART;TZID=America/Toronto:20250916T183000
DTEND;TZID=America/Toronto:20250916T210000
DTSTAMP:20260423T135450
CREATED:20241116T232113Z
LAST-MODIFIED:20241116T232113Z
UID:10001057-1758047400-1758056400@gardenontario.org
SUMMARY:GHS Monthly Meeting Speaker Rain Ottawa
DESCRIPTION:A representative from Rain Ottawa will be our guest Speaker this month they will present: Rain Ready Landscapes
URL:https://gardenontario.org/event/ghs-monthly-meeting-speaker-rain-ottawa/
LOCATION:Pat Clarke Community Centre\, 4355 Halmont Dr\, Ottawa\, K1J 8W6
CATEGORIES:Guest Speaker,Society Meeting
ORGANIZER;CN="Gloucester Horticultural Society":MAILTO:gloucester@gardenontario.org
GEO:45.4289112;-75.6197056
X-APPLE-STRUCTURED-LOCATION;VALUE=URI;X-ADDRESS=Pat Clarke Community Centre 4355 Halmont Dr Ottawa K1J 8W6;X-APPLE-RADIUS=500;X-TITLE=4355 Halmont Dr:geo:-75.6197056,45.4289112
END:VEVENT
BEGIN:VEVENT
DTSTART;TZID=America/Toronto:20250916T190000
DTEND;TZID=America/Toronto:20250916T200000
DTSTAMP:20260423T135450
CREATED:20250127T153730Z
LAST-MODIFIED:20250220T021654Z
UID:10001172-1758049200-1758052800@gardenontario.org
SUMMARY:"Succulent Gardening for Beginners" With Molly Shannon of Canadian Succulents
DESCRIPTION:This presentation will highlight indoor container gardening with a variety of tropical/tender succulent species\, growing hardy perennial succulents outdoors in Ontario and how to successfully propagate succulent plants. Molly will share photos she has taken inside her greenhouse to accompany these topics!
URL:https://gardenontario.org/event/canadian-succulents/
LOCATION:Mount Albert Community Centre\, 53 Main Street\, Mount Albert\, L0G 1M0\, Canada
ATTACH;FMTTYPE=image/png:https://gardenontario.org/wp-content/uploads/Final-logo-for-2025-1-3.png
ORGANIZER;CN="East Gwillimbury Gardeners":MAILTO:eggardeners@gmail.com
GEO:44.1350376;-79.3109495
X-APPLE-STRUCTURED-LOCATION;VALUE=URI;X-ADDRESS=Mount Albert Community Centre 53 Main Street Mount Albert L0G 1M0 Canada;X-APPLE-RADIUS=500;X-TITLE=53 Main Street:geo:-79.3109495,44.1350376
END:VEVENT
BEGIN:VEVENT
DTSTART;TZID=America/Toronto:20250916T190000
DTEND;TZID=America/Toronto:20250916T200000
DTSTAMP:20260423T135450
CREATED:20250129T183620Z
LAST-MODIFIED:20250129T183620Z
UID:10001184-1758049200-1758052800@gardenontario.org
SUMMARY:Monthly Meeting
DESCRIPTION:The summer passes too quickly and we start to wrap up our gardening season in later September and October. On September 16th Guest Speaker Anne Bartlett from Riverwood Gardens will join us to tell us what perennials will give us the best winter interest\, what to cut back\, what to leave & how to put our gardens to bed for the winter months. Everyone Wecome!
URL:https://gardenontario.org/event/monthly-meeting-5/
LOCATION:Durham Legion\, 271 Bruce Street North\, Durham\, West Grey\, N0G 1R0
CATEGORIES:Guest Speaker
ATTACH;FMTTYPE=image/jpeg:https://gardenontario.org/wp-content/uploads/0001-55.jpg
ORGANIZER;CN="Durham &amp%3B District Horticultural Society":MAILTO:susan.papineau@eastlink.ca
GEO:44.179608;-80.823555
X-APPLE-STRUCTURED-LOCATION;VALUE=URI;X-ADDRESS=Durham Legion 271 Bruce Street North Durham West Grey N0G 1R0;X-APPLE-RADIUS=500;X-TITLE=271 Bruce Street North:geo:-80.823555,44.179608
END:VEVENT
BEGIN:VEVENT
DTSTART;TZID=America/Toronto:20250917T183000
DTEND;TZID=America/Toronto:20250917T200000
DTSTAMP:20260423T135450
CREATED:20250202T202504Z
LAST-MODIFIED:20250202T202504Z
UID:10001198-1758133800-1758139200@gardenontario.org
SUMMARY:Elora & Salem Plant Swap Event
DESCRIPTION:Plant exchange~ Pot up some cutting\, root division\, etc. of one or two of your plants. Bring them to swap with other members. Have a fun time swapping  plus share your knowledge about these plants.
URL:https://gardenontario.org/event/elora-salem-plant-swap-event-2/
LOCATION:Elora Centre For The Arts\, 75 Melville St.\, Elora\, N0B 1S0
CATEGORIES:Grow With Us!
ATTACH;FMTTYPE=image/png:https://gardenontario.org/wp-content/uploads/ES-logo-5.png
ORGANIZER;CN="Elora and Salem Horticultural Society":MAILTO:elorasalemhort@gmail.com
GEO:43.6833967;-80.4269217
X-APPLE-STRUCTURED-LOCATION;VALUE=URI;X-ADDRESS=Elora Centre For The Arts 75 Melville St. Elora N0B 1S0;X-APPLE-RADIUS=500;X-TITLE=75 Melville St.:geo:-80.4269217,43.6833967
END:VEVENT
BEGIN:VEVENT
DTSTART;TZID=America/Toronto:20250917T190000
DTEND;TZID=America/Toronto:20250917T203000
DTSTAMP:20260423T135450
CREATED:20250531T181523Z
LAST-MODIFIED:20250531T185208Z
UID:10001465-1758135600-1758141000@gardenontario.org
SUMMARY:Joy in the Garden
DESCRIPTION:Noted author and speaker Paul Knowles reminds us to find Joy in the Garden when he joins us as Guest Speaker for our September meeting.
URL:https://gardenontario.org/event/summer-flower-vegetable-show/
LOCATION:Station on the Green\, 10 Caroline Street East\, Creemore\, L0M 1G0
CATEGORIES:Flower & Vegetable Show,Guest Speaker
ATTACH;FMTTYPE=image/jpeg:https://gardenontario.org/wp-content/uploads/Paul-Knowles.jpeg
ORGANIZER;CN="Creemore Horticultural Society":MAILTO:CreemoreHort@gmail.com
GEO:44.3266429;-80.1049043
X-APPLE-STRUCTURED-LOCATION;VALUE=URI;X-ADDRESS=Station on the Green 10 Caroline Street East Creemore L0M 1G0;X-APPLE-RADIUS=500;X-TITLE=10 Caroline Street East:geo:-80.1049043,44.3266429
END:VEVENT
END:VCALENDAR