BEGIN:VCALENDAR
VERSION:2.0
PRODID:-//GardenOntario - ECPv6.15.20//NONSGML v1.0//EN
CALSCALE:GREGORIAN
METHOD:PUBLISH
X-ORIGINAL-URL:https://gardenontario.org
X-WR-CALDESC:Events for GardenOntario
REFRESH-INTERVAL;VALUE=DURATION:PT1H
X-Robots-Tag:noindex
X-PUBLISHED-TTL:PT1H
BEGIN:VTIMEZONE
TZID:America/Toronto
BEGIN:DAYLIGHT
TZOFFSETFROM:-0500
TZOFFSETTO:-0400
TZNAME:EDT
DTSTART:20240310T070000
END:DAYLIGHT
BEGIN:STANDARD
TZOFFSETFROM:-0400
TZOFFSETTO:-0500
TZNAME:EST
DTSTART:20241103T060000
END:STANDARD
BEGIN:DAYLIGHT
TZOFFSETFROM:-0500
TZOFFSETTO:-0400
TZNAME:EDT
DTSTART:20250309T070000
END:DAYLIGHT
BEGIN:STANDARD
TZOFFSETFROM:-0400
TZOFFSETTO:-0500
TZNAME:EST
DTSTART:20251102T060000
END:STANDARD
BEGIN:DAYLIGHT
TZOFFSETFROM:-0500
TZOFFSETTO:-0400
TZNAME:EDT
DTSTART:20260308T070000
END:DAYLIGHT
BEGIN:STANDARD
TZOFFSETFROM:-0400
TZOFFSETTO:-0500
TZNAME:EST
DTSTART:20261101T060000
END:STANDARD
END:VTIMEZONE
BEGIN:VEVENT
DTSTART;TZID=America/Toronto:20250902T190000
DTEND;TZID=America/Toronto:20250902T210000
DTSTAMP:20260423T135445
CREATED:20250606T235748Z
LAST-MODIFIED:20250607T000310Z
UID:10001477-1756839600-1756846800@gardenontario.org
SUMMARY:Visitor Night
DESCRIPTION:Robert Plavis will be speaking to us about Garden Myths
URL:https://gardenontario.org/event/visitor-night/
LOCATION:ClearviewCommunityChurch\, Sunnidale Road\, Wasaga Beach\, Simcoe County\, L9Z 1J7\, Canada
CATEGORIES:Society Meeting
ATTACH;FMTTYPE=image/jpeg:https://gardenontario.org/wp-content/uploads/Robert-Plavis-Garden-Myth.jpg
GEO:44.4584434;-80.039255
X-APPLE-STRUCTURED-LOCATION;VALUE=URI;X-ADDRESS=ClearviewCommunityChurch Sunnidale Road Wasaga Beach Simcoe County L9Z 1J7 Canada;X-APPLE-RADIUS=500;X-TITLE=Sunnidale Road:geo:-80.039255,44.4584434
END:VEVENT
BEGIN:VEVENT
DTSTART;TZID=America/Toronto:20250902T193000
DTEND;TZID=America/Toronto:20250902T213000
DTSTAMP:20260423T135445
CREATED:20250719T125335Z
LAST-MODIFIED:20250719T130405Z
UID:10001490-1756841400-1756848600@gardenontario.org
SUMMARY:September General Meeting: Guest Speaker Claudette Sims\, "A Gardening Conundrum
DESCRIPTION:September General Meeting: Guest Speaker Claudette Sims\, “A Gardening Conundrum: Why are Invasive Plants Sold in Nurseries?”\nInvasive plants are considered by many to be a threat to biodiversity\, human health\, and our economy. And\, they threaten native plants\, insects\, animals\, and our forests. So why are they sold in nurseries? Tonight’s speaker says that the Master Gardeners of Ontario receive so many questions on this subject that they decided to investigate. After months of research\, Claudette Sims has some surprising answers to share with us. But more importantly\, she has suggestions for moving forward. \nClaudette Sims joined the Master Gardeners of Ontario in 2004 and served as President for six years. She was a regular panelist and lead on the weekly CBC radio online garden chat for many years and also subbed in for Ed Lawrence on the radio\, which she says was a thrilling but scary experience. Claudette is currently Administrator for the very successful Master Gardeners of Ontario Facebook Group which is nearing 58\,000 members\, featuring a great team of Master Gardeners who provide gardening advice for the public.  Along with Cathy Kavassalis\, Claudette is working to further the work of the Canadian Coalition for Invasive Plant Regulation (CCIPR) to stop the sale of high-risk invasive plants that harm biodiversity. Claudette’s most recent passion continues to be adding larval host plants for butterflies and specific native plants for specialist bees.   \nTonight’s guest speaker is planning to attend the meeting remotely\, via Zoom.  A live video broadcast of her remote participation will be projected onto a large screen in the auditorium. \nMembers: Instructions for participation in this virtual and in-person event will be emailed to members twice – once on the Friday prior to the meeting\, and again on Monday. Instructions are also available by logging into our site and checking the “members-only” version of this event. Please visit https://www.richmondhillgardensociety.org/event-6035318 for more information. \nVisitors: Guests are welcome to participate in this virtual and in-person event at a nominal fee of $5.00. Instructions for participation will be emailed to non-society members who complete the registration process prior to the event start time. \nAbout In-Person Attendance at the McConaghy Centre:  \n\nDoors to the auditorium open at 7:00 pm\nThe meeting begins promptly at 7:30 pm\nPlease bring a mug or cup if you would like hot coffee or tea\nMasks are not required\, but are encouraged
URL:https://gardenontario.org/event/september-general-meeting-guest-speaker-claudette-sims/
LOCATION:McConaghy Centre\, 10100 Yonge Street\, Richmond Hill\, L4C 1T8
CATEGORIES:Guest Speaker
ATTACH;FMTTYPE=image/png:https://gardenontario.org/wp-content/uploads/Hort-logo-design-2015-27.png
ORGANIZER;CN="Richmond Hill Garden and Horticultural Society":MAILTO:RHInfo@GardenOntario.org
GEO:43.8737179;-79.4383234
X-APPLE-STRUCTURED-LOCATION;VALUE=URI;X-ADDRESS=McConaghy Centre 10100 Yonge Street Richmond Hill L4C 1T8;X-APPLE-RADIUS=500;X-TITLE=10100 Yonge Street:geo:-79.4383234,43.8737179
END:VEVENT
BEGIN:VEVENT
DTSTART;TZID=America/Toronto:20250904T190000
DTEND;TZID=America/Toronto:20250904T203000
DTSTAMP:20260423T135445
CREATED:20250224T202323Z
LAST-MODIFIED:20250224T202323Z
UID:10001356-1757012400-1757017800@gardenontario.org
SUMMARY:Preserving our Large\, Old and Mature Trees
DESCRIPTION:with Braedon Witt from Tree Trust Canada
URL:https://gardenontario.org/event/preserving-our-large-old-and-mature-trees/
LOCATION:Elgin Community Hall\,Elgin
CATEGORIES:Guest Speaker
END:VEVENT
END:VCALENDAR