BEGIN:VCALENDAR
VERSION:2.0
PRODID:-//GardenOntario - ECPv6.15.20//NONSGML v1.0//EN
CALSCALE:GREGORIAN
METHOD:PUBLISH
X-WR-CALNAME:GardenOntario
X-ORIGINAL-URL:https://gardenontario.org
X-WR-CALDESC:Events for GardenOntario
REFRESH-INTERVAL;VALUE=DURATION:PT1H
X-Robots-Tag:noindex
X-PUBLISHED-TTL:PT1H
BEGIN:VTIMEZONE
TZID:America/Toronto
BEGIN:DAYLIGHT
TZOFFSETFROM:-0500
TZOFFSETTO:-0400
TZNAME:EDT
DTSTART:20240310T070000
END:DAYLIGHT
BEGIN:STANDARD
TZOFFSETFROM:-0400
TZOFFSETTO:-0500
TZNAME:EST
DTSTART:20241103T060000
END:STANDARD
BEGIN:DAYLIGHT
TZOFFSETFROM:-0500
TZOFFSETTO:-0400
TZNAME:EDT
DTSTART:20250309T070000
END:DAYLIGHT
BEGIN:STANDARD
TZOFFSETFROM:-0400
TZOFFSETTO:-0500
TZNAME:EST
DTSTART:20251102T060000
END:STANDARD
BEGIN:DAYLIGHT
TZOFFSETFROM:-0500
TZOFFSETTO:-0400
TZNAME:EDT
DTSTART:20260308T070000
END:DAYLIGHT
BEGIN:STANDARD
TZOFFSETFROM:-0400
TZOFFSETTO:-0500
TZNAME:EST
DTSTART:20261101T060000
END:STANDARD
END:VTIMEZONE
BEGIN:VEVENT
DTSTART;TZID=America/Toronto:20250730T120000
DTEND;TZID=America/Toronto:20250730T140000
DTSTAMP:20260423T194741
CREATED:20250619T172518Z
LAST-MODIFIED:20250619T172518Z
UID:10001483-1753876800-1753884000@gardenontario.org
SUMMARY:Assiginack Horticultural Society 70th Anniversary Flower Show and Luncheon
DESCRIPTION:This year is the 70th Anniversary of the Assiginack Horticultural Society. We will be holding our annual flower show with a “high tea’ luncheon.
URL:https://gardenontario.org/event/assiginack-horticultural-society-70th-anniversary-flower-show-and-luncheon/2025-07-30/
LOCATION:Assiginack Community Centre Arena  Atrium\, 59 VanKoughnet St.\, Manitowaning On\, P0P 1N0
CATEGORIES:Flower & Vegetable Show
ATTACH;FMTTYPE=image/jpeg:https://gardenontario.org/wp-content/uploads/IMG_1845.jpeg
ORGANIZER;CN="assiginack Horticultural Society":MAILTO:pat@patmorka.ca
END:VEVENT
END:VCALENDAR