BEGIN:VCALENDAR
VERSION:2.0
PRODID:-//GardenOntario - ECPv6.15.20//NONSGML v1.0//EN
CALSCALE:GREGORIAN
METHOD:PUBLISH
X-ORIGINAL-URL:https://gardenontario.org
X-WR-CALDESC:Events for GardenOntario
REFRESH-INTERVAL;VALUE=DURATION:PT1H
X-Robots-Tag:noindex
X-PUBLISHED-TTL:PT1H
BEGIN:VTIMEZONE
TZID:America/Toronto
BEGIN:DAYLIGHT
TZOFFSETFROM:-0500
TZOFFSETTO:-0400
TZNAME:EDT
DTSTART:20240310T070000
END:DAYLIGHT
BEGIN:STANDARD
TZOFFSETFROM:-0400
TZOFFSETTO:-0500
TZNAME:EST
DTSTART:20241103T060000
END:STANDARD
BEGIN:DAYLIGHT
TZOFFSETFROM:-0500
TZOFFSETTO:-0400
TZNAME:EDT
DTSTART:20250309T070000
END:DAYLIGHT
BEGIN:STANDARD
TZOFFSETFROM:-0400
TZOFFSETTO:-0500
TZNAME:EST
DTSTART:20251102T060000
END:STANDARD
BEGIN:DAYLIGHT
TZOFFSETFROM:-0500
TZOFFSETTO:-0400
TZNAME:EDT
DTSTART:20260308T070000
END:DAYLIGHT
BEGIN:STANDARD
TZOFFSETFROM:-0400
TZOFFSETTO:-0500
TZNAME:EST
DTSTART:20261101T060000
END:STANDARD
END:VTIMEZONE
BEGIN:VEVENT
DTSTART;TZID=America/Toronto:20250714T193000
DTEND;TZID=America/Toronto:20250714T210000
DTSTAMP:20260423T215749
CREATED:20250605T174436Z
LAST-MODIFIED:20250605T174436Z
UID:10001472-1752521400-1752526800@gardenontario.org
SUMMARY:Georgina-Brock Garden Club - Preserving Mature Trees
DESCRIPTION:Georgina-Brock Garden Club presents Preserving Mature Trees by Toni Ellis of Tree Trust. A passionate talk with photographs focusing on the value and importance of mature trees and why we can’t take them for granted. Toni will give pointers on how homeowners can keep mature trees healthy and explain what Tree Trust is doing to keep big trees on the landscape. Also judged flower\, veggie and design show. Everyone welcome.
URL:https://gardenontario.org/event/georgina-brock-garden-club-preserving-mature-trees/
LOCATION:Pefferlaw Lions Community Centre\, 38 Pete's Lane\, Pefferlaw\, L0E 1N0
CATEGORIES:Guest Speaker
ATTACH;FMTTYPE=image/jpeg:https://gardenontario.org/wp-content/uploads/July-meeting-4.jpg
GEO:44.3105722;-79.1943974
X-APPLE-STRUCTURED-LOCATION;VALUE=URI;X-ADDRESS=Pefferlaw Lions Community Centre 38 Pete's Lane Pefferlaw L0E 1N0;X-APPLE-RADIUS=500;X-TITLE=38 Pete's Lane:geo:-79.1943974,44.3105722
END:VEVENT
BEGIN:VEVENT
DTSTART;TZID=America/Toronto:20250715T190000
DTEND;TZID=America/Toronto:20250715T200000
DTSTAMP:20260423T215749
CREATED:20250127T153325Z
LAST-MODIFIED:20250220T021441Z
UID:10001171-1752606000-1752609600@gardenontario.org
SUMMARY:Questions and Answers! Sharing Gardening Expertise in Our Membership
DESCRIPTION:This session will see our gardening members share their expertise on a host of topics. Members will get the opportunity to engage in asking questions and learn from each other!
URL:https://gardenontario.org/event/questions-and-answers-sharing-gardening-expertise-in-our-membership/
LOCATION:Mount Albert Community Centre\, 53 Main Street\, Mount Albert\, L0G 1M0\, Canada
ATTACH;FMTTYPE=image/png:https://gardenontario.org/wp-content/uploads/Final-logo-for-2025-1-2.png
ORGANIZER;CN="East Gwillimbury Gardeners":MAILTO:eggardeners@gmail.com
GEO:44.1350376;-79.3109495
X-APPLE-STRUCTURED-LOCATION;VALUE=URI;X-ADDRESS=Mount Albert Community Centre 53 Main Street Mount Albert L0G 1M0 Canada;X-APPLE-RADIUS=500;X-TITLE=53 Main Street:geo:-79.3109495,44.1350376
END:VEVENT
BEGIN:VEVENT
DTSTART;VALUE=DATE:20250716
DTEND;VALUE=DATE:20250718
DTSTAMP:20260423T215749
CREATED:20250129T182739Z
LAST-MODIFIED:20250129T182739Z
UID:10001183-1752624000-1752796799@gardenontario.org
SUMMARY:Flower & Photography Show
DESCRIPTION:Our 2025 theme is “Nature’s Bounty” and our Flower & Photography Show schedule reflects this theme. The event is being held at the Durham Legion\, 271 Bruce Street North\, Durham\, West Grey. Entries will be accepted on Wednesday\, July 16th from 7 PM to 8 PM and Thursday\, July 17th from 9 AM to Noon. Judging begins at 1 PM and the doors will open for viewing at 6 PM\, followed by our July Monthly Meeting. Lydia Dyck will join us at 7 PM with a presentation “Nature Based Garden Design & the Heart of it All – Compost.” 
URL:https://gardenontario.org/event/flower-photography-show-3/
LOCATION:Durham Legion\, 271 Bruce Street North\, Durham\, West Grey\, N0G 1R0
CATEGORIES:Flower & Vegetable Show
ATTACH;FMTTYPE=image/jpeg:https://gardenontario.org/wp-content/uploads/0001-54.jpg
ORGANIZER;CN="Durham &amp%3B District Horticultural Society":MAILTO:susan.papineau@eastlink.ca
GEO:44.179608;-80.823555
X-APPLE-STRUCTURED-LOCATION;VALUE=URI;X-ADDRESS=Durham Legion 271 Bruce Street North Durham West Grey N0G 1R0;X-APPLE-RADIUS=500;X-TITLE=271 Bruce Street North:geo:-80.823555,44.179608
END:VEVENT
BEGIN:VEVENT
DTSTART;TZID=America/Toronto:20250719T080000
DTEND;TZID=America/Toronto:20250719T130000
DTSTAMP:20260423T215750
CREATED:20250531T184208Z
LAST-MODIFIED:20250531T184208Z
UID:10001466-1752912000-1752930000@gardenontario.org
SUMMARY:Summer Flower & Vegetable Show
DESCRIPTION:The Creemore Horticultural Society warmly invites you come and admire the many entries in various categories\, subitted by our members. Enjoy the Farmers Market and pop into the show for seasonal inspiration.
URL:https://gardenontario.org/event/summer-flower-vegetable-show-2/
LOCATION:Station on the Green\, 10 Caroline Street East\, Creemore\, L0M 1G0
CATEGORIES:Flower & Vegetable Show
ATTACH;FMTTYPE=image/jpeg:https://gardenontario.org/wp-content/uploads/Flowers.jpeg
ORGANIZER;CN="Creemore Horticultural Society":MAILTO:CreemoreHort@gmail.com
GEO:44.3266429;-80.1049043
X-APPLE-STRUCTURED-LOCATION;VALUE=URI;X-ADDRESS=Station on the Green 10 Caroline Street East Creemore L0M 1G0;X-APPLE-RADIUS=500;X-TITLE=10 Caroline Street East:geo:-80.1049043,44.3266429
END:VEVENT
BEGIN:VEVENT
DTSTART;TZID=America/Toronto:20250719T090000
DTEND;TZID=America/Toronto:20250719T160000
DTSTAMP:20260423T215750
CREATED:20250703T120242Z
LAST-MODIFIED:20250703T120242Z
UID:10001487-1752915600-1752940800@gardenontario.org
SUMMARY:Huntsville Horticultural Society Garden Tour
DESCRIPTION:Self-Guided Tour of 9 local gardens \nMaps are $10.00 per person  \nMap includes $10.00 coupon for Sandhill Nursery & $10.00 coupon for Lake of Bays Garden Centre \nMaps available at the following locations: \nThe Great Vine (Cash only)- 36 Main Street East\nLake of Bays Garden Centre (Cash only) – 2876 Highway 60 Dwight \nThe Huntsville Public Library (Cash\, Debit\, Credit) – 7 Minerva Street East (Call to pay/reserve ticket 705-789-5232) \nProceeds help support the Society’s beautification projects
URL:https://gardenontario.org/event/huntsville-horticultural-society-garden-tour/
LOCATION:Huntsville
CATEGORIES:Garden Tour
ATTACH;FMTTYPE=image/jpeg:https://gardenontario.org/wp-content/uploads/Garden-Tour-2025.jpg
ORGANIZER;CN="Huntsville Horticultural Society":MAILTO:huntsvillehorticulture@outlook.com
END:VEVENT
END:VCALENDAR