BEGIN:VCALENDAR
VERSION:2.0
PRODID:-//GardenOntario - ECPv6.15.20//NONSGML v1.0//EN
CALSCALE:GREGORIAN
METHOD:PUBLISH
X-WR-CALNAME:GardenOntario
X-ORIGINAL-URL:https://gardenontario.org
X-WR-CALDESC:Events for GardenOntario
REFRESH-INTERVAL;VALUE=DURATION:PT1H
X-Robots-Tag:noindex
X-PUBLISHED-TTL:PT1H
BEGIN:VTIMEZONE
TZID:America/Toronto
BEGIN:DAYLIGHT
TZOFFSETFROM:-0500
TZOFFSETTO:-0400
TZNAME:EDT
DTSTART:20240310T070000
END:DAYLIGHT
BEGIN:STANDARD
TZOFFSETFROM:-0400
TZOFFSETTO:-0500
TZNAME:EST
DTSTART:20241103T060000
END:STANDARD
BEGIN:DAYLIGHT
TZOFFSETFROM:-0500
TZOFFSETTO:-0400
TZNAME:EDT
DTSTART:20250309T070000
END:DAYLIGHT
BEGIN:STANDARD
TZOFFSETFROM:-0400
TZOFFSETTO:-0500
TZNAME:EST
DTSTART:20251102T060000
END:STANDARD
BEGIN:DAYLIGHT
TZOFFSETFROM:-0500
TZOFFSETTO:-0400
TZNAME:EDT
DTSTART:20260308T070000
END:DAYLIGHT
BEGIN:STANDARD
TZOFFSETFROM:-0400
TZOFFSETTO:-0500
TZNAME:EST
DTSTART:20261101T060000
END:STANDARD
END:VTIMEZONE
BEGIN:VEVENT
DTSTART;TZID=America/Toronto:20250630T193000
DTEND;TZID=America/Toronto:20250630T213000
DTSTAMP:20260424T003152
CREATED:20250604T015842Z
LAST-MODIFIED:20250604T015842Z
UID:10001470-1751311800-1751319000@gardenontario.org
SUMMARY:CHS June Meeting: Garden Knowledge-Q&A
DESCRIPTION:Do you have gardening questions or tricky problems in the garden that need an answer? Come out on June 30th to quiz our expert garden panel and get the answers. \nThe Cannington Horticultural Society has experts in the field of propagation\, natives\, soil health and perennial garden design who are happy to take all your garden questions – big or small. Learn from the experts as they share their gardening knowledge. \nLearn\, grow and enjoy with CHS. \nFlower and Photography Shows are also included this evening. \nDoors open at 6:30pm – Membership Registration Table open at 7pm. All welcome.
URL:https://gardenontario.org/event/chs-june-meeting-garden-knowledge-qa/
LOCATION:Cannington Baptist Church\, 60 Cameron St. W.\, Cannington\, L0E 1E0
CATEGORIES:Society Meeting
ATTACH;FMTTYPE=image/jpeg:https://gardenontario.org/wp-content/uploads/June-Meeting-cropped-1.jpg
ORGANIZER;CN="Cannington Horticultural Society":MAILTO:info@canningtonhorticulturalsociety.org
GEO:44.3494655;-79.0409782
X-APPLE-STRUCTURED-LOCATION;VALUE=URI;X-ADDRESS=Cannington Baptist Church 60 Cameron St. W. Cannington L0E 1E0;X-APPLE-RADIUS=500;X-TITLE=60 Cameron St. W.:geo:-79.0409782,44.3494655
END:VEVENT
BEGIN:VEVENT
DTSTART;TZID=America/Toronto:20250702T080000
DTEND;TZID=America/Toronto:20250705T170000
DTSTAMP:20260424T003152
CREATED:20250126T013114Z
LAST-MODIFIED:20250126T013114Z
UID:10001157-1751443200-1751734800@gardenontario.org
SUMMARY:OUTDOOR GARDEN COMPETITION
DESCRIPTION:JULY 02-05\, 2025\nOur Outdoor Competition for gardens in the Gananoque area\, with many categories. Entry deadline: June 28. Contact Penny at: pssloves2garden@gmail.com for details. Show off your garden!\nOpen to anyone to enter their gardens  Contact for details of categories pssloves2garden@gmail.com\nGardens will be judges between July 2 and 5 and all entering will be contacted with an approximate time
URL:https://gardenontario.org/event/outdoor-garden-competition/
LOCATION:Gananoque\, Gananoque
CATEGORIES:Community Event
ATTACH;FMTTYPE=image/jpeg:https://gardenontario.org/wp-content/uploads/Georgia-on-yellow-for-post-card-2.jpg
ORGANIZER;CN="Gananoque Horticultural Society":MAILTO:gan.hort.soc@gmail.com
GEO:44.330618;-76.161864
END:VEVENT
BEGIN:VEVENT
DTSTART;TZID=America/Toronto:20250703T180000
DTEND;TZID=America/Toronto:20250703T210000
DTSTAMP:20260424T003152
CREATED:20250509T161640Z
LAST-MODIFIED:20250509T161640Z
UID:10001453-1751565600-1751576400@gardenontario.org
SUMMARY:Hidden Gems VII "Hiding in Hockley"
DESCRIPTION:The Orangeville and District Horticultural Society is hosting a local garden tour in the Hockley Village. Tickets are $15 and are available at our meetings in May/June as well as Booklore and Past Glories of Toad Hollow. Please join us. It’s always a fantastic evening!
URL:https://gardenontario.org/event/hidden-gems-vii-hiding-in-hockley/
LOCATION:Hockley Village
END:VEVENT
BEGIN:VEVENT
DTSTART;TZID=America/Toronto:20250705T080000
DTEND;TZID=America/Toronto:20250705T170000
DTSTAMP:20260424T003152
CREATED:20241116T232909Z
LAST-MODIFIED:20241116T232909Z
UID:10001059-1751702400-1751734800@gardenontario.org
SUMMARY:GHS Garden Sharing:  A garden tour with a twist
DESCRIPTION:At this garden tour our members visit each others gardens to learn about successes and failures and to share advice for projects in the planning.  If you need advice for your garden sign up. If you received advice in the past and want to share how it went sign up.  This is not a fancy garden tour to show off our gardens but a working visit where we share ideas and past experience as well as celebrate successes.  You don’t even have to show your whole garden.
URL:https://gardenontario.org/event/ghs-garden-sharing-a-garden-tour-with-a-twist/2025-07-05/1/
CATEGORIES:Garden Tour
ORGANIZER;CN="Gloucester Horticultural Society":MAILTO:gloucester@gardenontario.org
END:VEVENT
BEGIN:VEVENT
DTSTART;TZID=America/Toronto:20250705T090000
DTEND;TZID=America/Toronto:20250705T140000
DTSTAMP:20260424T003152
CREATED:20250610T175244Z
LAST-MODIFIED:20250610T175825Z
UID:10001479-1751706000-1751724000@gardenontario.org
SUMMARY:Garden Tour
DESCRIPTION:Woolwich Gardeners Annual Garden Tour! Join us for self-guided tours of gardens in Elmira and St. Jacobs. Scan the barcode on our poster or email barbs@rogers.com to request your e-tickets (preferred). For paper tickets\, call (519)580-7584. \nTickets are $12 in advance and $15 on tour day.
URL:https://gardenontario.org/event/garden-tour-4/
LOCATION:Woolwich\,Ontario
CATEGORIES:Garden Tour
ATTACH;FMTTYPE=image/jpeg:https://gardenontario.org/wp-content/uploads/Garden-Tour-2025-poster.jpg
END:VEVENT
BEGIN:VEVENT
DTSTART;TZID=America/Toronto:20250705T090000
DTEND;TZID=America/Toronto:20250705T150000
DTSTAMP:20260424T003152
CREATED:20241116T232909Z
LAST-MODIFIED:20241116T232909Z
UID:10001060-1751706000-1751727600@gardenontario.org
SUMMARY:GHS Garden Sharing:  A garden tour with a twist
DESCRIPTION:At this garden tour our members visit each others gardens to learn about successes and failures and to share advice for projects in the planning.  If you need advice for your garden sign up. If you received advice in the past and want to share how it went sign up.  This is not a fancy garden tour to show off our gardens but a working visit where we share ideas and past experience as well as celebrate successes.  You don’t even have to show your whole garden.
URL:https://gardenontario.org/event/ghs-garden-sharing-a-garden-tour-with-a-twist/2025-07-05/2/
CATEGORIES:Garden Tour
ORGANIZER;CN="Gloucester Horticultural Society":MAILTO:gloucester@gardenontario.org
END:VEVENT
END:VCALENDAR