BEGIN:VCALENDAR
VERSION:2.0
PRODID:-//GardenOntario - ECPv6.15.20//NONSGML v1.0//EN
CALSCALE:GREGORIAN
METHOD:PUBLISH
X-WR-CALNAME:GardenOntario
X-ORIGINAL-URL:https://gardenontario.org
X-WR-CALDESC:Events for GardenOntario
REFRESH-INTERVAL;VALUE=DURATION:PT1H
X-Robots-Tag:noindex
X-PUBLISHED-TTL:PT1H
BEGIN:VTIMEZONE
TZID:America/Toronto
BEGIN:DAYLIGHT
TZOFFSETFROM:-0500
TZOFFSETTO:-0400
TZNAME:EDT
DTSTART:20280312T070000
END:DAYLIGHT
BEGIN:STANDARD
TZOFFSETFROM:-0400
TZOFFSETTO:-0500
TZNAME:EST
DTSTART:20281105T060000
END:STANDARD
BEGIN:DAYLIGHT
TZOFFSETFROM:-0500
TZOFFSETTO:-0400
TZNAME:EDT
DTSTART:20290311T070000
END:DAYLIGHT
BEGIN:STANDARD
TZOFFSETFROM:-0400
TZOFFSETTO:-0500
TZNAME:EST
DTSTART:20291104T060000
END:STANDARD
BEGIN:DAYLIGHT
TZOFFSETFROM:-0500
TZOFFSETTO:-0400
TZNAME:EDT
DTSTART:20300310T070000
END:DAYLIGHT
BEGIN:STANDARD
TZOFFSETFROM:-0400
TZOFFSETTO:-0500
TZNAME:EST
DTSTART:20301103T060000
END:STANDARD
BEGIN:DAYLIGHT
TZOFFSETFROM:-0500
TZOFFSETTO:-0400
TZNAME:EDT
DTSTART:20310309T070000
END:DAYLIGHT
BEGIN:STANDARD
TZOFFSETFROM:-0400
TZOFFSETTO:-0500
TZNAME:EST
DTSTART:20311102T060000
END:STANDARD
END:VTIMEZONE
BEGIN:VEVENT
DTSTART;TZID=America/Toronto:20291205T184500
DTEND;TZID=America/Toronto:20291205T200000
DTSTAMP:20260420T014921
CREATED:20250917T142453Z
LAST-MODIFIED:20250917T142453Z
UID:10001568-1891190700-1891195200@gardenontario.org
SUMMARY:October Monthly Meeting
DESCRIPTION:Allan Reuter Centre starting at 6:45 for social\, 7pm start. \nSpeaker: \n 
URL:https://gardenontario.org/event/october-monthly-meeting/2029-12-05/
LOCATION:Allan Reuter Centre\, 507 King St East\, Cambridge\, N3H 3N4
CATEGORIES:Society Meeting
ORGANIZER;CN="Preston Horticultural Society":MAILTO:fmgillespie@gmail.com
GEO:43.39729;-80.3605552
X-APPLE-STRUCTURED-LOCATION;VALUE=URI;X-ADDRESS=Allan Reuter Centre 507 King St East Cambridge N3H 3N4;X-APPLE-RADIUS=500;X-TITLE=507 King St East:geo:-80.3605552,43.39729
END:VEVENT
BEGIN:VEVENT
DTSTART;TZID=America/Toronto:20300102T184500
DTEND;TZID=America/Toronto:20300102T200000
DTSTAMP:20260420T014921
CREATED:20250917T142453Z
LAST-MODIFIED:20250917T142453Z
UID:10001569-1893609900-1893614400@gardenontario.org
SUMMARY:October Monthly Meeting
DESCRIPTION:Allan Reuter Centre starting at 6:45 for social\, 7pm start. \nSpeaker: \n 
URL:https://gardenontario.org/event/october-monthly-meeting/2030-01-02/
LOCATION:Allan Reuter Centre\, 507 King St East\, Cambridge\, N3H 3N4
CATEGORIES:Society Meeting
ORGANIZER;CN="Preston Horticultural Society":MAILTO:fmgillespie@gmail.com
GEO:43.39729;-80.3605552
X-APPLE-STRUCTURED-LOCATION;VALUE=URI;X-ADDRESS=Allan Reuter Centre 507 King St East Cambridge N3H 3N4;X-APPLE-RADIUS=500;X-TITLE=507 King St East:geo:-80.3605552,43.39729
END:VEVENT
BEGIN:VEVENT
DTSTART;TZID=America/Toronto:20300206T184500
DTEND;TZID=America/Toronto:20300206T200000
DTSTAMP:20260420T014921
CREATED:20250917T142453Z
LAST-MODIFIED:20250917T142453Z
UID:10001570-1896633900-1896638400@gardenontario.org
SUMMARY:October Monthly Meeting
DESCRIPTION:Allan Reuter Centre starting at 6:45 for social\, 7pm start. \nSpeaker: \n 
URL:https://gardenontario.org/event/october-monthly-meeting/2030-02-06/
LOCATION:Allan Reuter Centre\, 507 King St East\, Cambridge\, N3H 3N4
CATEGORIES:Society Meeting
ORGANIZER;CN="Preston Horticultural Society":MAILTO:fmgillespie@gmail.com
GEO:43.39729;-80.3605552
X-APPLE-STRUCTURED-LOCATION;VALUE=URI;X-ADDRESS=Allan Reuter Centre 507 King St East Cambridge N3H 3N4;X-APPLE-RADIUS=500;X-TITLE=507 King St East:geo:-80.3605552,43.39729
END:VEVENT
BEGIN:VEVENT
DTSTART;TZID=America/Toronto:20300306T184500
DTEND;TZID=America/Toronto:20300306T200000
DTSTAMP:20260420T014921
CREATED:20250917T142453Z
LAST-MODIFIED:20250917T142453Z
UID:10001571-1899053100-1899057600@gardenontario.org
SUMMARY:October Monthly Meeting
DESCRIPTION:Allan Reuter Centre starting at 6:45 for social\, 7pm start. \nSpeaker: \n 
URL:https://gardenontario.org/event/october-monthly-meeting/2030-03-06/
LOCATION:Allan Reuter Centre\, 507 King St East\, Cambridge\, N3H 3N4
CATEGORIES:Society Meeting
ORGANIZER;CN="Preston Horticultural Society":MAILTO:fmgillespie@gmail.com
GEO:43.39729;-80.3605552
X-APPLE-STRUCTURED-LOCATION;VALUE=URI;X-ADDRESS=Allan Reuter Centre 507 King St East Cambridge N3H 3N4;X-APPLE-RADIUS=500;X-TITLE=507 King St East:geo:-80.3605552,43.39729
END:VEVENT
BEGIN:VEVENT
DTSTART;TZID=America/Toronto:20300403T184500
DTEND;TZID=America/Toronto:20300403T200000
DTSTAMP:20260420T014921
CREATED:20250917T142453Z
LAST-MODIFIED:20250917T142453Z
UID:10001572-1901472300-1901476800@gardenontario.org
SUMMARY:October Monthly Meeting
DESCRIPTION:Allan Reuter Centre starting at 6:45 for social\, 7pm start. \nSpeaker: \n 
URL:https://gardenontario.org/event/october-monthly-meeting/2030-04-03/
LOCATION:Allan Reuter Centre\, 507 King St East\, Cambridge\, N3H 3N4
CATEGORIES:Society Meeting
ORGANIZER;CN="Preston Horticultural Society":MAILTO:fmgillespie@gmail.com
GEO:43.39729;-80.3605552
X-APPLE-STRUCTURED-LOCATION;VALUE=URI;X-ADDRESS=Allan Reuter Centre 507 King St East Cambridge N3H 3N4;X-APPLE-RADIUS=500;X-TITLE=507 King St East:geo:-80.3605552,43.39729
END:VEVENT
BEGIN:VEVENT
DTSTART;TZID=America/Toronto:20300501T184500
DTEND;TZID=America/Toronto:20300501T200000
DTSTAMP:20260420T014921
CREATED:20250917T142453Z
LAST-MODIFIED:20250917T142453Z
UID:10001573-1903891500-1903896000@gardenontario.org
SUMMARY:October Monthly Meeting
DESCRIPTION:Allan Reuter Centre starting at 6:45 for social\, 7pm start. \nSpeaker: \n 
URL:https://gardenontario.org/event/october-monthly-meeting/2030-05-01/
LOCATION:Allan Reuter Centre\, 507 King St East\, Cambridge\, N3H 3N4
CATEGORIES:Society Meeting
ORGANIZER;CN="Preston Horticultural Society":MAILTO:fmgillespie@gmail.com
GEO:43.39729;-80.3605552
X-APPLE-STRUCTURED-LOCATION;VALUE=URI;X-ADDRESS=Allan Reuter Centre 507 King St East Cambridge N3H 3N4;X-APPLE-RADIUS=500;X-TITLE=507 King St East:geo:-80.3605552,43.39729
END:VEVENT
BEGIN:VEVENT
DTSTART;TZID=America/Toronto:20300605T184500
DTEND;TZID=America/Toronto:20300605T200000
DTSTAMP:20260420T014921
CREATED:20250917T142453Z
LAST-MODIFIED:20250917T142453Z
UID:10001574-1906915500-1906920000@gardenontario.org
SUMMARY:October Monthly Meeting
DESCRIPTION:Allan Reuter Centre starting at 6:45 for social\, 7pm start. \nSpeaker: \n 
URL:https://gardenontario.org/event/october-monthly-meeting/2030-06-05/
LOCATION:Allan Reuter Centre\, 507 King St East\, Cambridge\, N3H 3N4
CATEGORIES:Society Meeting
ORGANIZER;CN="Preston Horticultural Society":MAILTO:fmgillespie@gmail.com
GEO:43.39729;-80.3605552
X-APPLE-STRUCTURED-LOCATION;VALUE=URI;X-ADDRESS=Allan Reuter Centre 507 King St East Cambridge N3H 3N4;X-APPLE-RADIUS=500;X-TITLE=507 King St East:geo:-80.3605552,43.39729
END:VEVENT
BEGIN:VEVENT
DTSTART;TZID=America/Toronto:20300703T184500
DTEND;TZID=America/Toronto:20300703T200000
DTSTAMP:20260420T014921
CREATED:20250917T142453Z
LAST-MODIFIED:20250917T142453Z
UID:10001575-1909334700-1909339200@gardenontario.org
SUMMARY:October Monthly Meeting
DESCRIPTION:Allan Reuter Centre starting at 6:45 for social\, 7pm start. \nSpeaker: \n 
URL:https://gardenontario.org/event/october-monthly-meeting/2030-07-03/
LOCATION:Allan Reuter Centre\, 507 King St East\, Cambridge\, N3H 3N4
CATEGORIES:Society Meeting
ORGANIZER;CN="Preston Horticultural Society":MAILTO:fmgillespie@gmail.com
GEO:43.39729;-80.3605552
X-APPLE-STRUCTURED-LOCATION;VALUE=URI;X-ADDRESS=Allan Reuter Centre 507 King St East Cambridge N3H 3N4;X-APPLE-RADIUS=500;X-TITLE=507 King St East:geo:-80.3605552,43.39729
END:VEVENT
BEGIN:VEVENT
DTSTART;TZID=America/Toronto:20300807T184500
DTEND;TZID=America/Toronto:20300807T200000
DTSTAMP:20260420T014921
CREATED:20250917T142453Z
LAST-MODIFIED:20250917T142453Z
UID:10001576-1912358700-1912363200@gardenontario.org
SUMMARY:October Monthly Meeting
DESCRIPTION:Allan Reuter Centre starting at 6:45 for social\, 7pm start. \nSpeaker: \n 
URL:https://gardenontario.org/event/october-monthly-meeting/2030-08-07/
LOCATION:Allan Reuter Centre\, 507 King St East\, Cambridge\, N3H 3N4
CATEGORIES:Society Meeting
ORGANIZER;CN="Preston Horticultural Society":MAILTO:fmgillespie@gmail.com
GEO:43.39729;-80.3605552
X-APPLE-STRUCTURED-LOCATION;VALUE=URI;X-ADDRESS=Allan Reuter Centre 507 King St East Cambridge N3H 3N4;X-APPLE-RADIUS=500;X-TITLE=507 King St East:geo:-80.3605552,43.39729
END:VEVENT
BEGIN:VEVENT
DTSTART;TZID=America/Toronto:20300904T184500
DTEND;TZID=America/Toronto:20300904T200000
DTSTAMP:20260420T014921
CREATED:20250917T142453Z
LAST-MODIFIED:20250917T142453Z
UID:10001577-1914777900-1914782400@gardenontario.org
SUMMARY:October Monthly Meeting
DESCRIPTION:Allan Reuter Centre starting at 6:45 for social\, 7pm start. \nSpeaker: \n 
URL:https://gardenontario.org/event/october-monthly-meeting/2030-09-04/
LOCATION:Allan Reuter Centre\, 507 King St East\, Cambridge\, N3H 3N4
CATEGORIES:Society Meeting
ORGANIZER;CN="Preston Horticultural Society":MAILTO:fmgillespie@gmail.com
GEO:43.39729;-80.3605552
X-APPLE-STRUCTURED-LOCATION;VALUE=URI;X-ADDRESS=Allan Reuter Centre 507 King St East Cambridge N3H 3N4;X-APPLE-RADIUS=500;X-TITLE=507 King St East:geo:-80.3605552,43.39729
END:VEVENT
END:VCALENDAR