BEGIN:VCALENDAR
VERSION:2.0
PRODID:-//GardenOntario - ECPv6.15.20//NONSGML v1.0//EN
CALSCALE:GREGORIAN
METHOD:PUBLISH
X-ORIGINAL-URL:https://gardenontario.org
X-WR-CALDESC:Events for GardenOntario
REFRESH-INTERVAL;VALUE=DURATION:PT1H
X-Robots-Tag:noindex
X-PUBLISHED-TTL:PT1H
BEGIN:VTIMEZONE
TZID:America/Toronto
BEGIN:DAYLIGHT
TZOFFSETFROM:-0500
TZOFFSETTO:-0400
TZNAME:EDT
DTSTART:20250309T070000
END:DAYLIGHT
BEGIN:STANDARD
TZOFFSETFROM:-0400
TZOFFSETTO:-0500
TZNAME:EST
DTSTART:20251102T060000
END:STANDARD
BEGIN:DAYLIGHT
TZOFFSETFROM:-0500
TZOFFSETTO:-0400
TZNAME:EDT
DTSTART:20260308T070000
END:DAYLIGHT
BEGIN:STANDARD
TZOFFSETFROM:-0400
TZOFFSETTO:-0500
TZNAME:EST
DTSTART:20261101T060000
END:STANDARD
BEGIN:DAYLIGHT
TZOFFSETFROM:-0500
TZOFFSETTO:-0400
TZNAME:EDT
DTSTART:20270314T070000
END:DAYLIGHT
BEGIN:STANDARD
TZOFFSETFROM:-0400
TZOFFSETTO:-0500
TZNAME:EST
DTSTART:20271107T060000
END:STANDARD
END:VTIMEZONE
BEGIN:VEVENT
DTSTART;TZID=America/Toronto:20260417T100000
DTEND;TZID=America/Toronto:20260930T110000
DTSTAMP:20260421T194202
CREATED:20260417T112535Z
LAST-MODIFIED:20260417T112535Z
UID:10001839-1776420000-1790766000@gardenontario.org
SUMMARY:Community Civic Improvements
DESCRIPTION:Volunteer to help with Williamstown and Lancaster community civic improvements. \nHelp with planting\, weeding\, watering in public places to beautify our towns. Williamstown bridge boxes\, Glen Gordon Park\, Village entrance signs\, Lancaster library garden and children’s garden at the Nor’ Westerner’s Museum… Contact Mary Regan 613-931-3285 to participate
URL:https://gardenontario.org/event/community-civic-improvements/
CATEGORIES:Community Event
END:VEVENT
BEGIN:VEVENT
DTSTART;TZID=America/Toronto:20260421T190000
DTEND;TZID=America/Toronto:20260421T203000
DTSTAMP:20260421T194202
CREATED:20260331T181010Z
LAST-MODIFIED:20260331T181956Z
UID:10001806-1776798000-1776803400@gardenontario.org
SUMMARY:Picture Perfect\, Designing a Perennial Garden with Carole Ditomaso
DESCRIPTION:How to take a blank canvas and turn it into a perennial garden that speaks to you.
URL:https://gardenontario.org/event/climate-wise-gardening-with-deborah-pearson/
LOCATION:Mount Albert Community Centre\, 53 Main Street\, Mount Albert\, L0G 1M0\, Canada
ATTACH;FMTTYPE=image/png:https://gardenontario.org/wp-content/uploads/Final-logo-for-2025-1-6.png
ORGANIZER;CN="East Gwillimbury Gardeners":MAILTO:eggardeners@gmail.com
GEO:44.1350376;-79.3109495
X-APPLE-STRUCTURED-LOCATION;VALUE=URI;X-ADDRESS=Mount Albert Community Centre 53 Main Street Mount Albert L0G 1M0 Canada;X-APPLE-RADIUS=500;X-TITLE=53 Main Street:geo:-79.3109495,44.1350376
END:VEVENT
BEGIN:VEVENT
DTSTART;TZID=America/Toronto:20260421T190000
DTEND;TZID=America/Toronto:20260421T203000
DTSTAMP:20260421T194202
CREATED:20260414T141348Z
LAST-MODIFIED:20260414T141348Z
UID:10001831-1776798000-1776803400@gardenontario.org
SUMMARY:Members Meeting
DESCRIPTION:Our speaker will be Alberto Suarez Esteban\, originally from Spain. \nAlberto operates Nature’s Apprentice Farm\, a small organic farm located in Pakenham\, Ontario. \nHe is very interesting & informative\, & hopes to inspire us to become great stewards of our planet. \nPleas join us. Guests pay only $3.00.
URL:https://gardenontario.org/event/members-meeting/
LOCATION:Smiths Falls Legion\, 7 Main St E\, Smiths Falls\, K7A 1A1
ATTACH;FMTTYPE=image/jpeg:https://gardenontario.org/wp-content/uploads/Smiths-Falls-Logo.jpg
GEO:44.8992947;-76.0199717
X-APPLE-STRUCTURED-LOCATION;VALUE=URI;X-ADDRESS=Smiths Falls Legion 7 Main St E Smiths Falls K7A 1A1;X-APPLE-RADIUS=500;X-TITLE=7 Main St E:geo:-76.0199717,44.8992947
END:VEVENT
BEGIN:VEVENT
DTSTART;VALUE=DATE:20260422
DTEND;VALUE=DATE:20260423
DTSTAMP:20260421T194202
CREATED:20251231T005737Z
LAST-MODIFIED:20251231T005737Z
UID:10001629-1776816000-1776902399@gardenontario.org
SUMMARY:GCO Judges Council Speaker and workshop
DESCRIPTION:Hitomi Gilliam AlFD\, a Creative Force\, a Japanese Canadian Flower Artist.\nShe has guest-designed and taught extensively around the World.\nJoin a rare opportunity to share her passion and floral adventures.\nCatch her vision of bringing two worlds together\,\nSTRUCTURAL MECHANICS and the ARTISTIC SPIRIT.
URL:https://gardenontario.org/event/gco-judges-council-speaker-and-workshop/
LOCATION:Toronto Botanical Garden\, 777 Lawrence Avenue East\, Toronto\, M3C 1P2
ATTACH;FMTTYPE=image/png:https://gardenontario.org/wp-content/uploads/Hitomi.png
ORGANIZER;CN="GCO Judges Council":MAILTO:crwf@sympatico.ca
GEO:43.7341346;-79.3605338
X-APPLE-STRUCTURED-LOCATION;VALUE=URI;X-ADDRESS=Toronto Botanical Garden 777 Lawrence Avenue East Toronto M3C 1P2;X-APPLE-RADIUS=500;X-TITLE=777 Lawrence Avenue East:geo:-79.3605338,43.7341346
END:VEVENT
BEGIN:VEVENT
DTSTART;TZID=America/Toronto:20260422T170000
DTEND;TZID=America/Toronto:20260422T190000
DTSTAMP:20260421T194202
CREATED:20260407T204312Z
LAST-MODIFIED:20260407T210117Z
UID:10001817-1776877200-1776884400@gardenontario.org
SUMMARY:35th Anniversary High Tea
DESCRIPTION:On behalf of the GB&AHS\, and our President\, Rita DoCanto\, come join us on April 22nd\, earth day at 5pm\, at the Grand Bend Legion on Ontario Street for a wonderful selection of refreshments and delectables. \nCucumber sandwiches\, smoked salmon\, scones and sweet treats\, along with an amazing assortment of teas.  For added excitement\, there will be both Share the Wealth and a Prize Draw. \nRegister by April 17th at gbahortsociety@gmail.com
URL:https://gardenontario.org/event/35th-anniversary-high-tea/2026-04-22/
LOCATION:Grand Bend Legion Branch 498\, 40 Municipal Rd\, Grand Bend\, N0M1T0
CATEGORIES:Society Meeting
ATTACH;FMTTYPE=image/png:https://gardenontario.org/wp-content/uploads/Water-Colour-Tea-Party-Invite-2-scaled.png
ORGANIZER;CN="Grand Bend &amp%3B Area Horticultural Society":MAILTO:gbahortsociety@gmail.com
GEO:43.3120217;-81.7542908
X-APPLE-STRUCTURED-LOCATION;VALUE=URI;X-ADDRESS=Grand Bend Legion Branch 498 40 Municipal Rd Grand Bend N0M1T0;X-APPLE-RADIUS=500;X-TITLE=40 Municipal Rd:geo:-81.7542908,43.3120217
END:VEVENT
BEGIN:VEVENT
DTSTART;TZID=America/Toronto:20260422T190000
DTEND;TZID=America/Toronto:20260422T210000
DTSTAMP:20260421T194202
CREATED:20260119T161307Z
LAST-MODIFIED:20260131T001529Z
UID:10001671-1776884400-1776891600@gardenontario.org
SUMMARY:Growing Roses Made Easy
DESCRIPTION:Growing Roses Made Easy with Edna Caldwell and Joanne Rachfalowski
URL:https://gardenontario.org/event/open-meeting-2/
LOCATION:Elmvale Legion\, 7 John Street\, Elmvale
CATEGORIES:Society Meeting
GEO:44.5812852;-79.8652903
X-APPLE-STRUCTURED-LOCATION;VALUE=URI;X-ADDRESS=Elmvale Legion 7 John Street Elmvale;X-APPLE-RADIUS=500;X-TITLE=7 John Street:geo:-79.8652903,44.5812852
END:VEVENT
BEGIN:VEVENT
DTSTART;TZID=America/Toronto:20260422T190000
DTEND;TZID=America/Toronto:20260422T213000
DTSTAMP:20260421T194202
CREATED:20260216T213102Z
LAST-MODIFIED:20260218T175450Z
UID:10001758-1776884400-1776893400@gardenontario.org
SUMMARY:The Garden Party
DESCRIPTION:https://www.gardenpartytoronto.com/about-the-garden \nChristine Hughes and Louis Gris\, from The Garden Party\, will speak about the giving garden\, which is dedicated to sharing healthy food with local people in need. It is sustained by a diverse group of volunteers committed to cultivating and nurturing community\, stewardship and learning through gardening. It is located in the west end of Toronto\, near Bloor West and Indian Road. \n 
URL:https://gardenontario.org/event/the-garden-party/
LOCATION:Swansea Town Hall\, 95 Lavinia Avenue\, Toronto\, M6S 3H9
CATEGORIES:Society Meeting
ORGANIZER;CN="Swansea Horticultural Society":MAILTO:swanseahorticulturalsociety@gmail.com
GEO:43.647655;-79.4778149
X-APPLE-STRUCTURED-LOCATION;VALUE=URI;X-ADDRESS=Swansea Town Hall 95 Lavinia Avenue Toronto M6S 3H9;X-APPLE-RADIUS=500;X-TITLE=95 Lavinia Avenue:geo:-79.4778149,43.647655
END:VEVENT
BEGIN:VEVENT
DTSTART;TZID=America/Toronto:20260423T193000
DTEND;TZID=America/Toronto:20260423T213000
DTSTAMP:20260421T194202
CREATED:20260214T192539Z
LAST-MODIFIED:20260214T193055Z
UID:10001750-1776972600-1776979800@gardenontario.org
SUMMARY:April Meeting / Orono Horticultural Society
DESCRIPTION:Guest speaker: Lindsay Vasseur on ‘Starting Your Own Cutting Garden’ \nCelebrating our 105th Anniversary!
URL:https://gardenontario.org/event/april-meeting-orono-horticultural-society-2/
LOCATION:200 Station Street\, Orono – Durham County Senior’s Complex\, 200 Station Street\, Orono\, L0B 1M0
CATEGORIES:Society Meeting
ATTACH;FMTTYPE=image/jpeg:https://gardenontario.org/wp-content/uploads/Orono-Horticultural-Society-logo-1.jpeg
ORGANIZER;CN="Orono Horticultural Society":MAILTO:oronohortsociety@gmail.com
GEO:43.9757;-78.62029
X-APPLE-STRUCTURED-LOCATION;VALUE=URI;X-ADDRESS=200 Station Street Orono – Durham County Senior’s Complex 200 Station Street Orono L0B 1M0;X-APPLE-RADIUS=500;X-TITLE=200 Station Street:geo:-78.62029,43.9757
END:VEVENT
BEGIN:VEVENT
DTSTART;TZID=America/Toronto:20260424T190000
DTEND;TZID=America/Toronto:20260424T203000
DTSTAMP:20260421T194202
CREATED:20260325T035301Z
LAST-MODIFIED:20260325T035301Z
UID:10001800-1777057200-1777062600@gardenontario.org
SUMMARY:Earth Day 2026 online celebration
DESCRIPTION:We’re delighted to invite you to a special Earth Day celebration\, presented by the Ontario Horticultural Association in collaboration with Climate Legacy. This year’s event brings together two powerful voices for our planet—Mark Cullen and Betty Plewes—for an evening of inspiration\, reflection\, and action. \nFor more information\, please see the Earth Day celebration page
URL:https://gardenontario.org/event/earth-day-2026-online-celebration/
LOCATION:Online via Webex
END:VEVENT
BEGIN:VEVENT
DTSTART;TZID=America/Toronto:20260425T103000
DTEND;TZID=America/Toronto:20260425T130000
DTSTAMP:20260421T194202
CREATED:20260417T111106Z
LAST-MODIFIED:20260417T111106Z
UID:10001837-1777113000-1777122000@gardenontario.org
SUMMARY:Ask a Gardener About Seed Starting
DESCRIPTION:Williamstown Green Thumbs is at the Lancaster library to give away seeds and offer gardening advice.
URL:https://gardenontario.org/event/ask-a-gardener-about-seed-starting/
LOCATION:Lancaster Library 195 Military Road Lancaster\, Ontario K0C 1N0 Phone: (613) 347-2311 Email: lancasterlib@sdglibrary.ca\, 195 Military Road\, Lancaster\,\, K0C 1N0\, Canada
END:VEVENT
BEGIN:VEVENT
DTSTART;TZID=America/Toronto:20260427T193000
DTEND;TZID=America/Toronto:20260427T213000
DTSTAMP:20260421T194202
CREATED:20260314T213714Z
LAST-MODIFIED:20260315T235209Z
UID:10001789-1777318200-1777325400@gardenontario.org
SUMMARY:CHS April Meeting: Mushrooms~Wild & Wonderful
DESCRIPTION:Join us for a interesting evening on the topic of ‘Mushrooms – Wild & Wonderful’ with Julia Tchervova and John Caswell. Mushrooms are far more than just food. They are ecological engineers\, chemical innovators\, and one of the most misunderstood kingdoms of life. Let’s explore their hidden world together. John and Julia would like to share not only the art and science of mushroom foraging\, but also the fascinating world of fungi — organisms that form vast “wood wide web” networks\, support plant and animal life\, produce powerful medicines\, and even help restore damaged environments.\n\n\nJulia’s journey into the world of mushrooms began when she was six years old\, walking through the forests with her grandfather\, who was an avid forager. What started as childhood curiosity grew into a lifelong passion for fungi — from identifying wild edible species to understanding the incredible underground networks that connect entire ecosystems.\n\nWhen Julia met John\, he expressed an interest in wild mushrooms. Julia began mentoring him\, and he took the initiative getting a guidebook\, venturing into the woods\, and learning to confidently identify his findings. They both have a deep passion for the woods\, and there’s nothing better than exploring the forest and discovering wild edible and medicinal mushrooms.\nSince 2018\, they started collecting mushrooms for sale and selling at numerous farmer’s markets. For 5 years now they lead practical classes – wild mushrooms foray\, where they share their knowledge with their students on how to identify mushrooms\, how to search for them\, introducing the students to the unseeing world of fungi that is right under our feet.\nBring your questions and learn more about the wonderful world of fungi!\n\n\nAlso this evening starts the flower show season. All members are invited to bring in their garden treasures to wow the judge for the April Flower Show! All entries to be in place by 7pm for the start of judging.Doors open at 6:30pm.
URL:https://gardenontario.org/event/chs-april-meeting-mushroomswild-wonderful/
LOCATION:Cannington Baptist Church\, 60 Cameron St. W.\, Cannington\, L0E 1E0
CATEGORIES:Flower & Vegetable Show,Guest Speaker,Society Meeting,Youth Event
ATTACH;FMTTYPE=image/jpeg:https://gardenontario.org/wp-content/uploads/April-poster-cropped.jpg
ORGANIZER;CN="Cannington Horticultural Society":MAILTO:info@canningtonhorticulturalsociety.org
GEO:44.3494655;-79.0409782
X-APPLE-STRUCTURED-LOCATION;VALUE=URI;X-ADDRESS=Cannington Baptist Church 60 Cameron St. W. Cannington L0E 1E0;X-APPLE-RADIUS=500;X-TITLE=60 Cameron St. W.:geo:-79.0409782,44.3494655
END:VEVENT
BEGIN:VEVENT
DTSTART;TZID=America/Toronto:20260428T183000
DTEND;TZID=America/Toronto:20260428T213000
DTSTAMP:20260421T194202
CREATED:20260109T193559Z
LAST-MODIFIED:20260109T193559Z
UID:10001654-1777401000-1777411800@gardenontario.org
SUMMARY:Sharp My Knife
DESCRIPTION:Sharp My Knife from Rockwood will be coming to Dublin Street United Church to sharpen your secateurs and other garden tools. \nYou tools will be sharpened while you enjoy hearing Dr. Andrew Peregrin’s talk  and you can pick up your sharp tools after the meeting.  \nPayment is cash only 
URL:https://gardenontario.org/event/sharp-my-knife-2/
LOCATION:Dublin Street United Church\, 68 Suffolk Street\, West\, Guelph\, N1H2J2
CATEGORIES:Workshops
ATTACH;FMTTYPE=image/png:https://gardenontario.org/wp-content/uploads/SMK_LOGO_Websml-2-1.png
ORGANIZER;CN="Guelph Horticultural Society":MAILTO:guelphhort@gmail.com
GEO:43.5461992;-80.2563472
X-APPLE-STRUCTURED-LOCATION;VALUE=URI;X-ADDRESS=Dublin Street United Church 68 Suffolk Street West Guelph N1H2J2;X-APPLE-RADIUS=500;X-TITLE=68 Suffolk Street\, West:geo:-80.2563472,43.5461992
END:VEVENT
BEGIN:VEVENT
DTSTART;TZID=America/Toronto:20260428T190000
DTEND;TZID=America/Toronto:20260428T203000
DTSTAMP:20260421T194202
CREATED:20260310T144217Z
LAST-MODIFIED:20260310T144217Z
UID:10001783-1777402800-1777408200@gardenontario.org
SUMMARY:Speaker Series - Sean Smith
DESCRIPTION:Join Roselands and Sean Smith of CrookedFarmz for an enlightening discussion on Soil Health and Microbial Life.
URL:https://gardenontario.org/event/speaker-series-sean-smith/
LOCATION:North Runnymede United Church\, Toronto\, 33 Pritchard Ave\, Toronto\, M6N 1T4
ATTACH;FMTTYPE=image/jpeg:https://gardenontario.org/wp-content/uploads/m4.April-28-CrookedFarmz-FINAL-scaled.jpg
ORGANIZER;CN="Roselands Horticultural Society":MAILTO:roselands1926@gmail.com
GEO:43.6701854;-79.4888876
X-APPLE-STRUCTURED-LOCATION;VALUE=URI;X-ADDRESS=North Runnymede United Church Toronto 33 Pritchard Ave Toronto M6N 1T4;X-APPLE-RADIUS=500;X-TITLE=33 Pritchard Ave:geo:-79.4888876,43.6701854
END:VEVENT
BEGIN:VEVENT
DTSTART;TZID=America/Toronto:20260428T190000
DTEND;TZID=America/Toronto:20260428T210000
DTSTAMP:20260421T194202
CREATED:20260330T132055Z
LAST-MODIFIED:20260330T132055Z
UID:10001804-1777402800-1777410000@gardenontario.org
SUMMARY:A Team Approach to Protecting Canada's Biosecurity:  how a detector dog and his handler work together on this important  issue
DESCRIPTION:In-person presentation by Matthieu Morin\, Food\, Plant and Animal K9 Officer\, Canada Border Services Agency (CBSA)  \nJoin us for a fascinating behind-the-scenes look at how the Canada Border Services Agency (CBSA) works to protect Canada’s environment and agriculture.  In this unique presentation\, a CBSA officer– partnered with a highly trained detector dog– will demonstrate how they work together to prevent the introduction of invasive pests\, plant diseases and prohibited soil or plant materials at our borders.  Learn about the critical role these canine teams play in protecting our gardens\, farms and ecosystems from biosecurity threats and discover what you can do to support this vital mission.  \nMatt Morin\, an experienced Food\, Plant and Animal K9 Officer with expertise in the subject of importation of food and plants\, has over 15 years experience sharing his knowledge with various audiences.  Over these past several years\, he has delivered  demonstrations and educational talks to a wide range of audiences\, including the public at universities\, high schools\, fairs and other community events as well as internal stakeholders at CBSA. His experience and engaging presentation style have helped raise awareness about the importance of biosecurity and the role of border services in protecting Canada’s agriculture and environment. 
URL:https://gardenontario.org/event/a-team-approach-to-protecting-canadas-biosecurity-how-a-detector-dog-and-his-handler-work-together-on-this-important-issue/
LOCATION:St Mark’s Anglican Church\, Ottawa\, 1606 Fisher Ave\, Ottawa\, K2C 1X6
CATEGORIES:Society Meeting
ATTACH;FMTTYPE=image/jpeg:https://gardenontario.org/wp-content/uploads/April2026-Mathieu-Morin-CBSA.jpeg
ORGANIZER;CN="Ottawa Horticultural Society":MAILTO:info@ottawahort.org
GEO:45.3596176;-75.7102211
X-APPLE-STRUCTURED-LOCATION;VALUE=URI;X-ADDRESS=St Mark’s Anglican Church Ottawa 1606 Fisher Ave Ottawa K2C 1X6;X-APPLE-RADIUS=500;X-TITLE=1606 Fisher Ave:geo:-75.7102211,45.3596176
END:VEVENT
BEGIN:VEVENT
DTSTART;TZID=America/Toronto:20260428T190000
DTEND;TZID=America/Toronto:20260428T213000
DTSTAMP:20260421T194202
CREATED:20251230T153056Z
LAST-MODIFIED:20251230T155605Z
UID:10001621-1777402800-1777411800@gardenontario.org
SUMMARY:Schomberg Horticultural Society – Kristen Martyn Backyard Birds
DESCRIPTION:“20 Things You Didn’t Know About Backyard Birds” by Kristen Martyn. Kristen is a Birder and Naturalist whose passion for wildlife led her to pursue a Bachelor of Science Degree in Zoology as well as a post-graduate program in Ecotourism and Adventure Tourism Management.  Kristen is an avid birdwatcher\, who has birded all over North America\, the Caribbean\, Central and South America\, Australia and Southern Africa. She has spent countless hours leading birding tours\, birding in the field and taking birding trips. It will be a delight to get her insights into the birds we see in our own yards.   https://kristenmartyn.com/ \nDoors open at 7pm  – presentation starts at 7:30pm \nFree to members\, $ 5.00 at the door for guests – refreshments\, flower show\, door prizes \n 
URL:https://gardenontario.org/event/schomberg-horticultural-society-kristen-martyn-backyard-birds/
LOCATION:Schomberg CommunityHall\, 325 Main Street\, Schomberg\, L0G1T0
CATEGORIES:Community Event,District,Flower & Vegetable Show,Grow With Us!,Guest Speaker,Society Meeting,Workshops
ATTACH;FMTTYPE=image/jpeg:https://gardenontario.org/wp-content/uploads/Kristen-Martyn-april-2026.jpg
ORGANIZER;CN="Schomberg Horticultural Society":MAILTO:schomberghortsociety@gmail.com
GEO:44.0039021;-79.6844574
X-APPLE-STRUCTURED-LOCATION;VALUE=URI;X-ADDRESS=Schomberg CommunityHall 325 Main Street Schomberg L0G1T0;X-APPLE-RADIUS=500;X-TITLE=325 Main Street:geo:-79.6844574,44.0039021
END:VEVENT
BEGIN:VEVENT
DTSTART;TZID=America/Toronto:20260428T193000
DTEND;TZID=America/Toronto:20260428T210000
DTSTAMP:20260421T194202
CREATED:20260303T163710Z
LAST-MODIFIED:20260303T163710Z
UID:10001777-1777404600-1777410000@gardenontario.org
SUMMARY:BRAMPTON HORTICULTURAL SOCIETY April 2026 Speaker Event
DESCRIPTION:Speaker: Charli Dobbin\nTopic: Roses: What\, Why\, How\, & When?
URL:https://gardenontario.org/event/brampton-horticultural-society-april-2026-speaker-event/
LOCATION:Flower City Lawn Bowling Facility\, 8910 McLaughlin Rd S\, Brampton\, L6Y 4Z5
ATTACH;FMTTYPE=image/jpeg:https://gardenontario.org/wp-content/uploads/Charlie-Dobbin-1.jpg
ORGANIZER;CN="Brampton Horticultural Society":MAILTO:bramhort@hotmail.com
GEO:43.6673718;-79.7587894
X-APPLE-STRUCTURED-LOCATION;VALUE=URI;X-ADDRESS=Flower City Lawn Bowling Facility 8910 McLaughlin Rd S Brampton L6Y 4Z5;X-APPLE-RADIUS=500;X-TITLE=8910 McLaughlin Rd S:geo:-79.7587894,43.6673718
END:VEVENT
BEGIN:VEVENT
DTSTART;TZID=America/Toronto:20260428T193000
DTEND;TZID=America/Toronto:20260428T213000
DTSTAMP:20260421T194202
CREATED:20260109T194702Z
LAST-MODIFIED:20260114T014650Z
UID:10001655-1777404600-1777411800@gardenontario.org
SUMMARY:General Meeting\, Mini Flower Show and Guest Speaker Dr. Andrew Peregrine
DESCRIPTION:General meeting and Mini flow Show followed by our quest speaker Dr. Andrew Peregrine talk entitled ” Lyme Disease: What is Happening in Ontario.” \nThis talk will review the ticks that can be found on dogs and people in Ontario\, identification and strategies to reduce the risk of infection \nNote – Only Guelph Horticultural Society members are eligible to enter the flower shows.  \n 
URL:https://gardenontario.org/event/general-meeting-mini-flower-show-and-guest-speaker-dr-andrew-peregrine/
LOCATION:Dublin Street United Church\, 68 Suffolk Street\, West\, Guelph\, N1H2J2
CATEGORIES:Flower & Vegetable Show,Guest Speaker
ATTACH;FMTTYPE=image/jpeg:https://gardenontario.org/wp-content/uploads/Image-2026-01-07-at-6.51-PM.jpeg
ORGANIZER;CN="Guelph Horticultural Society":MAILTO:guelphhort@gmail.com
GEO:43.5461992;-80.2563472
X-APPLE-STRUCTURED-LOCATION;VALUE=URI;X-ADDRESS=Dublin Street United Church 68 Suffolk Street West Guelph N1H2J2;X-APPLE-RADIUS=500;X-TITLE=68 Suffolk Street\, West:geo:-80.2563472,43.5461992
END:VEVENT
BEGIN:VEVENT
DTSTART;TZID=America/Toronto:20260430T170000
DTEND;TZID=America/Toronto:20260430T183000
DTSTAMP:20260421T194202
CREATED:20260417T111911Z
LAST-MODIFIED:20260417T111911Z
UID:10001838-1777568400-1777573800@gardenontario.org
SUMMARY:Walk About Marlin Orchards
DESCRIPTION:Hosted by Martintown Hort Society. Where we get a tour by the owners on what is available \, new and trendy in the garden center.
URL:https://gardenontario.org/event/walk-about-marlin-orchards/
LOCATION:Marlin Orchards\, 6864 Orchard Road\,\, South Glengarry\, Ontario\, K6H 5R5
CATEGORIES:Field Trip
END:VEVENT
END:VCALENDAR