BEGIN:VCALENDAR
VERSION:2.0
PRODID:-//GardenOntario - ECPv6.15.20//NONSGML v1.0//EN
CALSCALE:GREGORIAN
METHOD:PUBLISH
X-ORIGINAL-URL:https://gardenontario.org
X-WR-CALDESC:Events for GardenOntario
REFRESH-INTERVAL;VALUE=DURATION:PT1H
X-Robots-Tag:noindex
X-PUBLISHED-TTL:PT1H
BEGIN:VTIMEZONE
TZID:America/Toronto
BEGIN:DAYLIGHT
TZOFFSETFROM:-0500
TZOFFSETTO:-0400
TZNAME:EDT
DTSTART:20250309T070000
END:DAYLIGHT
BEGIN:STANDARD
TZOFFSETFROM:-0400
TZOFFSETTO:-0500
TZNAME:EST
DTSTART:20251102T060000
END:STANDARD
BEGIN:DAYLIGHT
TZOFFSETFROM:-0500
TZOFFSETTO:-0400
TZNAME:EDT
DTSTART:20260308T070000
END:DAYLIGHT
BEGIN:STANDARD
TZOFFSETFROM:-0400
TZOFFSETTO:-0500
TZNAME:EST
DTSTART:20261101T060000
END:STANDARD
BEGIN:DAYLIGHT
TZOFFSETFROM:-0500
TZOFFSETTO:-0400
TZNAME:EDT
DTSTART:20270314T070000
END:DAYLIGHT
BEGIN:STANDARD
TZOFFSETFROM:-0400
TZOFFSETTO:-0500
TZNAME:EST
DTSTART:20271107T060000
END:STANDARD
END:VTIMEZONE
BEGIN:VEVENT
DTSTART;TZID=America/Toronto:20260509T090000
DTEND;TZID=America/Toronto:20260509T120000
DTSTAMP:20260425T162627
CREATED:20260214T195005Z
LAST-MODIFIED:20260214T195005Z
UID:10001755-1778317200-1778328000@gardenontario.org
SUMMARY:May Fundraising Plant Sale / Orono Horticultural Society
DESCRIPTION:Plants and veggies and herbs and whatever people donate!
URL:https://gardenontario.org/event/may-fundraising-plant-sale-orono-horticultural-society/
LOCATION:61 Irwin Road\, Orono\,Ontario\, 61 Irwin Road\, Orono\, L0B1M0
CATEGORIES:Plant Sale
ATTACH;FMTTYPE=image/jpeg:https://gardenontario.org/wp-content/uploads/Orono-Horticultural-Society-logo-6.jpeg
ORGANIZER;CN="Orono Horticultural Society":MAILTO:oronohortsociety@gmail.com
GEO:43.9631263;-78.6128243
X-APPLE-STRUCTURED-LOCATION;VALUE=URI;X-ADDRESS=61 Irwin Road OronoOntario 61 Irwin Road Orono L0B1M0;X-APPLE-RADIUS=500;X-TITLE=61 Irwin Road:geo:-78.6128243,43.9631263
END:VEVENT
BEGIN:VEVENT
DTSTART;TZID=America/Toronto:20260511T190000
DTEND;TZID=America/Toronto:20260511T213000
DTSTAMP:20260425T162627
CREATED:20260413T202520Z
LAST-MODIFIED:20260424T152138Z
UID:10001830-1778526000-1778535000@gardenontario.org
SUMMARY:Georgina-Brock Garden Club – Plant Auction
DESCRIPTION:Georgina-Brock Garden Club Plant Auction with auctioneer Kevin McGuckin.  A fun and lively event and the main fundraiser for the Georgina-Brock Garden Club. Huge selection of perennials\, annuals\, seedlings\, veggies and more. Plants are generously donated by local garden centres and businesses as well as from member’s gardens. Everyone welcome.
URL:https://gardenontario.org/event/georgina-brock-garden-club-plant-auction-3/
LOCATION:Pefferlaw Lions Community Centre\, 38 Pete's Lane\, Pefferlaw\, L0E 1N0
CATEGORIES:Plant Sale
ORGANIZER;CN="Georgina-Brock Garden Club":MAILTO:gbgcinfonow@gmail.com
GEO:44.3105722;-79.1943974
X-APPLE-STRUCTURED-LOCATION;VALUE=URI;X-ADDRESS=Pefferlaw Lions Community Centre 38 Pete's Lane Pefferlaw L0E 1N0;X-APPLE-RADIUS=500;X-TITLE=38 Pete's Lane:geo:-79.1943974,44.3105722
END:VEVENT
BEGIN:VEVENT
DTSTART;TZID=America/Toronto:20260525T193000
DTEND;TZID=America/Toronto:20260525T213000
DTSTAMP:20260425T162627
CREATED:20260424T004628Z
LAST-MODIFIED:20260424T004628Z
UID:10001852-1779737400-1779744600@gardenontario.org
SUMMARY:CHS May Meeting: Harvesting Health & Healing: Horticultural Therapy
DESCRIPTION:What if working with plants could improve both physical and mental well-being? Join us on May 25 and learn about how caring for plants help people too. Sherry Dodson presents a topic close to her heart – ‘Harvesting Health & Healing: Horticultural Therapy’.  This presentation introduces horticultural therapy\, explores its goals\, and highlights who can benefit from this unique and effective therapeutic approach. \nSherry holds a Horticulturist Certificate from the University of Guelph and a Certificate in Horticultural Therapy from the Toronto Botanical Garden. She has been an active member of the Durham Master Gardeners since 2011.  Sherry is passionate about the natural connection between people and plants\, and she works to harness this bond to help individuals improve their well-being—whether it’s by enhancing mobility\, encouraging physical activity\, or fostering a more positive outlook on life. \nCome out and see how gardening may be more beneficial than just great tomatoes and nice flowers! \nMay Flower Show – all members are encouraged to join the fun and show off a few of their favourite garden blooms. Check out our Yearbook for complete class listing. All entries to be in place by 7pm in order to start the judging. \nDoors open at 6:30pm.
URL:https://gardenontario.org/event/chs-may-meeting-harvesting-health-healing-horticultural-therapy/
LOCATION:Cannington Baptist Church\, 60 Cameron St. W.\, Cannington\, L0E 1E0
CATEGORIES:Flower & Vegetable Show,Guest Speaker,Society Meeting
ATTACH;FMTTYPE=image/jpeg:https://gardenontario.org/wp-content/uploads/May-Meeting-poster-cropped-1.jpg
ORGANIZER;CN="Cannington Horticultural Society":MAILTO:info@canningtonhorticulturalsociety.org
GEO:44.3494655;-79.0409782
X-APPLE-STRUCTURED-LOCATION;VALUE=URI;X-ADDRESS=Cannington Baptist Church 60 Cameron St. W. Cannington L0E 1E0;X-APPLE-RADIUS=500;X-TITLE=60 Cameron St. W.:geo:-79.0409782,44.3494655
END:VEVENT
BEGIN:VEVENT
DTSTART;TZID=America/Toronto:20260528T193000
DTEND;TZID=America/Toronto:20260528T213000
DTSTAMP:20260425T162627
CREATED:20260214T192958Z
LAST-MODIFIED:20260214T192958Z
UID:10001751-1779996600-1780003800@gardenontario.org
SUMMARY:May Fundraising Meeting / Orono Horticultural Society
DESCRIPTION:Guest speaker: Paul LaPorte … Invasive Plant Management Plan \nPlus a Strawberry Social Fundraiser – payment at the door \n 
URL:https://gardenontario.org/event/may-fundraising-meeting-orono-horticultural-society/
LOCATION:Orono Town Hall\, 5315 Main Street\, Orono\, L0B 1M0
CATEGORIES:Society Meeting
ATTACH;FMTTYPE=image/jpeg:https://gardenontario.org/wp-content/uploads/Orono-Horticultural-Society-logo-2.jpeg
ORGANIZER;CN="Orono Horticultural Society":MAILTO:oronohortsociety@gmail.com
GEO:43.97673;-78.6169
X-APPLE-STRUCTURED-LOCATION;VALUE=URI;X-ADDRESS=Orono Town Hall 5315 Main Street Orono L0B 1M0;X-APPLE-RADIUS=500;X-TITLE=5315 Main Street:geo:-78.6169,43.97673
END:VEVENT
BEGIN:VEVENT
DTSTART;TZID=America/Toronto:20260530T090000
DTEND;TZID=America/Toronto:20260530T130000
DTSTAMP:20260425T162627
CREATED:20260424T010301Z
LAST-MODIFIED:20260424T010301Z
UID:10001853-1780131600-1780146000@gardenontario.org
SUMMARY:CHS Plant Sale
DESCRIPTION:A great opportunity to shop local! PLANT SALE!  A wonderful selection of great perennials\, natives\, annuals\, fruit stock\, houseplants\, seedlings and more – all grown by our fantastic gardening members. Come out and see what you can grow this summer – talk to fellow gardeners and find some new and unique plants to add to your own garden. Come early for best selection. Saturday May 30\, 2026. Gates open at 9am. Open till 1pm or sold out. \nWe welcome donations to the sale – please label your donations and bloom colour if possible. Potted plants may be dropped off the day prior to the sale at the same location or in the morning prior to start. No invasive plants will be accepted. \nBrock 2020 Gardens\, 199 Laidlaw St. N. Cannington. Look for Plant Sale signs! 
URL:https://gardenontario.org/event/chs-plant-sale-2/
LOCATION:Brock 2020 Gardens\, 199 Laidlaw Street North\, Cannington\, LOE 1E0
CATEGORIES:Plant Sale
ATTACH;FMTTYPE=image/jpeg:https://gardenontario.org/wp-content/uploads/Plant-Sale-May-30.jpg
ORGANIZER;CN="Cannington Horticultural Society":MAILTO:info@canningtonhorticulturalsociety.org
GEO:44.3514496;-79.0391574
X-APPLE-STRUCTURED-LOCATION;VALUE=URI;X-ADDRESS=Brock 2020 Gardens 199 Laidlaw Street North Cannington LOE 1E0;X-APPLE-RADIUS=500;X-TITLE=199 Laidlaw Street North:geo:-79.0391574,44.3514496
END:VEVENT
END:VCALENDAR