BEGIN:VCALENDAR
VERSION:2.0
PRODID:-//GardenOntario - ECPv6.15.20//NONSGML v1.0//EN
CALSCALE:GREGORIAN
METHOD:PUBLISH
X-ORIGINAL-URL:https://gardenontario.org
X-WR-CALDESC:Events for GardenOntario
REFRESH-INTERVAL;VALUE=DURATION:PT1H
X-Robots-Tag:noindex
X-PUBLISHED-TTL:PT1H
BEGIN:VTIMEZONE
TZID:America/Toronto
BEGIN:DAYLIGHT
TZOFFSETFROM:-0500
TZOFFSETTO:-0400
TZNAME:EDT
DTSTART:20250309T070000
END:DAYLIGHT
BEGIN:STANDARD
TZOFFSETFROM:-0400
TZOFFSETTO:-0500
TZNAME:EST
DTSTART:20251102T060000
END:STANDARD
BEGIN:DAYLIGHT
TZOFFSETFROM:-0500
TZOFFSETTO:-0400
TZNAME:EDT
DTSTART:20260308T070000
END:DAYLIGHT
BEGIN:STANDARD
TZOFFSETFROM:-0400
TZOFFSETTO:-0500
TZNAME:EST
DTSTART:20261101T060000
END:STANDARD
BEGIN:DAYLIGHT
TZOFFSETFROM:-0500
TZOFFSETTO:-0400
TZNAME:EDT
DTSTART:20270314T070000
END:DAYLIGHT
BEGIN:STANDARD
TZOFFSETFROM:-0400
TZOFFSETTO:-0500
TZNAME:EST
DTSTART:20271107T060000
END:STANDARD
END:VTIMEZONE
BEGIN:VEVENT
DTSTART;TZID=America/Toronto:20261126T180000
DTEND;TZID=America/Toronto:20261126T213000
DTSTAMP:20260425T163122
CREATED:20260214T194625Z
LAST-MODIFIED:20260214T194625Z
UID:10001754-1795716000-1795728600@gardenontario.org
SUMMARY:November AGM / Orono Horticultural Society
DESCRIPTION:Evening includes our Festive Dinner (limited seating)\, local entertainment\, the Christmas Flower Show and judged Photography Contest \nPhotography entries due Thursday\, November 19th by 12 pm (Noon)
URL:https://gardenontario.org/event/november-agm-orono-horticultural-society-2/
LOCATION:St. Saviour’s Anglican Church\, Mill Street\, Orono\, 23Mill Street\, Orono\, L0B 1M0
CATEGORIES:Flower & Vegetable Show,Society Meeting
ATTACH;FMTTYPE=image/jpeg:https://gardenontario.org/wp-content/uploads/Orono-Horticultural-Society-logo-5.jpeg
ORGANIZER;CN="Orono Horticultural Society":MAILTO:oronohortsociety@gmail.com
GEO:43.97722;-78.616802
X-APPLE-STRUCTURED-LOCATION;VALUE=URI;X-ADDRESS=St. Saviour’s Anglican Church Mill Street Orono 23Mill Street Orono L0B 1M0;X-APPLE-RADIUS=500;X-TITLE=23Mill Street:geo:-78.616802,43.97722
END:VEVENT
END:VCALENDAR