BEGIN:VCALENDAR
VERSION:2.0
PRODID:-//GardenOntario - ECPv6.15.20//NONSGML v1.0//EN
CALSCALE:GREGORIAN
METHOD:PUBLISH
X-WR-CALNAME:GardenOntario
X-ORIGINAL-URL:https://gardenontario.org
X-WR-CALDESC:Events for GardenOntario
REFRESH-INTERVAL;VALUE=DURATION:PT1H
X-Robots-Tag:noindex
X-PUBLISHED-TTL:PT1H
BEGIN:VTIMEZONE
TZID:America/Toronto
BEGIN:DAYLIGHT
TZOFFSETFROM:-0500
TZOFFSETTO:-0400
TZNAME:EDT
DTSTART:20240310T070000
END:DAYLIGHT
BEGIN:STANDARD
TZOFFSETFROM:-0400
TZOFFSETTO:-0500
TZNAME:EST
DTSTART:20241103T060000
END:STANDARD
BEGIN:DAYLIGHT
TZOFFSETFROM:-0500
TZOFFSETTO:-0400
TZNAME:EDT
DTSTART:20250309T070000
END:DAYLIGHT
BEGIN:STANDARD
TZOFFSETFROM:-0400
TZOFFSETTO:-0500
TZNAME:EST
DTSTART:20251102T060000
END:STANDARD
BEGIN:DAYLIGHT
TZOFFSETFROM:-0500
TZOFFSETTO:-0400
TZNAME:EDT
DTSTART:20260308T070000
END:DAYLIGHT
BEGIN:STANDARD
TZOFFSETFROM:-0400
TZOFFSETTO:-0500
TZNAME:EST
DTSTART:20261101T060000
END:STANDARD
BEGIN:DAYLIGHT
TZOFFSETFROM:-0500
TZOFFSETTO:-0400
TZNAME:EDT
DTSTART:20270314T070000
END:DAYLIGHT
BEGIN:STANDARD
TZOFFSETFROM:-0400
TZOFFSETTO:-0500
TZNAME:EST
DTSTART:20271107T060000
END:STANDARD
END:VTIMEZONE
BEGIN:VEVENT
DTSTART;TZID=America/Toronto:20250911T190000
DTEND;TZID=America/Toronto:20250911T203000
DTSTAMP:20260421T184455
CREATED:20250729T210835Z
LAST-MODIFIED:20250729T210835Z
UID:10001492-1757617200-1757622600@gardenontario.org
SUMMARY:Houseplants\, our constant garden
DESCRIPTION:Join us for the Leaside Garden Society Speaker Series!Speaker: Tena van Andel (Toronto Master Gardeners)\n\n\nTopic: Houseplants\, Our Constant Garden\n\n\nDate: Thursday September 11th\, 2025\n\n\nTime: 7:00 pm (refreshments at 6:30 pm)\n\n\nLocation: Leaside Library (165 McRae Drive)
URL:https://gardenontario.org/event/houseplants-our-constant-garden/
LOCATION:Leaside Library\, 165 McRae Drive\, Leaside\, M4G 1S8
CATEGORIES:Guest Speaker
ATTACH;FMTTYPE=image/jpeg:https://gardenontario.org/wp-content/uploads/tenavanandel.jpg
ORGANIZER;CN="Leaside Garden Society":MAILTO:leaside@gardenontario.org
GEO:43.7062979;-79.3677821
X-APPLE-STRUCTURED-LOCATION;VALUE=URI;X-ADDRESS=Leaside Library 165 McRae Drive Leaside M4G 1S8;X-APPLE-RADIUS=500;X-TITLE=165 McRae Drive:geo:-79.3677821,43.7062979
END:VEVENT
BEGIN:VEVENT
DTSTART;TZID=America/Toronto:20251009T190000
DTEND;TZID=America/Toronto:20251009T203000
DTSTAMP:20260421T184455
CREATED:20250828T180348Z
LAST-MODIFIED:20250909T173305Z
UID:10001509-1760036400-1760041800@gardenontario.org
SUMMARY:Love gardens\, Will travel
DESCRIPTION:Leaside Garden Society – Speaker Series presents: \nSpeaker: Pat Main \nTopic: Love gardens\, Will travel \nDate: Thursday\, October 9th\, 2025 \nTime: 7:00 pm (refreshments at 6:30 pm) \nLocation: Leaside Library (165 McRae Drive)
URL:https://gardenontario.org/event/love-gardens-will-travel/
LOCATION:Leaside Library\, 165 McRae Drive\, Leaside\, M4G 1S8
CATEGORIES:Guest Speaker
ATTACH;FMTTYPE=image/jpeg:https://gardenontario.org/wp-content/uploads/patmain.jpg
ORGANIZER;CN="Leaside Garden Society":MAILTO:leaside@gardenontario.org
GEO:43.7062979;-79.3677821
X-APPLE-STRUCTURED-LOCATION;VALUE=URI;X-ADDRESS=Leaside Library 165 McRae Drive Leaside M4G 1S8;X-APPLE-RADIUS=500;X-TITLE=165 McRae Drive:geo:-79.3677821,43.7062979
END:VEVENT
BEGIN:VEVENT
DTSTART;TZID=America/Toronto:20260212T190000
DTEND;TZID=America/Toronto:20260212T203000
DTSTAMP:20260421T184455
CREATED:20260109T205708Z
LAST-MODIFIED:20260109T205708Z
UID:10001659-1770922800-1770928200@gardenontario.org
SUMMARY:Allotment Gardens
DESCRIPTION:Speaker: Claudia and Duncan Wood \nTopic: Allotment Gardens \nDate: Thursday February 12th\, 2026 \nTime: 7:00 pm \nLocation: Via Zoom (link will be sent by email)
URL:https://gardenontario.org/event/allotment-gardens/
LOCATION:Online meeting
CATEGORIES:Community Event,Guest Speaker
ATTACH;FMTTYPE=image/jpeg:https://gardenontario.org/wp-content/uploads/claudiaduncanwoodad.jpg
ORGANIZER;CN="Leaside Garden Society":MAILTO:leaside@gardenontario.org
END:VEVENT
BEGIN:VEVENT
DTSTART;TZID=America/Toronto:20260312T190000
DTEND;TZID=America/Toronto:20260312T203000
DTSTAMP:20260421T184455
CREATED:20260210T195454Z
LAST-MODIFIED:20260210T195454Z
UID:10001747-1773342000-1773347400@gardenontario.org
SUMMARY:Bowery Project
DESCRIPTION:Speaker: Mary Anderson \nTopic: Bowery Project \nDate: Thursday March 12th\, 2026 \nTime: 7:00 pm \nLocation: Leaside Library – 165 McRae Drive
URL:https://gardenontario.org/event/bowery-project/
LOCATION:Farmtown Park\, Stirling ON\, 437 West Front Street\, Stirling\, K0K3E0
CATEGORIES:Community Event,Course/Seminar/Workshop,Guest Speaker
ATTACH;FMTTYPE=image/jpeg:https://gardenontario.org/wp-content/uploads/boweryprojectlgs.jpg
ORGANIZER;CN="Leaside Garden Society":MAILTO:leaside@gardenontario.org
GEO:43.2041616;-80.4041263
X-APPLE-STRUCTURED-LOCATION;VALUE=URI;X-ADDRESS=Farmtown Park Stirling ON 437 West Front Street Stirling K0K3E0;X-APPLE-RADIUS=500;X-TITLE=437 West Front Street:geo:-80.4041263,43.2041616
END:VEVENT
BEGIN:VEVENT
DTSTART;TZID=America/Toronto:20260409T190000
DTEND;TZID=America/Toronto:20260409T190000
DTSTAMP:20260421T184455
CREATED:20260310T161632Z
LAST-MODIFIED:20260310T161632Z
UID:10001786-1775761200-1775761200@gardenontario.org
SUMMARY:Designing for Hummingbirds in the Urban Environment
DESCRIPTION:Speaker: Jess Conley \nTopic: Designing for Hummingbirds in the Urban Environment \nDate: Thursday April 9th\, 2026 \nTime: 7:00 pm (6:30pm Refreshments) \nLocation: Leaside Library – 165 McRae Drive
URL:https://gardenontario.org/event/designing-for-hummingbirds-in-the-urban-environment/
LOCATION:Leaside Library\, 165 McRae Drive\, Leaside\, M4G 1S8
CATEGORIES:Guest Speaker
ATTACH;FMTTYPE=image/jpeg:https://gardenontario.org/wp-content/uploads/jessconley.jpg
ORGANIZER;CN="Leaside Garden Society":MAILTO:leaside@gardenontario.org
GEO:43.7062979;-79.3677821
X-APPLE-STRUCTURED-LOCATION;VALUE=URI;X-ADDRESS=Leaside Library 165 McRae Drive Leaside M4G 1S8;X-APPLE-RADIUS=500;X-TITLE=165 McRae Drive:geo:-79.3677821,43.7062979
END:VEVENT
END:VCALENDAR