BEGIN:VCALENDAR
VERSION:2.0
PRODID:-//GardenOntario - ECPv6.15.20//NONSGML v1.0//EN
CALSCALE:GREGORIAN
METHOD:PUBLISH
X-WR-CALNAME:GardenOntario
X-ORIGINAL-URL:https://gardenontario.org
X-WR-CALDESC:Events for GardenOntario
REFRESH-INTERVAL;VALUE=DURATION:PT1H
X-Robots-Tag:noindex
X-PUBLISHED-TTL:PT1H
BEGIN:VTIMEZONE
TZID:America/Toronto
BEGIN:DAYLIGHT
TZOFFSETFROM:-0500
TZOFFSETTO:-0400
TZNAME:EDT
DTSTART:20230312T070000
END:DAYLIGHT
BEGIN:STANDARD
TZOFFSETFROM:-0400
TZOFFSETTO:-0500
TZNAME:EST
DTSTART:20231105T060000
END:STANDARD
BEGIN:DAYLIGHT
TZOFFSETFROM:-0500
TZOFFSETTO:-0400
TZNAME:EDT
DTSTART:20240310T070000
END:DAYLIGHT
BEGIN:STANDARD
TZOFFSETFROM:-0400
TZOFFSETTO:-0500
TZNAME:EST
DTSTART:20241103T060000
END:STANDARD
BEGIN:DAYLIGHT
TZOFFSETFROM:-0500
TZOFFSETTO:-0400
TZNAME:EDT
DTSTART:20250309T070000
END:DAYLIGHT
BEGIN:STANDARD
TZOFFSETFROM:-0400
TZOFFSETTO:-0500
TZNAME:EST
DTSTART:20251102T060000
END:STANDARD
BEGIN:DAYLIGHT
TZOFFSETFROM:-0500
TZOFFSETTO:-0400
TZNAME:EDT
DTSTART:20260308T070000
END:DAYLIGHT
BEGIN:STANDARD
TZOFFSETFROM:-0400
TZOFFSETTO:-0500
TZNAME:EST
DTSTART:20261101T060000
END:STANDARD
END:VTIMEZONE
BEGIN:VEVENT
DTSTART;TZID=America/Toronto:20240514T183000
DTEND;TZID=America/Toronto:20240514T203000
DTSTAMP:20260422T024946
CREATED:20240327T145636Z
LAST-MODIFIED:20240327T145636Z
UID:10000833-1715711400-1715718600@gardenontario.org
SUMMARY:Orangeville - Trish Symons "Know Your Limit: Garden Within It".
DESCRIPTION:Please welcome our very own\, Trish Symons. Let her show you how to make your gardens more manageable and therefore more rewarding. Guests are welcome\, free parking\, bring a mug for refreshments\, draw prizes. There is also a flower show tonight.
URL:https://gardenontario.org/event/orangeville-trish-symons-know-your-limit-garden-within-it/
LOCATION:Orangeville Senior Centre\, 26 Bythia Street\, Orangeville\, L9W 2S1
CATEGORIES:Guest Speaker
GEO:43.9163365;-80.1014585
X-APPLE-STRUCTURED-LOCATION;VALUE=URI;X-ADDRESS=Orangeville Senior Centre 26 Bythia Street Orangeville L9W 2S1;X-APPLE-RADIUS=500;X-TITLE=26 Bythia Street:geo:-80.1014585,43.9163365
END:VEVENT
BEGIN:VEVENT
DTSTART;TZID=America/Toronto:20240611T183000
DTEND;TZID=America/Toronto:20240611T203000
DTSTAMP:20260422T024946
CREATED:20240327T145913Z
LAST-MODIFIED:20240327T145913Z
UID:10000834-1718130600-1718137800@gardenontario.org
SUMMARY:Orangeville - Sean James "Proud of My Pruning"
DESCRIPTION:Please welcome Sean James this evening as he shows you the best methods for pruning trees and shrubs. Guests are welcome\, free parking\, bring a mug for refreshments\, draw prizes. There is also a flower show tonight.
URL:https://gardenontario.org/event/orangeville-sean-james-proud-of-my-pruning/
LOCATION:Orangeville Senior Centre\, 26 Bythia Street\, Orangeville\, L9W 2S1
CATEGORIES:Guest Speaker
GEO:43.9163365;-80.1014585
X-APPLE-STRUCTURED-LOCATION;VALUE=URI;X-ADDRESS=Orangeville Senior Centre 26 Bythia Street Orangeville L9W 2S1;X-APPLE-RADIUS=500;X-TITLE=26 Bythia Street:geo:-80.1014585,43.9163365
END:VEVENT
BEGIN:VEVENT
DTSTART;TZID=America/Toronto:20240704T180000
DTEND;TZID=America/Toronto:20240704T210000
DTSTAMP:20260422T024946
CREATED:20240610T161209Z
LAST-MODIFIED:20240621T185103Z
UID:10000931-1720116000-1720126800@gardenontario.org
SUMMARY:Orangeville – Hidden Gems of Purple Hill Garden Tour and Tea
DESCRIPTION:We are having a garden tour and tea on Thursday July 4\, 2024 from 6-9pm. Tickets are available at Booklore\, the Orangeville Seniors Centre as well as 10 and 10 Garden Centre. Ticket price is $10
URL:https://gardenontario.org/event/orangeville-hidden-gems-of-purple-hill-garden-tour-and-tea/
LOCATION:Orangeville
END:VEVENT
BEGIN:VEVENT
DTSTART;TZID=America/Toronto:20250114T183000
DTEND;TZID=America/Toronto:20250114T203000
DTSTAMP:20260422T024946
CREATED:20241124T203219Z
LAST-MODIFIED:20241124T203219Z
UID:10001082-1736879400-1736886600@gardenontario.org
SUMMARY:Orangeville - Egan Baird "Beekeeping and All About Bees"
DESCRIPTION:Please welcome our guest speaker tonight\, Egan Baird as he talks about Beekeeping and All About Bees” Find out why bees are our most important pollinators. Guests are welcome\, free parking\, draw prizes\, sharing table\, bring a mug for refreshments.
URL:https://gardenontario.org/event/orangeville-egan-baird-beekeeping-and-all-about-bees/
LOCATION:Orangeville Senior Centre\, 26 Bythia Street\, Orangeville\, L9W 2S1
CATEGORIES:Guest Speaker
GEO:43.9163365;-80.1014585
X-APPLE-STRUCTURED-LOCATION;VALUE=URI;X-ADDRESS=Orangeville Senior Centre 26 Bythia Street Orangeville L9W 2S1;X-APPLE-RADIUS=500;X-TITLE=26 Bythia Street:geo:-80.1014585,43.9163365
END:VEVENT
BEGIN:VEVENT
DTSTART;TZID=America/Toronto:20250211T183000
DTEND;TZID=America/Toronto:20250211T203000
DTSTAMP:20260422T024946
CREATED:20241124T203816Z
LAST-MODIFIED:20241124T203816Z
UID:10001083-1739298600-1739305800@gardenontario.org
SUMMARY:Orangeville - Matthew Gove "Landscaping Using Naturalistic Principles"
DESCRIPTION:Please welcome our guest speaker tonight\, Matthew Gove as he talks about “Landscaping Using Naturalistic Principles” He will show you how to imitate nature and blend in with our native ecosystem. Guests are welcome\, free parking\, draw prizes\, sharing table\, bring a mug for refreshments.
URL:https://gardenontario.org/event/orangeville-matthew-gove-landscaping-using-naturalistic-principles/
LOCATION:Orangeville Senior Centre\, 26 Bythia Street\, Orangeville\, L9W 2S1
CATEGORIES:Guest Speaker
GEO:43.9163365;-80.1014585
X-APPLE-STRUCTURED-LOCATION;VALUE=URI;X-ADDRESS=Orangeville Senior Centre 26 Bythia Street Orangeville L9W 2S1;X-APPLE-RADIUS=500;X-TITLE=26 Bythia Street:geo:-80.1014585,43.9163365
END:VEVENT
BEGIN:VEVENT
DTSTART;TZID=America/Toronto:20250311T183000
DTEND;TZID=America/Toronto:20250311T203000
DTSTAMP:20260422T024946
CREATED:20241124T205150Z
LAST-MODIFIED:20241124T205150Z
UID:10001084-1741717800-1741725000@gardenontario.org
SUMMARY:Orangeville - Mark Eastman "Sustainable Gardening"
DESCRIPTION:Please welcome our guest speaker tonight\, Mark Eastman as he talks about “Sustainable Gardening” He will tell you that you can grow almost everything you need. Guests are welcome\, free parking\, draw prizes\, sharing table\, bring a mug for refreshments.
URL:https://gardenontario.org/event/orangeville-mark-eastman-sustainable-gardening/
LOCATION:Orangeville Senior Centre\, 26 Bythia Street\, Orangeville\, L9W 2S1
CATEGORIES:Guest Speaker
GEO:43.9163365;-80.1014585
X-APPLE-STRUCTURED-LOCATION;VALUE=URI;X-ADDRESS=Orangeville Senior Centre 26 Bythia Street Orangeville L9W 2S1;X-APPLE-RADIUS=500;X-TITLE=26 Bythia Street:geo:-80.1014585,43.9163365
END:VEVENT
BEGIN:VEVENT
DTSTART;TZID=America/Toronto:20250408T183000
DTEND;TZID=America/Toronto:20250408T203000
DTSTAMP:20260422T024946
CREATED:20250126T233739Z
LAST-MODIFIED:20250126T233739Z
UID:10001163-1744137000-1744144200@gardenontario.org
SUMMARY:Orangeville - Lorraine Johnson "A Garden for the Rusty Patched Bumblebee"
DESCRIPTION:Please welcome our guest speaker tonight\, Lorraine Johnson as she talks about “A Garden for the Rusty Patched Bumblebee”. Join this international author and learn how to protect and promote our native pollinators. Free parking\, guests are welcome\, draw prizes\, sharing table\, bring a mug for refreshments.
URL:https://gardenontario.org/event/orangeville-lorraine-johnson-a-garden-for-the-rusty-patched-bumblebee/
LOCATION:Orangeville Senior Centre\, 26 Bythia Street\, Orangeville\, L9W 2S1
GEO:43.9163365;-80.1014585
X-APPLE-STRUCTURED-LOCATION;VALUE=URI;X-ADDRESS=Orangeville Senior Centre 26 Bythia Street Orangeville L9W 2S1;X-APPLE-RADIUS=500;X-TITLE=26 Bythia Street:geo:-80.1014585,43.9163365
END:VEVENT
BEGIN:VEVENT
DTSTART;TZID=America/Toronto:20250513T183000
DTEND;TZID=America/Toronto:20250513T203000
DTSTAMP:20260422T024946
CREATED:20250126T234240Z
LAST-MODIFIED:20250126T234240Z
UID:10001164-1747161000-1747168200@gardenontario.org
SUMMARY:Orangeville - Sean James "Xeriscaping"
DESCRIPTION:Please welcome our guests speaker tonight\, Sean James as he talks about “Xeriscaping”. Our water is precious. Learn how to use it wisely in our gardens. Free parking\, guests are welcome\, draw prize\, bring a mug for refreshments. There is also a flower show tonight.
URL:https://gardenontario.org/event/orangeville-sean-james-xeriscaping/
LOCATION:Orangeville Senior Centre\, 26 Bythia Street\, Orangeville\, L9W 2S1
GEO:43.9163365;-80.1014585
X-APPLE-STRUCTURED-LOCATION;VALUE=URI;X-ADDRESS=Orangeville Senior Centre 26 Bythia Street Orangeville L9W 2S1;X-APPLE-RADIUS=500;X-TITLE=26 Bythia Street:geo:-80.1014585,43.9163365
END:VEVENT
BEGIN:VEVENT
DTSTART;TZID=America/Toronto:20250610T183000
DTEND;TZID=America/Toronto:20250610T203000
DTSTAMP:20260422T024946
CREATED:20250126T234508Z
LAST-MODIFIED:20250126T234848Z
UID:10001165-1749580200-1749587400@gardenontario.org
SUMMARY:Orangeville – Alain and Joe Johnson “Cutting Edge Daylilies”
DESCRIPTION:Please welcome our guest speakers tonight\, Alain and Joe Johnson as they talk about “Cutting Edge Daylilies”. Learn about their showstopper daylilies to showcase your garden. Free parking\, guests are welcome\, draw prizes\, bring a mug for refreshments. There is also a flower show tonight.
URL:https://gardenontario.org/event/orangeville-alain-and-joe-johnson-cutting-edge-daylilies/
LOCATION:Orangeville Senior Centre\, 26 Bythia Street\, Orangeville\, L9W 2S1
GEO:43.9163365;-80.1014585
X-APPLE-STRUCTURED-LOCATION;VALUE=URI;X-ADDRESS=Orangeville Senior Centre 26 Bythia Street Orangeville L9W 2S1;X-APPLE-RADIUS=500;X-TITLE=26 Bythia Street:geo:-80.1014585,43.9163365
END:VEVENT
BEGIN:VEVENT
DTSTART;TZID=America/Toronto:20250703T180000
DTEND;TZID=America/Toronto:20250703T210000
DTSTAMP:20260422T024946
CREATED:20250509T161640Z
LAST-MODIFIED:20250509T161640Z
UID:10001453-1751565600-1751576400@gardenontario.org
SUMMARY:Hidden Gems VII "Hiding in Hockley"
DESCRIPTION:The Orangeville and District Horticultural Society is hosting a local garden tour in the Hockley Village. Tickets are $15 and are available at our meetings in May/June as well as Booklore and Past Glories of Toad Hollow. Please join us. It’s always a fantastic evening!
URL:https://gardenontario.org/event/hidden-gems-vii-hiding-in-hockley/
LOCATION:Hockley Village
END:VEVENT
BEGIN:VEVENT
DTSTART;TZID=America/Toronto:20250909T183000
DTEND;TZID=America/Toronto:20250909T203000
DTSTAMP:20260422T024946
CREATED:20250818T193706Z
LAST-MODIFIED:20250818T193706Z
UID:10001504-1757442600-1757449800@gardenontario.org
SUMMARY:Orangeville - Paul Gellatly "Falling for Autumn"
DESCRIPTION:Please welcome our guest speaker\, Paul Gellatly\, with his talk about “Falling for Autumn”. Gardening does not stop at summer. Fall and winter offer great choices to extend your garden. There is also a flower show tonight. Guests are welcome\, free parking\, bring a mug for refreshments\, draw prizes.
URL:https://gardenontario.org/event/orangeville-paul-gellatly-falling-for-autumn-3/
LOCATION:Orangeville Senior Centre\, 26 Bythia Street\, Orangeville\, L9W 2S1
GEO:43.9163365;-80.1014585
X-APPLE-STRUCTURED-LOCATION;VALUE=URI;X-ADDRESS=Orangeville Senior Centre 26 Bythia Street Orangeville L9W 2S1;X-APPLE-RADIUS=500;X-TITLE=26 Bythia Street:geo:-80.1014585,43.9163365
END:VEVENT
BEGIN:VEVENT
DTSTART;TZID=America/Toronto:20251014T183000
DTEND;TZID=America/Toronto:20251014T203000
DTSTAMP:20260422T024946
CREATED:20250814T235430Z
LAST-MODIFIED:20250814T235724Z
UID:10001502-1760466600-1760473800@gardenontario.org
SUMMARY:Orangeville - Paul Hinsperger " Mycology 101"
DESCRIPTION:Please welcome our guest speaker tonight\, Paul Hinsperger\, with his talk titled “Mycology 101”. Learn how the fungus family is unique and valuable in our ecosystem. Guests are welcome\, free parking\, bring a mug for refreshments\, draw prizes.
URL:https://gardenontario.org/event/orangeville-paul-gellatly-falling-for-autumn-2/
LOCATION:Orangeville Senior Centre\, 26 Bythia Street\, Orangeville\, L9W 2S1
GEO:43.9163365;-80.1014585
X-APPLE-STRUCTURED-LOCATION;VALUE=URI;X-ADDRESS=Orangeville Senior Centre 26 Bythia Street Orangeville L9W 2S1;X-APPLE-RADIUS=500;X-TITLE=26 Bythia Street:geo:-80.1014585,43.9163365
END:VEVENT
BEGIN:VEVENT
DTSTART;TZID=America/Toronto:20251111T183000
DTEND;TZID=America/Toronto:20251111T203000
DTSTAMP:20260422T024946
CREATED:20250814T231856Z
LAST-MODIFIED:20250814T232414Z
UID:10001501-1762885800-1762893000@gardenontario.org
SUMMARY:Orangeville - Trish Symons "Decorating for the Holidays"
DESCRIPTION:Please welcome our very own Trish Symons with her talk about “Decorating for the Holidays”. Let Trish and friends offer you great ideas for holiday designs. Guests are welcome\, free parking\, bring a mug for refreshments\, draw prizes. Our AGM is this evening as well.
URL:https://gardenontario.org/event/orangeville-paul-gellatly-falling-for-autumn/
LOCATION:Orangeville Senior Centre\, 26 Bythia Street\, Orangeville\, L9W 2S1
GEO:43.9163365;-80.1014585
X-APPLE-STRUCTURED-LOCATION;VALUE=URI;X-ADDRESS=Orangeville Senior Centre 26 Bythia Street Orangeville L9W 2S1;X-APPLE-RADIUS=500;X-TITLE=26 Bythia Street:geo:-80.1014585,43.9163365
END:VEVENT
END:VCALENDAR