BEGIN:VCALENDAR
VERSION:2.0
PRODID:-//GardenOntario - ECPv6.15.20//NONSGML v1.0//EN
CALSCALE:GREGORIAN
METHOD:PUBLISH
X-WR-CALNAME:GardenOntario
X-ORIGINAL-URL:https://gardenontario.org
X-WR-CALDESC:Events for GardenOntario
REFRESH-INTERVAL;VALUE=DURATION:PT1H
X-Robots-Tag:noindex
X-PUBLISHED-TTL:PT1H
BEGIN:VTIMEZONE
TZID:America/Toronto
BEGIN:DAYLIGHT
TZOFFSETFROM:-0500
TZOFFSETTO:-0400
TZNAME:EDT
DTSTART:20240310T070000
END:DAYLIGHT
BEGIN:STANDARD
TZOFFSETFROM:-0400
TZOFFSETTO:-0500
TZNAME:EST
DTSTART:20241103T060000
END:STANDARD
BEGIN:DAYLIGHT
TZOFFSETFROM:-0500
TZOFFSETTO:-0400
TZNAME:EDT
DTSTART:20250309T070000
END:DAYLIGHT
BEGIN:STANDARD
TZOFFSETFROM:-0400
TZOFFSETTO:-0500
TZNAME:EST
DTSTART:20251102T060000
END:STANDARD
BEGIN:DAYLIGHT
TZOFFSETFROM:-0500
TZOFFSETTO:-0400
TZNAME:EDT
DTSTART:20260308T070000
END:DAYLIGHT
BEGIN:STANDARD
TZOFFSETFROM:-0400
TZOFFSETTO:-0500
TZNAME:EST
DTSTART:20261101T060000
END:STANDARD
END:VTIMEZONE
BEGIN:VEVENT
DTSTART;TZID=America/Toronto:20251210T180000
DTEND;TZID=America/Toronto:20251210T213000
DTSTAMP:20260423T070207
CREATED:20250207T200332Z
LAST-MODIFIED:20251119T191404Z
UID:10001228-1765389600-1765402200@gardenontario.org
SUMMARY:Thorndale – Guest Speaker
DESCRIPTION:Christmas Pot Luck \nGuest Speaker  – Brenda Symns \nTopic – Seasonal Decorating with Natural Material \nMembers and partners only. \nSorry No Guests for this meeting
URL:https://gardenontario.org/event/thorndale-tbd-4/
LOCATION:Thorndale Community Centre\, 265 Upper Queen St\, Thorndale\, N0M2P0
CATEGORIES:Guest Speaker
GEO:43.1037622;-81.1413307
X-APPLE-STRUCTURED-LOCATION;VALUE=URI;X-ADDRESS=Thorndale Community Centre 265 Upper Queen St Thorndale N0M2P0;X-APPLE-RADIUS=500;X-TITLE=265 Upper Queen St:geo:-81.1413307,43.1037622
END:VEVENT
BEGIN:VEVENT
DTSTART;TZID=America/Toronto:20251210T190000
DTEND;TZID=America/Toronto:20251210T213000
DTSTAMP:20260423T070207
CREATED:20250713T183421Z
LAST-MODIFIED:20250713T185411Z
UID:10001489-1765393200-1765402200@gardenontario.org
SUMMARY:Credit Valley Horticultural Society December Meeting
DESCRIPTION:Our guest speaker\, Michael Erdman will be demonstrating Floral Themed Holiday Arrangements. \nMichael Erdman has co-authored two books – Indoor Gardening and Perennial Gardening. His garden has been featured in local summer garden tours and in numerous magazines\, newspapers and TV programs. He also tends hundreds of houseplants\, including camellias\, orchids\, and other exotics \n——- \nOur meeting location has changed for 2025! Until further notice we will be at the Erin Mills Twin Arena. \nVisitors always welcome. There is a nominal fee of $5 to help offset the cost of speakers.
URL:https://gardenontario.org/event/credit-valley-horticultural-society-september-meeting/
LOCATION:Erin Mills Twin Arena\, Unity Drive 3205\, Mississauga\, Regional Municipality of Peel\, L5L 4L5\, Canada
CATEGORIES:Guest Speaker,Society Meeting
ATTACH;FMTTYPE=image/png:https://gardenontario.org/wp-content/uploads/CVHS_troutlily_logo151x173-9.png
ORGANIZER;CN="Credit Valley Horticultural Society":MAILTO:creditvalleyhort@gmail.com
GEO:43.5370162;-79.7116789
X-APPLE-STRUCTURED-LOCATION;VALUE=URI;X-ADDRESS=Erin Mills Twin Arena Unity Drive 3205 Mississauga Regional Municipality of Peel L5L 4L5 Canada;X-APPLE-RADIUS=500;X-TITLE=Unity Drive 3205:geo:-79.7116789,43.5370162
END:VEVENT
END:VCALENDAR