BEGIN:VCALENDAR
VERSION:2.0
PRODID:-//GardenOntario - ECPv6.15.20//NONSGML v1.0//EN
CALSCALE:GREGORIAN
METHOD:PUBLISH
X-WR-CALNAME:GardenOntario
X-ORIGINAL-URL:https://gardenontario.org
X-WR-CALDESC:Events for GardenOntario
REFRESH-INTERVAL;VALUE=DURATION:PT1H
X-Robots-Tag:noindex
X-PUBLISHED-TTL:PT1H
BEGIN:VTIMEZONE
TZID:America/Toronto
BEGIN:DAYLIGHT
TZOFFSETFROM:-0500
TZOFFSETTO:-0400
TZNAME:EDT
DTSTART:20240310T070000
END:DAYLIGHT
BEGIN:STANDARD
TZOFFSETFROM:-0400
TZOFFSETTO:-0500
TZNAME:EST
DTSTART:20241103T060000
END:STANDARD
BEGIN:DAYLIGHT
TZOFFSETFROM:-0500
TZOFFSETTO:-0400
TZNAME:EDT
DTSTART:20250309T070000
END:DAYLIGHT
BEGIN:STANDARD
TZOFFSETFROM:-0400
TZOFFSETTO:-0500
TZNAME:EST
DTSTART:20251102T060000
END:STANDARD
BEGIN:DAYLIGHT
TZOFFSETFROM:-0500
TZOFFSETTO:-0400
TZNAME:EDT
DTSTART:20260308T070000
END:DAYLIGHT
BEGIN:STANDARD
TZOFFSETFROM:-0400
TZOFFSETTO:-0500
TZNAME:EST
DTSTART:20261101T060000
END:STANDARD
END:VTIMEZONE
BEGIN:VEVENT
DTSTART;TZID=America/Toronto:20251027T193000
DTEND;TZID=America/Toronto:20251027T213000
DTSTAMP:20260423T053703
CREATED:20251001T153637Z
LAST-MODIFIED:20251001T153637Z
UID:10001581-1761593400-1761600600@gardenontario.org
SUMMARY:October CHS Meeting: "FOUR WINDS: Half a Century in the Making"
DESCRIPTION:We invite you to join us for the October Meeting and presentation titled “Four Winds: Half a Century in the Making\,” by Rodger and Grace Inglis. \nGrace often says\, “It is probably true of most gardeners that their interest in plants goes back to childhood\, and often a parent or grandparent.” For Grace\, that inspiration came from her father. The Four Winds property was acquired in 1949 as a weekend escape from the city. Her father\, inspired by the dramatic setting of the 34-acre property\, envisioned a landscape garden. He shared his ideas with the family but passed away before he could act on them. \nGrace\, with an academic background in Fine Arts\, later earned a diploma in Landscape Architecture from the University of Toronto. Rodger recognized the potential of Four Winds for a landscape design project\, and together they began the planning and work\, each contributing their unique experiences and strengths. They rebuilt the house and barn\, added terraces descending the steep hill south of the barn\, and over time\, continued to expand the gardens. They incorporated vegetable and perennial gardens\, and planted many trees—over 900\, in fact! \nJoin us as Rodger and Grace explore and explain the remarkable transformation of Four Winds. This unique presentation offers a lifetime of gardening insights\, ideas\, and a wonderful journey through over a half-century of gardening. \n​October Flower & Culinary Show – We invite all members to bring in their garden treasurers. Check the October Show & Meeting in the Yearbook (page 32) for complete listing of classes. Questions? Conact Show Chair Angela Hennessey email: angrichennessey@gmail.com \nDoors open at 6:30pm for placement of show entries \nPhotography Buffs  Club competitions are open to all CHS members who do not work as professional photographers. If you didn’t have the chance to enter the June competition\, we encourage you to look at the November print class details on page 33 of the Yearbook and start taking your photos!​​​ \nFall Special Registration – table open at 7pm. We are offering a Fall Special – sign up now and receive the rest of the 2025 season membership plus all of the 2026 season for just one price. Regular adults $20. Couple $30 and Youth $3.
URL:https://gardenontario.org/event/october-chs-meeting-four-winds-half-a-century-in-the-making/
LOCATION:Cannington Baptist Church\, 60 Cameron St. W.\, Cannington\, L0E 1E0
CATEGORIES:Flower & Vegetable Show,Guest Speaker,Society Meeting
ATTACH;FMTTYPE=image/jpeg:https://gardenontario.org/wp-content/uploads/October-Meeting-poster-cropped.jpg
ORGANIZER;CN="Cannington Horticultural Society":MAILTO:info@canningtonhorticulturalsociety.org
GEO:44.3494655;-79.0409782
X-APPLE-STRUCTURED-LOCATION;VALUE=URI;X-ADDRESS=Cannington Baptist Church 60 Cameron St. W. Cannington L0E 1E0;X-APPLE-RADIUS=500;X-TITLE=60 Cameron St. W.:geo:-79.0409782,44.3494655
END:VEVENT
BEGIN:VEVENT
DTSTART;TZID=America/Toronto:20251028T190000
DTEND;TZID=America/Toronto:20251028T210000
DTSTAMP:20260423T053703
CREATED:20191022T184057Z
LAST-MODIFIED:20200121T140916Z
UID:10000992-1761678000-1761685200@gardenontario.org
SUMMARY:General Meeting
DESCRIPTION:Cannot Delete this!
URL:https://gardenontario.org/event/general-meeting/2025-10-28/
LOCATION:Gananoque Town Hall\, King St W\, Gananoque
CATEGORIES:Guest Speaker
ATTACH;FMTTYPE=image/jpeg:https://gardenontario.org/wp-content/uploads/iris-bloom1.jpg
ORGANIZER;CN="Acton Horticultural Society":MAILTO:acton@gardenontario.org
GEO:44.3257458;-76.1742273
X-APPLE-STRUCTURED-LOCATION;VALUE=URI;X-ADDRESS=Gananoque Town Hall King St W Gananoque;X-APPLE-RADIUS=500;X-TITLE=King St W:geo:-76.1742273,44.3257458
END:VEVENT
END:VCALENDAR