BEGIN:VCALENDAR
VERSION:2.0
PRODID:-//GardenOntario - ECPv6.15.20//NONSGML v1.0//EN
CALSCALE:GREGORIAN
METHOD:PUBLISH
X-ORIGINAL-URL:https://gardenontario.org
X-WR-CALDESC:Events for GardenOntario
REFRESH-INTERVAL;VALUE=DURATION:PT1H
X-Robots-Tag:noindex
X-PUBLISHED-TTL:PT1H
BEGIN:VTIMEZONE
TZID:America/Toronto
BEGIN:DAYLIGHT
TZOFFSETFROM:-0500
TZOFFSETTO:-0400
TZNAME:EDT
DTSTART:20240310T070000
END:DAYLIGHT
BEGIN:STANDARD
TZOFFSETFROM:-0400
TZOFFSETTO:-0500
TZNAME:EST
DTSTART:20241103T060000
END:STANDARD
BEGIN:DAYLIGHT
TZOFFSETFROM:-0500
TZOFFSETTO:-0400
TZNAME:EDT
DTSTART:20250309T070000
END:DAYLIGHT
BEGIN:STANDARD
TZOFFSETFROM:-0400
TZOFFSETTO:-0500
TZNAME:EST
DTSTART:20251102T060000
END:STANDARD
BEGIN:DAYLIGHT
TZOFFSETFROM:-0500
TZOFFSETTO:-0400
TZNAME:EDT
DTSTART:20260308T070000
END:DAYLIGHT
BEGIN:STANDARD
TZOFFSETFROM:-0400
TZOFFSETTO:-0500
TZNAME:EST
DTSTART:20261101T060000
END:STANDARD
END:VTIMEZONE
BEGIN:VEVENT
DTSTART;TZID=America/Toronto:20251021T183000
DTEND;TZID=America/Toronto:20251021T210000
DTSTAMP:20260423T065635
CREATED:20241116T232332Z
LAST-MODIFIED:20241116T232332Z
UID:10001058-1761071400-1761080400@gardenontario.org
SUMMARY:GHS Monthly Meeting Speaker EP Power
DESCRIPTION:EP Power is our guest Speaker this month she will present: Integrated Pest Management
URL:https://gardenontario.org/event/ghs-monthly-meeting-speaker-ep-power/
LOCATION:Pat Clarke Community Centre\, 4355 Halmont Dr\, Ottawa\, K1J 8W6
CATEGORIES:Guest Speaker,Society Meeting
ORGANIZER;CN="Gloucester Horticultural Society":MAILTO:gloucester@gardenontario.org
GEO:45.4289112;-75.6197056
X-APPLE-STRUCTURED-LOCATION;VALUE=URI;X-ADDRESS=Pat Clarke Community Centre 4355 Halmont Dr Ottawa K1J 8W6;X-APPLE-RADIUS=500;X-TITLE=4355 Halmont Dr:geo:-75.6197056,45.4289112
END:VEVENT
BEGIN:VEVENT
DTSTART;TZID=America/Toronto:20251021T190000
DTEND;TZID=America/Toronto:20251021T210000
DTSTAMP:20260423T065635
CREATED:20250129T184833Z
LAST-MODIFIED:20250129T184846Z
UID:10001185-1761073200-1761080400@gardenontario.org
SUMMARY:Monthly Meeting
DESCRIPTION:Join us for our last Monthly Meeting of 2025! At 7 PM Guest Speaker Annabel Por from Twig & Brindlle Flower Farm will help us get the most out of our gardens as winter approaches. She will show us how to bring in our garden blooms for drying and how best to save seeds for next year’s garden starting. Enjoy some refreshments & share your 2025 garden stories! 
URL:https://gardenontario.org/event/monthly-meeting-6/
LOCATION:Durham Legion\, 271 Bruce Street North\, Durham\, West Grey\, N0G 1R0
CATEGORIES:Guest Speaker
ATTACH;FMTTYPE=image/jpeg:https://gardenontario.org/wp-content/uploads/0001-57.jpg
ORGANIZER;CN="Durham &amp%3B District Horticultural Society":MAILTO:susan.papineau@eastlink.ca
GEO:44.179608;-80.823555
X-APPLE-STRUCTURED-LOCATION;VALUE=URI;X-ADDRESS=Durham Legion 271 Bruce Street North Durham West Grey N0G 1R0;X-APPLE-RADIUS=500;X-TITLE=271 Bruce Street North:geo:-80.823555,44.179608
END:VEVENT
END:VCALENDAR