BEGIN:VCALENDAR
VERSION:2.0
PRODID:-//GardenOntario - ECPv6.15.20//NONSGML v1.0//EN
CALSCALE:GREGORIAN
METHOD:PUBLISH
X-WR-CALNAME:GardenOntario
X-ORIGINAL-URL:https://gardenontario.org
X-WR-CALDESC:Events for GardenOntario
REFRESH-INTERVAL;VALUE=DURATION:PT1H
X-Robots-Tag:noindex
X-PUBLISHED-TTL:PT1H
BEGIN:VTIMEZONE
TZID:America/Toronto
BEGIN:DAYLIGHT
TZOFFSETFROM:-0500
TZOFFSETTO:-0400
TZNAME:EDT
DTSTART:20250309T070000
END:DAYLIGHT
BEGIN:STANDARD
TZOFFSETFROM:-0400
TZOFFSETTO:-0500
TZNAME:EST
DTSTART:20251102T060000
END:STANDARD
BEGIN:DAYLIGHT
TZOFFSETFROM:-0500
TZOFFSETTO:-0400
TZNAME:EDT
DTSTART:20260308T070000
END:DAYLIGHT
BEGIN:STANDARD
TZOFFSETFROM:-0400
TZOFFSETTO:-0500
TZNAME:EST
DTSTART:20261101T060000
END:STANDARD
BEGIN:DAYLIGHT
TZOFFSETFROM:-0500
TZOFFSETTO:-0400
TZNAME:EDT
DTSTART:20270314T070000
END:DAYLIGHT
BEGIN:STANDARD
TZOFFSETFROM:-0400
TZOFFSETTO:-0500
TZNAME:EST
DTSTART:20271107T060000
END:STANDARD
BEGIN:DAYLIGHT
TZOFFSETFROM:-0500
TZOFFSETTO:-0400
TZNAME:EDT
DTSTART:20280312T070000
END:DAYLIGHT
BEGIN:STANDARD
TZOFFSETFROM:-0400
TZOFFSETTO:-0500
TZNAME:EST
DTSTART:20281105T060000
END:STANDARD
END:VTIMEZONE
BEGIN:VEVENT
DTSTART;TZID=America/Toronto:20260922T190000
DTEND;TZID=America/Toronto:20260922T213000
DTSTAMP:20260422T233311
CREATED:20251230T161143Z
LAST-MODIFIED:20251230T161149Z
UID:10001624-1790103600-1790112600@gardenontario.org
SUMMARY:Schomberg Horticultural Society - Carly McDougall "Sustainable Garden Hacks"
DESCRIPTION:“Sustainable Garden Hacks” presented by Carly McDougall\, owner of a store named Bounty from the Boonies in Uxbridge\, and who signs her emails with Carly McDougall – Plant Whisperer + Purveyor of Whimsy + Homestead Foods Artisan + Owner\, promises to delight.  After a catastrophic mental health breakdown in 2014\, Carly left her award-winning journalism career with the Toronto Star and Metroland to focus on recovery\, and credits plants with helping to save her life.  Now she’s happy to share her wisdom and experience that has grown since childhood to where she is today.  https://bountyfromtheboonies.com/ \nDoors open at 7pm – presentation starts at 7:30 \nFlower show\, door prizes\, refreshements\, free to members\, $ 5.00 at the door for guests \n 
URL:https://gardenontario.org/event/schomberg-horticultural-society-carly-mcdougall-sustainable-garden-hacks/
LOCATION:Schomberg Community Hall\, 325 Main Street\, Schomberg\, L0G 1T0
CATEGORIES:Community Event,Course/Seminar/Workshop,District,Grow With Us!,Guest Speaker,Plenary,Society Meeting
ATTACH;FMTTYPE=image/jpeg:https://gardenontario.org/wp-content/uploads/Carly-McDougall-September-2026-1.jpg
ORGANIZER;CN="Schomberg Horticultural Society":MAILTO:schomberghortsociety@gmail.com
GEO:44.0039021;-79.6844574
X-APPLE-STRUCTURED-LOCATION;VALUE=URI;X-ADDRESS=Schomberg Community Hall 325 Main Street Schomberg L0G 1T0;X-APPLE-RADIUS=500;X-TITLE=325 Main Street:geo:-79.6844574,44.0039021
END:VEVENT
BEGIN:VEVENT
DTSTART;TZID=America/Toronto:20260922T193000
DTEND;TZID=America/Toronto:20260922T213000
DTSTAMP:20260422T233311
CREATED:20260107T105352Z
LAST-MODIFIED:20260323T021121Z
UID:10001644-1790105400-1790112600@gardenontario.org
SUMMARY:General Meeting\, Mini Flower Show and Guest Speaker Bonnie Sitter
DESCRIPTION:General meeting and Mini Flower Show. \nGuest speaker Bonnie Sitter will talk about Ontario’s Farmerettes. She co-authored the book Onions Skins and Peach Fuzz with Shirleyan English. \n A Farmerette stamp was introduced for Remembrance Day in 2024 due to Bonnie’s lobbying.  \nNote: Only Guelph Horticultural Society members are eligible to enter the Flower Shows.  \n 
URL:https://gardenontario.org/event/general-meeting-and-mini-flower-show-3/
LOCATION:Dublin Street United Church\, 68 Suffolk Street\, West\, Guelph\, N1H2J2
CATEGORIES:Flower & Vegetable Show,Guest Speaker
ATTACH;FMTTYPE=image/jpeg:https://gardenontario.org/wp-content/uploads/Farmerettes-Bonnie-Sitter.jpeg
ORGANIZER;CN="Guelph Horticultural Society":MAILTO:guelphhort@gmail.com
GEO:43.5461992;-80.2563472
X-APPLE-STRUCTURED-LOCATION;VALUE=URI;X-ADDRESS=Dublin Street United Church 68 Suffolk Street West Guelph N1H2J2;X-APPLE-RADIUS=500;X-TITLE=68 Suffolk Street\, West:geo:-80.2563472,43.5461992
END:VEVENT
BEGIN:VEVENT
DTSTART;TZID=America/Toronto:20261014T080000
DTEND;TZID=America/Toronto:20261014T170000
DTSTAMP:20260422T233311
CREATED:20260210T163513Z
LAST-MODIFIED:20260210T163513Z
UID:10001744-1791964800-1791997200@gardenontario.org
SUMMARY:Elora & Salem – Meeting & Speaker: Rebecca Baker
DESCRIPTION:General Meeting and Speaker: Rebecca Baker ” Fall into Spring”
URL:https://gardenontario.org/event/elora-salem-meeting-speaker-rebecca-baker/
LOCATION:Grandway Events Centre\, 7445 Wellington Rd 21\, Elora\, N0B 1S0
CATEGORIES:Guest Speaker
ATTACH;FMTTYPE=image/png:https://gardenontario.org/wp-content/uploads/ES-logo-18.png
ORGANIZER;CN="Elora and Salem Horticultural Society":MAILTO:elorasalemhort@gmail.com
GEO:43.6731586;-80.4325652
X-APPLE-STRUCTURED-LOCATION;VALUE=URI;X-ADDRESS=Grandway Events Centre 7445 Wellington Rd 21 Elora N0B 1S0;X-APPLE-RADIUS=500;X-TITLE=7445 Wellington Rd 21:geo:-80.4325652,43.6731586
END:VEVENT
BEGIN:VEVENT
DTSTART;TZID=America/Toronto:20261014T190000
DTEND;TZID=America/Toronto:20261014T213000
DTSTAMP:20260422T233311
CREATED:20260203T020934Z
LAST-MODIFIED:20260203T020934Z
UID:10001712-1792004400-1792013400@gardenontario.org
SUMMARY:Credit Valley Horticultural Society October Meeting
DESCRIPTION:Our October guest speaker Terry Kennedy will be speaking to us about orchids. \n——- \nDoors open at 7 pm with the meeting starting at 7:30 pm. \nVisitors always welcome. There is a nominal fee of $5 to help offset the cost of speakers.
URL:https://gardenontario.org/event/credit-valley-horticultural-society-october-meeting/
LOCATION:Erin Mills Twin Arena\, Unity Drive 3205\, Mississauga\, Regional Municipality of Peel\, L5L 4L5\, Canada
CATEGORIES:Guest Speaker,Society Meeting
ATTACH;FMTTYPE=image/png:https://gardenontario.org/wp-content/uploads/CVHS_troutlily_logo151x173-21.png
ORGANIZER;CN="Credit Valley Horticultural Society":MAILTO:creditvalleyhort@gmail.com
GEO:43.5370162;-79.7116789
X-APPLE-STRUCTURED-LOCATION;VALUE=URI;X-ADDRESS=Erin Mills Twin Arena Unity Drive 3205 Mississauga Regional Municipality of Peel L5L 4L5 Canada;X-APPLE-RADIUS=500;X-TITLE=Unity Drive 3205:geo:-79.7116789,43.5370162
END:VEVENT
BEGIN:VEVENT
DTSTART;TZID=America/Toronto:20261027T190000
DTEND;TZID=America/Toronto:20261027T213000
DTSTAMP:20260422T233311
CREATED:20251230T165940Z
LAST-MODIFIED:20251230T165940Z
UID:10001626-1793127600-1793136600@gardenontario.org
SUMMARY:Schomberg Horticultural Society- Brandon Hebor - "The Future of Food and Farming"
DESCRIPTION:“The Future of Food and Farming” by Brandon Hebor. Boreal Farms\, located in King City has as its mission: Boreal was founded on a mission to empower and equip communities\, families and individuals to grow their own food. Brandon is a strong advocate for hybrid farming solutions that complement each other and support community food security 365 days of the year in any climate around the world. https://www.borealfarms.ca/ \nRefreshments\, flower show\, door prizes\, free to members\, $ 5.00 at the door for guests \n 
URL:https://gardenontario.org/event/schomberg-horticultural-society-brandon-hebor-the-future-of-food-and-farming/
LOCATION:Schomberg Community Hall\, 325 Main Street\, Schomberg\, L0G 1T0
CATEGORIES:Calling All Volunteers,Community Event,Course/Seminar/Workshop,District,Flower & Vegetable Show,Grow With Us!,Guest Speaker,Plenary,Society Meeting,Workshops
ATTACH;FMTTYPE=image/png:https://gardenontario.org/wp-content/uploads/Brendan-Hebor.png
ORGANIZER;CN="Schomberg Horticultural Society":MAILTO:schomberghortsociety@gmail.com
GEO:44.0039021;-79.6844574
X-APPLE-STRUCTURED-LOCATION;VALUE=URI;X-ADDRESS=Schomberg Community Hall 325 Main Street Schomberg L0G 1T0;X-APPLE-RADIUS=500;X-TITLE=325 Main Street:geo:-79.6844574,44.0039021
END:VEVENT
BEGIN:VEVENT
DTSTART;TZID=America/Toronto:20261027T193000
DTEND;TZID=America/Toronto:20261027T213000
DTSTAMP:20260422T233311
CREATED:20260107T104804Z
LAST-MODIFIED:20260110T114336Z
UID:10001643-1793129400-1793136600@gardenontario.org
SUMMARY:General Meeting and Mini Flower Show
DESCRIPTION:General meeting and Mini Flower Show followed by quest speaker Barry Van Der Veer’s talk titled “A Return to Natives \nNote: Only Guelph Horticultural Society members are eligible to enter the Flower shows. \n 
URL:https://gardenontario.org/event/general-meeting-and-mini-flower-show-2/
LOCATION:Dublin Street United Church\, 68 Suffolk Street\, West\, Guelph\, N1H2J2
CATEGORIES:Guest Speaker
ORGANIZER;CN="Guelph Horticultural Society":MAILTO:guelphhort@gmail.com
GEO:43.5461992;-80.2563472
X-APPLE-STRUCTURED-LOCATION;VALUE=URI;X-ADDRESS=Dublin Street United Church 68 Suffolk Street West Guelph N1H2J2;X-APPLE-RADIUS=500;X-TITLE=68 Suffolk Street\, West:geo:-80.2563472,43.5461992
END:VEVENT
BEGIN:VEVENT
DTSTART;TZID=America/Toronto:20261027T193000
DTEND;TZID=America/Toronto:20261027T213000
DTSTAMP:20260422T233311
CREATED:20260109T201955Z
LAST-MODIFIED:20260109T201955Z
UID:10001658-1793129400-1793136600@gardenontario.org
SUMMARY:General Meeting\, Mini Flower Show and Guest Speaker Barry Van Der Veer
DESCRIPTION:General meeting and Mini flower Show will be followed by our guest speaker Barry Van Der Veer talking about “A Return to Natives”. \nYup\, that’s me as a wee tyke. My Grandmother had a thing for bow ties. \nI was taught about plants by my Grandparents. Long walks in the forests of Lambton County acted as a natural classroom. From those walks came my love and passion for all things shady.
URL:https://gardenontario.org/event/general-meeting-mini-flower-show-and-guest-speaker-barry-van-der-veer/
LOCATION:Dublin Street United Church\, 68 Suffolk Street\, West\, Guelph\, N1H2J2
CATEGORIES:Flower & Vegetable Show,Guest Speaker
ATTACH;FMTTYPE=image/jpeg:https://gardenontario.org/wp-content/uploads/Image-2026-01-07-at-6.50-PM.jpeg
ORGANIZER;CN="Guelph Horticultural Society":MAILTO:guelphhort@gmail.com
GEO:43.5461992;-80.2563472
X-APPLE-STRUCTURED-LOCATION;VALUE=URI;X-ADDRESS=Dublin Street United Church 68 Suffolk Street West Guelph N1H2J2;X-APPLE-RADIUS=500;X-TITLE=68 Suffolk Street\, West:geo:-80.2563472,43.5461992
END:VEVENT
BEGIN:VEVENT
DTSTART;TZID=America/Toronto:20261028T190000
DTEND;TZID=America/Toronto:20261028T210000
DTSTAMP:20260422T233311
CREATED:20191022T184057Z
LAST-MODIFIED:20200121T140916Z
UID:10000993-1793214000-1793221200@gardenontario.org
SUMMARY:General Meeting
DESCRIPTION:Cannot Delete this!
URL:https://gardenontario.org/event/general-meeting/2026-10-28/
LOCATION:Gananoque Town Hall\, King St W\, Gananoque
CATEGORIES:Guest Speaker
ATTACH;FMTTYPE=image/jpeg:https://gardenontario.org/wp-content/uploads/iris-bloom1.jpg
ORGANIZER;CN="Acton Horticultural Society":MAILTO:acton@gardenontario.org
GEO:44.3257458;-76.1742273
X-APPLE-STRUCTURED-LOCATION;VALUE=URI;X-ADDRESS=Gananoque Town Hall King St W Gananoque;X-APPLE-RADIUS=500;X-TITLE=King St W:geo:-76.1742273,44.3257458
END:VEVENT
BEGIN:VEVENT
DTSTART;TZID=America/Toronto:20261109T190000
DTEND;TZID=America/Toronto:20261109T200000
DTSTAMP:20260422T233311
CREATED:20260416T015613Z
LAST-MODIFIED:20260416T015613Z
UID:10001834-1794250800-1794254400@gardenontario.org
SUMMARY:How to Make a Christmas Door Swag
DESCRIPTION:It’s time to decorate for the holiday season — let’s help you get ready. Join Cliff Byrnes\, our evening’s guest speaker\, as he demonstrates how to make a beautiful\, festive\, economical and easy-to-make Christmas door swag.
URL:https://gardenontario.org/event/how-to-make-a-christmas-door-swag/
LOCATION:St. Peter’s  Anglican Church\, 4333 Bath Road\, Kingston\, K7M 4Z1
CATEGORIES:Course/Seminar/Workshop,Guest Speaker,Society Meeting
ATTACH;FMTTYPE=image/gif:https://gardenontario.org/wp-content/uploads/CBDHS_Logo_Colour_A.gif
ORGANIZER;CN="CollinsBayHorticulturalSociety":MAILTO:collinsbayhs@outlook.com
END:VEVENT
BEGIN:VEVENT
DTSTART;TZID=America/Toronto:20261118T190000
DTEND;TZID=America/Toronto:20261118T210000
DTSTAMP:20260422T233311
CREATED:20260210T163817Z
LAST-MODIFIED:20260210T163817Z
UID:10001745-1795028400-1795035600@gardenontario.org
SUMMARY:Elora & Salem – Meeting & Speaker
DESCRIPTION:General meeting and Speaker: TBA \nWatch for updates in the “Elora & Salem Society Newsletter”.
URL:https://gardenontario.org/event/elora-salem-meeting-speaker-2/
LOCATION:Grandway Events Centre\, 7445 Wellington Rd 21\, Elora\, N0B 1S0
CATEGORIES:Guest Speaker
ATTACH;FMTTYPE=image/png:https://gardenontario.org/wp-content/uploads/ES-logo-19.png
ORGANIZER;CN="Elora and Salem Horticultural Society":MAILTO:elorasalemhort@gmail.com
GEO:43.6731586;-80.4325652
X-APPLE-STRUCTURED-LOCATION;VALUE=URI;X-ADDRESS=Grandway Events Centre 7445 Wellington Rd 21 Elora N0B 1S0;X-APPLE-RADIUS=500;X-TITLE=7445 Wellington Rd 21:geo:-80.4325652,43.6731586
END:VEVENT
BEGIN:VEVENT
DTSTART;TZID=America/Toronto:20261209T190000
DTEND;TZID=America/Toronto:20261209T213000
DTSTAMP:20260422T233311
CREATED:20260203T023025Z
LAST-MODIFIED:20260203T023025Z
UID:10001715-1796842800-1796851800@gardenontario.org
SUMMARY:Credit Valley Horticultural Society December Meeting
DESCRIPTION:Our December guest speaker and topic is to be announce.  Please check back for an update.  Typically we have a Holiday Décor demonstration using plant materials. \n——- \nDoors open at 7 pm with the meeting starting at 7:30 pm. \nVisitors always welcome. There is a nominal fee of $5 to help offset the cost of speakers.
URL:https://gardenontario.org/event/credit-valley-horticultural-society-december-meeting-2/
LOCATION:Erin Mills Twin Arena\, Unity Drive 3205\, Mississauga\, Regional Municipality of Peel\, L5L 4L5\, Canada
CATEGORIES:Guest Speaker,Society Meeting
ATTACH;FMTTYPE=image/png:https://gardenontario.org/wp-content/uploads/CVHS_troutlily_logo151x173-23.png
ORGANIZER;CN="Credit Valley Horticultural Society":MAILTO:creditvalleyhort@gmail.com
GEO:43.5370162;-79.7116789
X-APPLE-STRUCTURED-LOCATION;VALUE=URI;X-ADDRESS=Erin Mills Twin Arena Unity Drive 3205 Mississauga Regional Municipality of Peel L5L 4L5 Canada;X-APPLE-RADIUS=500;X-TITLE=Unity Drive 3205:geo:-79.7116789,43.5370162
END:VEVENT
BEGIN:VEVENT
DTSTART;TZID=America/Toronto:20270120T183000
DTEND;TZID=America/Toronto:20270120T213000
DTSTAMP:20260422T233311
CREATED:20260210T164315Z
LAST-MODIFIED:20260210T164315Z
UID:10001746-1800469800-1800480600@gardenontario.org
SUMMARY:Elora & Salem AGM
DESCRIPTION:Watch for updates in the “Elora & Salem Society Newsletter” .
URL:https://gardenontario.org/event/elora-salem-agm-2/
LOCATION:Wellington County Museum\, Aboyne Hall\, 0536 Wellington County Rd 18\, Fergus\, N1M 2W3
CATEGORIES:Guest Speaker
ATTACH;FMTTYPE=image/png:https://gardenontario.org/wp-content/uploads/ES-logo-20.png
ORGANIZER;CN="Elora and Salem Horticultural Society":MAILTO:elorasalemhort@gmail.com
GEO:43.6926165;-80.4037546
X-APPLE-STRUCTURED-LOCATION;VALUE=URI;X-ADDRESS=Wellington County Museum Aboyne Hall 0536 Wellington County Rd 18 Fergus N1M 2W3;X-APPLE-RADIUS=500;X-TITLE=0536 Wellington County Rd 18:geo:-80.4037546,43.6926165
END:VEVENT
END:VCALENDAR