BEGIN:VCALENDAR
VERSION:2.0
PRODID:-//GardenOntario - ECPv6.15.20//NONSGML v1.0//EN
CALSCALE:GREGORIAN
METHOD:PUBLISH
X-WR-CALNAME:GardenOntario
X-ORIGINAL-URL:https://gardenontario.org
X-WR-CALDESC:Events for GardenOntario
REFRESH-INTERVAL;VALUE=DURATION:PT1H
X-Robots-Tag:noindex
X-PUBLISHED-TTL:PT1H
BEGIN:VTIMEZONE
TZID:America/Toronto
BEGIN:DAYLIGHT
TZOFFSETFROM:-0500
TZOFFSETTO:-0400
TZNAME:EDT
DTSTART:20250309T070000
END:DAYLIGHT
BEGIN:STANDARD
TZOFFSETFROM:-0400
TZOFFSETTO:-0500
TZNAME:EST
DTSTART:20251102T060000
END:STANDARD
BEGIN:DAYLIGHT
TZOFFSETFROM:-0500
TZOFFSETTO:-0400
TZNAME:EDT
DTSTART:20260308T070000
END:DAYLIGHT
BEGIN:STANDARD
TZOFFSETFROM:-0400
TZOFFSETTO:-0500
TZNAME:EST
DTSTART:20261101T060000
END:STANDARD
BEGIN:DAYLIGHT
TZOFFSETFROM:-0500
TZOFFSETTO:-0400
TZNAME:EDT
DTSTART:20270314T070000
END:DAYLIGHT
BEGIN:STANDARD
TZOFFSETFROM:-0400
TZOFFSETTO:-0500
TZNAME:EST
DTSTART:20271107T060000
END:STANDARD
END:VTIMEZONE
BEGIN:VEVENT
DTSTART;TZID=America/Toronto:20260324T190000
DTEND;TZID=America/Toronto:20260324T213000
DTSTAMP:20260422T075402
CREATED:20251230T142515Z
LAST-MODIFIED:20251230T155459Z
UID:10001619-1774378800-1774387800@gardenontario.org
SUMMARY:Schomberg Horticultural Society – Container Gardening
DESCRIPTION:“Container Gardening” by Maria Shtemberg:  Maria is a Master Gardener who will take a fresh look at this growing trend with tips and tools to make your containers spectacular and useful year-round. \nDoors open at 7pm. Pizza Party – Refreshments – Baking Competition\, Door Prizes \n7:30 Presentation \nFree to members\, $ 5.00 at the door for guests.
URL:https://gardenontario.org/event/schomberg-horticultural-society-container-gardening/
LOCATION:Schomberg Community Hall\, 325 Main Street\, Schomberg\, L0G 1T0
CATEGORIES:Community Event,Course/Seminar/Workshop,Grow With Us!,Guest Speaker
ATTACH;FMTTYPE=image/jpeg:https://gardenontario.org/wp-content/uploads/Maria-Shtemberg-March-2026.jpg
ORGANIZER;CN="Schomberg Horticultural Society":MAILTO:schomberghortsociety@gmail.com
GEO:44.0039021;-79.6844574
X-APPLE-STRUCTURED-LOCATION;VALUE=URI;X-ADDRESS=Schomberg Community Hall 325 Main Street Schomberg L0G 1T0;X-APPLE-RADIUS=500;X-TITLE=325 Main Street:geo:-79.6844574,44.0039021
END:VEVENT
BEGIN:VEVENT
DTSTART;TZID=America/Toronto:20260324T193000
DTEND;TZID=America/Toronto:20260324T213000
DTSTAMP:20260422T075402
CREATED:20260104T143917Z
LAST-MODIFIED:20260110T113634Z
UID:10001636-1774380600-1774387800@gardenontario.org
SUMMARY:General Meeting and Speaker
DESCRIPTION:Speaker Jersey Allyson Fontz will talk about phragmites.
URL:https://gardenontario.org/event/agm-and-nature-throughout-the-seasons-months/
LOCATION:Dublin Street United Church\, 68 Suffolk Street\, West\, Guelph\, N1H2J2
CATEGORIES:Guest Speaker,Society Meeting
ATTACH;FMTTYPE=image/jpeg:https://gardenontario.org/wp-content/uploads/Image-2026-01-07-at-6.49-PM.jpeg
ORGANIZER;CN="Guelph Horticultural Society":MAILTO:guelphhort@gmail.com
GEO:43.5461992;-80.2563472
X-APPLE-STRUCTURED-LOCATION;VALUE=URI;X-ADDRESS=Dublin Street United Church 68 Suffolk Street West Guelph N1H2J2;X-APPLE-RADIUS=500;X-TITLE=68 Suffolk Street\, West:geo:-80.2563472,43.5461992
END:VEVENT
END:VCALENDAR