BEGIN:VCALENDAR
VERSION:2.0
PRODID:-//GardenOntario - ECPv6.15.20//NONSGML v1.0//EN
CALSCALE:GREGORIAN
METHOD:PUBLISH
X-WR-CALNAME:GardenOntario
X-ORIGINAL-URL:https://gardenontario.org
X-WR-CALDESC:Events for GardenOntario
REFRESH-INTERVAL;VALUE=DURATION:PT1H
X-Robots-Tag:noindex
X-PUBLISHED-TTL:PT1H
BEGIN:VTIMEZONE
TZID:America/Toronto
BEGIN:DAYLIGHT
TZOFFSETFROM:-0500
TZOFFSETTO:-0400
TZNAME:EDT
DTSTART:20250309T070000
END:DAYLIGHT
BEGIN:STANDARD
TZOFFSETFROM:-0400
TZOFFSETTO:-0500
TZNAME:EST
DTSTART:20251102T060000
END:STANDARD
BEGIN:DAYLIGHT
TZOFFSETFROM:-0500
TZOFFSETTO:-0400
TZNAME:EDT
DTSTART:20260308T070000
END:DAYLIGHT
BEGIN:STANDARD
TZOFFSETFROM:-0400
TZOFFSETTO:-0500
TZNAME:EST
DTSTART:20261101T060000
END:STANDARD
BEGIN:DAYLIGHT
TZOFFSETFROM:-0500
TZOFFSETTO:-0400
TZNAME:EDT
DTSTART:20270314T070000
END:DAYLIGHT
BEGIN:STANDARD
TZOFFSETFROM:-0400
TZOFFSETTO:-0500
TZNAME:EST
DTSTART:20271107T060000
END:STANDARD
END:VTIMEZONE
BEGIN:VEVENT
DTSTART;TZID=America/Toronto:20260309T190000
DTEND;TZID=America/Toronto:20260309T200000
DTSTAMP:20260422T212523
CREATED:20260204T151647Z
LAST-MODIFIED:20260224T193332Z
UID:10001716-1773082800-1773086400@gardenontario.org
SUMMARY:Caring for Trees
DESCRIPTION:Janssens Orchards is a 34-acre family farm business with a focus on growing heritage fruit trees –apples\, pears\, plums and cherries. Mike Janssen\, owner\, will share his farm’s holistic approach in caring for trees\, and explain the ecological growing practices used to promote tree health\, foster biodiversity and reduce impact on the natural environment.
URL:https://gardenontario.org/event/caring-for-trees/
LOCATION:St. Peter’s  Anglican Church\, 4333 Bath Road\, Kingston\, K7M 4Z1
CATEGORIES:Guest Speaker
ATTACH;FMTTYPE=image/png:https://gardenontario.org/wp-content/uploads/apple-tree.png
ORGANIZER;CN="CollinsBayHorticulturalSociety":MAILTO:collinsbayhs@outlook.com
END:VEVENT
BEGIN:VEVENT
DTSTART;TZID=America/Toronto:20260309T193000
DTEND;TZID=America/Toronto:20260309T210000
DTSTAMP:20260422T212523
CREATED:20260201T161311Z
LAST-MODIFIED:20260201T161311Z
UID:10001695-1773084600-1773090000@gardenontario.org
SUMMARY:Georgina-Brock Garden Club - Gardening with Nature
DESCRIPTION:Gardening with Nature with Marina Vander Heyden.  Marina will share her journey of cultivating a ½-acre food forest and permaculture-inspired garden over the past four years. The talk will explore practical and inspiring ideas\, presenting nature-based perspectives on how we can grow resilient\, self-sustaining\, and nourishing gardens. Everyone Welcome.
URL:https://gardenontario.org/event/georgina-brock-garden-club-gardening-with-nature/
LOCATION:Pefferlaw Lions Community Centre\, 38 Pete's Lane\, Pefferlaw\, L0E 1N0
CATEGORIES:Guest Speaker
ATTACH;FMTTYPE=image/jpeg:https://gardenontario.org/wp-content/uploads/march-meeting-.jpg
ORGANIZER;CN="Georgina-Brock Garden Club":MAILTO:gbgcinfonow@gmail.com
GEO:44.3105722;-79.1943974
X-APPLE-STRUCTURED-LOCATION;VALUE=URI;X-ADDRESS=Pefferlaw Lions Community Centre 38 Pete's Lane Pefferlaw L0E 1N0;X-APPLE-RADIUS=500;X-TITLE=38 Pete's Lane:geo:-79.1943974,44.3105722
END:VEVENT
BEGIN:VEVENT
DTSTART;TZID=America/Toronto:20260309T193000
DTEND;TZID=America/Toronto:20260309T214500
DTSTAMP:20260422T212523
CREATED:20260226T155527Z
LAST-MODIFIED:20260226T164159Z
UID:10001772-1773084600-1773092700@gardenontario.org
SUMMARY:Agincourt Garden Club + Betty McCullough on Tagging Monarch Butterflies
DESCRIPTION:(As this is our 1st in person meeting of the season\, you may want to come a lil early to meet chit/chat with your friends\, renew your membership and/or collect your year book) \nGuests can come once\, to check us out\, for free before deciding to join. \nWelcome members and guests. \nGarden Joke \nGuest Speaker:   Betty McCulloch is a Community (or Citizen) Scientist\, which Betty notes is an elegant term for being a “volunteer”. \nShe is a retired professor of nursing and lover of nature – particularly butterflies and birds. \nShe has been involved with tagging over 13\,000 butterflies in the past eleven plus years at Rosetta McClain Gardens\, Toronto. \nSo Betty will teach us about this practice and I know it will be very interesting!  Please hold your questions til the end of the presentation. \nAnnouncements:  We have lots of special events this year\, so please bring a pen/paper to make a note of same. \nLaughter:   We don’t have laughter on the agenda\, however it somehow breaks out\, especially during the refreshments break with this crowd. \nDessert:  Our members bring treats and we buy coffee/tea for your pleasure.  Please drop some change in the dishes on the treat table. \nLocation:  Knox United Christian Education Center\, 2575 Midland Ave. @ Sheppard\, driveway and bus stop off of Rural Ave. \nFor more info\, check out: \nFacebook: Agincourt Garden Club \nInstagram site:  AGC  Agincourt Garden Club \nwww.gardenontario.org/agincourtgardenclub \nThank you \nCheryl Penner \n416-414-7704
URL:https://gardenontario.org/event/agincourt-garden-club-betty-mccullough-on-tagging-monarch-butterflies/
LOCATION:Knox United Christian Education Center\, 2575 Midland Ave @ Sheppard\, Agincourt\, M1S 1R4\, Canada
CATEGORIES:Community Event,Guest Speaker,Society Meeting
ATTACH;FMTTYPE=image/jpeg:https://gardenontario.org/wp-content/uploads/Whitby-Harbour.jpg
ORGANIZER;CN="AgincourtGardenClub":MAILTO:cheryl.penner@hotmail.com
GEO:43.7857836;-79.2787445
X-APPLE-STRUCTURED-LOCATION;VALUE=URI;X-ADDRESS=Knox United Christian Education Center 2575 Midland Ave @ Sheppard Agincourt M1S 1R4 Canada;X-APPLE-RADIUS=500;X-TITLE=2575 Midland Ave @ Sheppard:geo:-79.2787445,43.7857836
END:VEVENT
END:VCALENDAR