BEGIN:VCALENDAR
VERSION:2.0
PRODID:-//GardenOntario - ECPv6.15.20//NONSGML v1.0//EN
CALSCALE:GREGORIAN
METHOD:PUBLISH
X-WR-CALNAME:GardenOntario
X-ORIGINAL-URL:https://gardenontario.org
X-WR-CALDESC:Events for GardenOntario
REFRESH-INTERVAL;VALUE=DURATION:PT1H
X-Robots-Tag:noindex
X-PUBLISHED-TTL:PT1H
BEGIN:VTIMEZONE
TZID:America/Toronto
BEGIN:DAYLIGHT
TZOFFSETFROM:-0500
TZOFFSETTO:-0400
TZNAME:EDT
DTSTART:20250309T070000
END:DAYLIGHT
BEGIN:STANDARD
TZOFFSETFROM:-0400
TZOFFSETTO:-0500
TZNAME:EST
DTSTART:20251102T060000
END:STANDARD
BEGIN:DAYLIGHT
TZOFFSETFROM:-0500
TZOFFSETTO:-0400
TZNAME:EDT
DTSTART:20260308T070000
END:DAYLIGHT
BEGIN:STANDARD
TZOFFSETFROM:-0400
TZOFFSETTO:-0500
TZNAME:EST
DTSTART:20261101T060000
END:STANDARD
BEGIN:DAYLIGHT
TZOFFSETFROM:-0500
TZOFFSETTO:-0400
TZNAME:EDT
DTSTART:20270314T070000
END:DAYLIGHT
BEGIN:STANDARD
TZOFFSETFROM:-0400
TZOFFSETTO:-0500
TZNAME:EST
DTSTART:20271107T060000
END:STANDARD
END:VTIMEZONE
BEGIN:VEVENT
DTSTART;TZID=America/Toronto:20260502T120000
DTEND;TZID=America/Toronto:20260502T140000
DTSTAMP:20260423T063815
CREATED:20260316T072533Z
LAST-MODIFIED:20260322T051406Z
UID:10001790-1777723200-1777730400@gardenontario.org
SUMMARY:Niagara Falls Horticultural Society Spring Planter Workshop
DESCRIPTION:Join us for our 2nd Annual Spring Planter Workshop  & unleash your creativity! Craft a stunning spring planter with daffodils\, tulips\, hyacinths\, pansies\, branches\, and other hardy plants. Whether you’re experienced or a beginner\, our workshop will guide you in creating a planter that reflects your style. Don’t miss this chance to learn and bring spring’s beauty to your home.\n\nSign up today! Price: $50 includes all materials & light refreshments. Limited spots available. Proceeds to benefit St. John’s Anglican Church.\n\n 2nd Annual Spring Planter Workshop Saturday\, May 2\, 2026 12:00pm – 2:00pm St. John’s Anglican Church Hall\, 3428 Portage Road\, Niagara Falls\, ON\n\nFor more information or to register please email: niagarafallshortsoc@gmail.com\n\nsocials: @niagarafallshortwebsite: niagarafallshort.org
URL:https://gardenontario.org/event/niagara-falls-horticultural-society-spring-planter-workshop/
LOCATION:St. John’s Anglican Church Hall\, 3428 Portage Road\, Niagara Falls\, ON\, 3428 Portage Road\, Niagara Falls\, L2J 2K4\, Canada
CATEGORIES:Workshops
ATTACH;FMTTYPE=image/png:https://gardenontario.org/wp-content/uploads/2026-SPRING-PLANTER-WORKSHOP.png
ORGANIZER;CN="Niagara Falls Horticultural Society":MAILTO:shannonmichelleb@live.com
GEO:43.1235805;-79.099177
X-APPLE-STRUCTURED-LOCATION;VALUE=URI;X-ADDRESS=St. John’s Anglican Church Hall 3428 Portage Road Niagara Falls ON 3428 Portage Road Niagara Falls L2J 2K4 Canada;X-APPLE-RADIUS=500;X-TITLE=3428 Portage Road:geo:-79.099177,43.1235805
END:VEVENT
END:VCALENDAR