BEGIN:VCALENDAR
VERSION:2.0
PRODID:-//GardenOntario - ECPv6.15.20//NONSGML v1.0//EN
CALSCALE:GREGORIAN
METHOD:PUBLISH
X-WR-CALNAME:GardenOntario
X-ORIGINAL-URL:https://gardenontario.org
X-WR-CALDESC:Events for GardenOntario
REFRESH-INTERVAL;VALUE=DURATION:PT1H
X-Robots-Tag:noindex
X-PUBLISHED-TTL:PT1H
BEGIN:VTIMEZONE
TZID:America/Toronto
BEGIN:DAYLIGHT
TZOFFSETFROM:-0500
TZOFFSETTO:-0400
TZNAME:EDT
DTSTART:20250309T070000
END:DAYLIGHT
BEGIN:STANDARD
TZOFFSETFROM:-0400
TZOFFSETTO:-0500
TZNAME:EST
DTSTART:20251102T060000
END:STANDARD
BEGIN:DAYLIGHT
TZOFFSETFROM:-0500
TZOFFSETTO:-0400
TZNAME:EDT
DTSTART:20260308T070000
END:DAYLIGHT
BEGIN:STANDARD
TZOFFSETFROM:-0400
TZOFFSETTO:-0500
TZNAME:EST
DTSTART:20261101T060000
END:STANDARD
BEGIN:DAYLIGHT
TZOFFSETFROM:-0500
TZOFFSETTO:-0400
TZNAME:EDT
DTSTART:20270314T070000
END:DAYLIGHT
BEGIN:STANDARD
TZOFFSETFROM:-0400
TZOFFSETTO:-0500
TZNAME:EST
DTSTART:20271107T060000
END:STANDARD
END:VTIMEZONE
BEGIN:VEVENT
DTSTART;TZID=America/Toronto:20260417T100000
DTEND;TZID=America/Toronto:20260930T110000
DTSTAMP:20260423T084330
CREATED:20260417T112535Z
LAST-MODIFIED:20260417T112535Z
UID:10001839-1776420000-1790766000@gardenontario.org
SUMMARY:Community Civic Improvements
DESCRIPTION:Volunteer to help with Williamstown and Lancaster community civic improvements. \nHelp with planting\, weeding\, watering in public places to beautify our towns. Williamstown bridge boxes\, Glen Gordon Park\, Village entrance signs\, Lancaster library garden and children’s garden at the Nor’ Westerner’s Museum… Contact Mary Regan 613-931-3285 to participate
URL:https://gardenontario.org/event/community-civic-improvements/
CATEGORIES:Community Event
END:VEVENT
BEGIN:VEVENT
DTSTART;TZID=America/Toronto:20260509T080000
DTEND;TZID=America/Toronto:20260509T140000
DTSTAMP:20260423T084330
CREATED:20251230T164330Z
LAST-MODIFIED:20260407T150303Z
UID:10001625-1778313600-1778335200@gardenontario.org
SUMMARY:Schomberg Horticultural Society Annual Plant Sale
DESCRIPTION:The early bird gets the worm! Annual baskets for Mother’s Day\, hard to find perennials\, trees and shrubs. Heirloom tomato plants\, herbs and vegetable plants. Native plants. \nIn partnership with the Schomberg Community farm
URL:https://gardenontario.org/event/schomberg-horticultural-society-annual-plant-sale-2/
LOCATION:Schomberg Community Farm\, 210 Western Road\, Schomberg\, L0G1T0\, Canada
CATEGORIES:Community Event,Course/Seminar/Workshop,District,Flower & Vegetable Show,Grow With Us!,Partner Event,Plant Sale,Workshops
ATTACH;FMTTYPE=image/png:https://gardenontario.org/wp-content/uploads/2026-HORT-plant-sale-FINAL.png
ORGANIZER;CN="Schomberg Horticultural Society":MAILTO:schomberghortsociety@gmail.com
GEO:43.8467356;-79.5610728
X-APPLE-STRUCTURED-LOCATION;VALUE=URI;X-ADDRESS=Schomberg Community Farm 210 Western Road Schomberg L0G1T0 Canada;X-APPLE-RADIUS=500;X-TITLE=210 Western Road:geo:-79.5610728,43.8467356
END:VEVENT
BEGIN:VEVENT
DTSTART;TZID=America/Toronto:20260509T090000
DTEND;TZID=America/Toronto:20260509T120000
DTSTAMP:20260423T084330
CREATED:20260323T173952Z
LAST-MODIFIED:20260323T174455Z
UID:10001798-1778317200-1778328000@gardenontario.org
SUMMARY:Niagara-on-the-Lake Horticultural Society Annual Plant Sale
DESCRIPTION:Our famous Plant Sale is back again \nSaturday May 9th 9:00am to noon \nRain or Shine \nCome and discover wonderful plants that are proven winners shared from the gardens of our horticultural members. \nPerennials\, Annuals\, Groundcovers\, Shrubs\, Tomatoes\, Herbs \nOur experienced members will be on-hand with gardening advice \nAgain we offer Tool Sharpening for a nominal fee – so plan to bring those garden tools and get them ready for a busy season. \nTHIS IS A CASH ONLY EVENT \nMeridian Virgil Arenda – 1565 Four Mile Creek Road\, Niagara-on-the-Lake \n 
URL:https://gardenontario.org/event/niagara-on-the-lake-horticultural-society-annual-plant-sale-3/
LOCATION:Meridian Arena\, 1567 Four Mile Creek\, Virgil\, L0S 1J0
CATEGORIES:Community Event,Plant Sale
ATTACH;FMTTYPE=image/png:https://gardenontario.org/wp-content/uploads/PlantSale-2026-1-scaled.png
ORGANIZER;CN="Niagara on the Lake Horticultural Society":MAILTO:notlhortsociety@gmail.com
GEO:43.2198235;-79.1195306
X-APPLE-STRUCTURED-LOCATION;VALUE=URI;X-ADDRESS=Meridian Arena 1567 Four Mile Creek Virgil L0S 1J0;X-APPLE-RADIUS=500;X-TITLE=1567 Four Mile Creek:geo:-79.1195306,43.2198235
END:VEVENT
END:VCALENDAR