BEGIN:VCALENDAR
VERSION:2.0
PRODID:-//GardenOntario - ECPv6.15.20//NONSGML v1.0//EN
CALSCALE:GREGORIAN
METHOD:PUBLISH
X-ORIGINAL-URL:https://gardenontario.org
X-WR-CALDESC:Events for GardenOntario
REFRESH-INTERVAL;VALUE=DURATION:PT1H
X-Robots-Tag:noindex
X-PUBLISHED-TTL:PT1H
BEGIN:VTIMEZONE
TZID:America/Toronto
BEGIN:DAYLIGHT
TZOFFSETFROM:-0500
TZOFFSETTO:-0400
TZNAME:EDT
DTSTART:20250309T070000
END:DAYLIGHT
BEGIN:STANDARD
TZOFFSETFROM:-0400
TZOFFSETTO:-0500
TZNAME:EST
DTSTART:20251102T060000
END:STANDARD
BEGIN:DAYLIGHT
TZOFFSETFROM:-0500
TZOFFSETTO:-0400
TZNAME:EDT
DTSTART:20260308T070000
END:DAYLIGHT
BEGIN:STANDARD
TZOFFSETFROM:-0400
TZOFFSETTO:-0500
TZNAME:EST
DTSTART:20261101T060000
END:STANDARD
BEGIN:DAYLIGHT
TZOFFSETFROM:-0500
TZOFFSETTO:-0400
TZNAME:EDT
DTSTART:20270314T070000
END:DAYLIGHT
BEGIN:STANDARD
TZOFFSETFROM:-0400
TZOFFSETTO:-0500
TZNAME:EST
DTSTART:20271107T060000
END:STANDARD
END:VTIMEZONE
BEGIN:VEVENT
DTSTART;TZID=America/Toronto:20260321T090000
DTEND;TZID=America/Toronto:20260321T140000
DTSTAMP:20260423T100408
CREATED:20251107T193203Z
LAST-MODIFIED:20260316T000051Z
UID:10001593-1774083600-1774101600@gardenontario.org
SUMMARY:Seedy Saturday 2026
DESCRIPTION:Mark your calendars and get ready to kick start your garden season for 2026. Co-Hosts Cannington Horticultural Society and Georgina-Brock Garden Club have a fantastic Seedy Saturday experience for you. Our line up of excellent vendors is growing\, from garden art\, seed sellers\, organic compost\, mushrooms\, herbal teas\, lavender\, local honey\, native plants and so much more! A huge free Seed Swap table is planned – so bring your seeds and check out what others have donated to grow this year! An excellent way to try new varieties to grow in 2026. A do not miss event – FREE admission.  \nDon’t miss it – excellent selection of garden vendors and community service groups ready to serve you. Refreshments available for purchase throughout the day.  \nSpeakers/Events Scheduled: all free9:30 am Garden Compost with Paul Lubberts\, York Region Food Network10:30 am Children’s Storytime\, Georgina Public Library10:45 am Garden Q&A with Durham  + Lake Simcoe South Master Gardeners & Panel12 noon Youth Seed Sowing Workshop – offered by Mary\, Stephanie & Claria \nCo-Hosted by Cannington Horticultural Society and Georgina-Brock Garden Club. \nSame great venue – lots of free parking and free admission.
URL:https://gardenontario.org/event/seedy-saturday-2026/
LOCATION:Pefferlaw Lions Community Centre\, 38 Pete's Lane\, Pefferlaw\, L0E 1N0
CATEGORIES:Community Event,Seed Exchange
ATTACH;FMTTYPE=image/jpeg:https://gardenontario.org/wp-content/uploads/Seedy-Saturday-2026-SavedateEX-scaled.jpg
ORGANIZER;CN="Cannington Horticultural Society":MAILTO:info@canningtonhorticulturalsociety.org
GEO:44.3105722;-79.1943974
X-APPLE-STRUCTURED-LOCATION;VALUE=URI;X-ADDRESS=Pefferlaw Lions Community Centre 38 Pete's Lane Pefferlaw L0E 1N0;X-APPLE-RADIUS=500;X-TITLE=38 Pete's Lane:geo:-79.1943974,44.3105722
END:VEVENT
BEGIN:VEVENT
DTSTART;TZID=America/Toronto:20260321T103000
DTEND;TZID=America/Toronto:20260321T143000
DTSTAMP:20260423T100408
CREATED:20260210T155145Z
LAST-MODIFIED:20260210T164806Z
UID:10001736-1774089000-1774103400@gardenontario.org
SUMMARY:Centre Wellington Seedy Saturday
DESCRIPTION:Hosted by Fergus & District and Elora & Salem
URL:https://gardenontario.org/event/centre-wellington-seedy-saturday-2/
LOCATION:Wellington County Museum\, Aboyne Hall\, 0536 Wellington County Rd 18\, Fergus\, N1M 2W3
CATEGORIES:Community Event
ATTACH;FMTTYPE=image/png:https://gardenontario.org/wp-content/uploads/ES-logo-10.png
ORGANIZER;CN="Elora and Salem Horticultural Society":MAILTO:elorasalemhort@gmail.com
GEO:43.6926165;-80.4037546
X-APPLE-STRUCTURED-LOCATION;VALUE=URI;X-ADDRESS=Wellington County Museum Aboyne Hall 0536 Wellington County Rd 18 Fergus N1M 2W3;X-APPLE-RADIUS=500;X-TITLE=0536 Wellington County Rd 18:geo:-80.4037546,43.6926165
END:VEVENT
BEGIN:VEVENT
DTSTART;TZID=America/Toronto:20260321T110000
DTEND;TZID=America/Toronto:20260321T123000
DTSTAMP:20260423T100408
CREATED:20260108T143125Z
LAST-MODIFIED:20260108T143125Z
UID:10001652-1774090800-1774096200@gardenontario.org
SUMMARY:Seedy Saturday: Sprouting into Spring Spring is the perfect time to grow something new!
DESCRIPTION:Seedy Saturday: Sprouting into Spring\nSpring is the perfect time to grow something new! Pick up free seeds for your garden or share seeds you’ve harvested for others to enjoy. A variety of packets will be available while supplies last. Get expert tips to help your garden thrive. In partnership with Richmond Hill Horticultural Society and the Lake Simcoe South Master Gardeners.
URL:https://gardenontario.org/event/seedy-saturday-sprouting-into-spring-spring-is-the-perfect-time-to-grow-something-new/
LOCATION:RichmondHill Public Library Central Branch\, 1 Atkinson Street\, Richmond Hill\, L4C 0H5
CATEGORIES:Community Event
ATTACH;FMTTYPE=image/png:https://gardenontario.org/wp-content/uploads/Hort-logo-design-2015-38.png
ORGANIZER;CN="Richmond Hill Garden and Horticultural Society":MAILTO:RHInfo@GardenOntario.org
END:VEVENT
END:VCALENDAR