BEGIN:VCALENDAR
VERSION:2.0
PRODID:-//GardenOntario - ECPv6.15.20//NONSGML v1.0//EN
CALSCALE:GREGORIAN
METHOD:PUBLISH
X-WR-CALNAME:GardenOntario
X-ORIGINAL-URL:https://gardenontario.org
X-WR-CALDESC:Events for GardenOntario
REFRESH-INTERVAL;VALUE=DURATION:PT1H
X-Robots-Tag:noindex
X-PUBLISHED-TTL:PT1H
BEGIN:VTIMEZONE
TZID:America/Toronto
BEGIN:DAYLIGHT
TZOFFSETFROM:-0500
TZOFFSETTO:-0400
TZNAME:EDT
DTSTART:20240310T070000
END:DAYLIGHT
BEGIN:STANDARD
TZOFFSETFROM:-0400
TZOFFSETTO:-0500
TZNAME:EST
DTSTART:20241103T060000
END:STANDARD
BEGIN:DAYLIGHT
TZOFFSETFROM:-0500
TZOFFSETTO:-0400
TZNAME:EDT
DTSTART:20250309T070000
END:DAYLIGHT
BEGIN:STANDARD
TZOFFSETFROM:-0400
TZOFFSETTO:-0500
TZNAME:EST
DTSTART:20251102T060000
END:STANDARD
BEGIN:DAYLIGHT
TZOFFSETFROM:-0500
TZOFFSETTO:-0400
TZNAME:EDT
DTSTART:20260308T070000
END:DAYLIGHT
BEGIN:STANDARD
TZOFFSETFROM:-0400
TZOFFSETTO:-0500
TZNAME:EST
DTSTART:20261101T060000
END:STANDARD
END:VTIMEZONE
BEGIN:VEVENT
DTSTART;TZID=America/Toronto:20251118T180000
DTEND;TZID=America/Toronto:20251118T213000
DTSTAMP:20260423T145920
CREATED:20250311T200349Z
LAST-MODIFIED:20250311T200349Z
UID:10001398-1763488800-1763501400@gardenontario.org
SUMMARY:Schomberg Horticultural Society - AGM\, Banquet - Election of Officers
DESCRIPTION:Annual General Meeting and Banquet. \nDoors open at 6pm. Come enjoy a fabulous dinner\, mingle with your gardening friends and elect our new Board Members. Silent Auction. \nFee to be determined.
URL:https://gardenontario.org/event/schomberg-horticultural-society-agm-banquet-election-of-officers/
LOCATION:Schomberg Community Hall\, 325 Main Street\, Schomberg\, L0G 1T0
CATEGORIES:Community Event,District,Society Meeting,Workshops
ATTACH;FMTTYPE=image/jpeg:https://gardenontario.org/wp-content/uploads/resized.jpg
ORGANIZER;CN="Schomberg Horticultural Society":MAILTO:schomberghortsociety@gmail.com
GEO:44.0039021;-79.6844574
X-APPLE-STRUCTURED-LOCATION;VALUE=URI;X-ADDRESS=Schomberg Community Hall 325 Main Street Schomberg L0G 1T0;X-APPLE-RADIUS=500;X-TITLE=325 Main Street:geo:-79.6844574,44.0039021
END:VEVENT
END:VCALENDAR