BEGIN:VCALENDAR
VERSION:2.0
PRODID:-//GardenOntario - ECPv6.15.20//NONSGML v1.0//EN
CALSCALE:GREGORIAN
METHOD:PUBLISH
X-ORIGINAL-URL:https://gardenontario.org
X-WR-CALDESC:Events for GardenOntario
REFRESH-INTERVAL;VALUE=DURATION:PT1H
X-Robots-Tag:noindex
X-PUBLISHED-TTL:PT1H
BEGIN:VTIMEZONE
TZID:America/Toronto
BEGIN:DAYLIGHT
TZOFFSETFROM:-0500
TZOFFSETTO:-0400
TZNAME:EDT
DTSTART:20240310T070000
END:DAYLIGHT
BEGIN:STANDARD
TZOFFSETFROM:-0400
TZOFFSETTO:-0500
TZNAME:EST
DTSTART:20241103T060000
END:STANDARD
BEGIN:DAYLIGHT
TZOFFSETFROM:-0500
TZOFFSETTO:-0400
TZNAME:EDT
DTSTART:20250309T070000
END:DAYLIGHT
BEGIN:STANDARD
TZOFFSETFROM:-0400
TZOFFSETTO:-0500
TZNAME:EST
DTSTART:20251102T060000
END:STANDARD
BEGIN:DAYLIGHT
TZOFFSETFROM:-0500
TZOFFSETTO:-0400
TZNAME:EDT
DTSTART:20260308T070000
END:DAYLIGHT
BEGIN:STANDARD
TZOFFSETFROM:-0400
TZOFFSETTO:-0500
TZNAME:EST
DTSTART:20261101T060000
END:STANDARD
END:VTIMEZONE
BEGIN:VEVENT
DTSTART;TZID=America/Toronto:20251028T193000
DTEND;TZID=America/Toronto:20251028T193000
DTSTAMP:20260423T124619
CREATED:20250311T201653Z
LAST-MODIFIED:20250311T201659Z
UID:10001399-1761679800-1761679800@gardenontario.org
SUMMARY:Schomberg Horticultural Society - Daryll Cheng\, "Houseplants\, most important - least understood"
DESCRIPTION:Darryl Cheng is the author of ‘The New Plant Parent’ and ‘The New Plant Collector’ and creator of House Plant Journal. Darryl’s passion for plants and engineering approach to plant care have turned him into one of the most trusted houseplant resources on the internet! What was initially a hobby Tumblr page has turned into an Instagram account with over half a million followers\, a go-to website for anything houseplant related\, his very own houseplant care book\, and plant time-lapse videos that have gone viral around the world. \nMost Important\, Least Understood \nOutdoor gardeners generally have a good sense of their sunlight exposure and indoor grow ops have well documented instructions to follow – but houseplant owners are left with vague\, hand-wavy directions like “bright indirect light” – which leads to dramatically different interpretations and results. In this talk\, Darryl will reveal the secrets to understanding light with a particular focus on how it applies to houseplants – comparing natural light and grow lights. You will finally be able to make sense of light! \n  \nHome \n \nRefreshments\, door prizes. Pumpkin carving competition. \nFree to members\, $ 5.00  non-members at the door \n 
URL:https://gardenontario.org/event/schomberg-horticultural-society-daryll-cheng-houseplants-most-important-least-understood/
LOCATION:Schomberg Community Hall\, 325 Main Street\, Schomberg\, L0G 1T0
CATEGORIES:Community Event,District,Flower & Vegetable Show,Society Meeting,Workshops
ATTACH;FMTTYPE=image/jpeg:https://gardenontario.org/wp-content/uploads/Darryl-Cheng-1.jpg
ORGANIZER;CN="Schomberg Horticultural Society":MAILTO:schomberghortsociety@gmail.com
GEO:44.0039021;-79.6844574
X-APPLE-STRUCTURED-LOCATION;VALUE=URI;X-ADDRESS=Schomberg Community Hall 325 Main Street Schomberg L0G 1T0;X-APPLE-RADIUS=500;X-TITLE=325 Main Street:geo:-79.6844574,44.0039021
END:VEVENT
END:VCALENDAR