BEGIN:VCALENDAR
VERSION:2.0
PRODID:-//GardenOntario - ECPv6.15.20//NONSGML v1.0//EN
CALSCALE:GREGORIAN
METHOD:PUBLISH
X-ORIGINAL-URL:https://gardenontario.org
X-WR-CALDESC:Events for GardenOntario
REFRESH-INTERVAL;VALUE=DURATION:PT1H
X-Robots-Tag:noindex
X-PUBLISHED-TTL:PT1H
BEGIN:VTIMEZONE
TZID:America/Toronto
BEGIN:DAYLIGHT
TZOFFSETFROM:-0500
TZOFFSETTO:-0400
TZNAME:EDT
DTSTART:20240310T070000
END:DAYLIGHT
BEGIN:STANDARD
TZOFFSETFROM:-0400
TZOFFSETTO:-0500
TZNAME:EST
DTSTART:20241103T060000
END:STANDARD
BEGIN:DAYLIGHT
TZOFFSETFROM:-0500
TZOFFSETTO:-0400
TZNAME:EDT
DTSTART:20250309T070000
END:DAYLIGHT
BEGIN:STANDARD
TZOFFSETFROM:-0400
TZOFFSETTO:-0500
TZNAME:EST
DTSTART:20251102T060000
END:STANDARD
BEGIN:DAYLIGHT
TZOFFSETFROM:-0500
TZOFFSETTO:-0400
TZNAME:EDT
DTSTART:20260308T070000
END:DAYLIGHT
BEGIN:STANDARD
TZOFFSETFROM:-0400
TZOFFSETTO:-0500
TZNAME:EST
DTSTART:20261101T060000
END:STANDARD
END:VTIMEZONE
BEGIN:VEVENT
DTSTART;TZID=America/Toronto:20250915T190000
DTEND;TZID=America/Toronto:20250915T203000
DTSTAMP:20260423T195018
CREATED:20250824T150437Z
LAST-MODIFIED:20250824T151514Z
UID:10001508-1757962800-1757968200@gardenontario.org
SUMMARY:September Speaker
DESCRIPTION:Woolwich Gardeners speaker: Nikola Barsoum (Half Moon Herbals: Farm & Apothecary) “What Does it Take to Grow Your Own Medicine?” \nMonday September 15\, 2025 \nLocation: St. James Lutheran Church\, 60 Arthur St. S.\,  Elmira\, ON N3B 2M9 (Wyatt St. entrance) \n7:00-8:30 p.m. \nWoolwich Gardeners members free; free-will donation for non-members \nOpen to the public! Bring your own mug for refreshments and treats.
URL:https://gardenontario.org/event/september-speaker/
LOCATION:St. James Lutheran\, 60 Arthur St. S.\, Elmira\, ON\, N3B 2M9
CATEGORIES:Community Event,Guest Speaker
ATTACH;FMTTYPE=image/jpeg:https://gardenontario.org/wp-content/uploads/Nicola-Barsoum-scaled.jpeg
GEO:43.5980982;-80.5598585
X-APPLE-STRUCTURED-LOCATION;VALUE=URI;X-ADDRESS=St. James Lutheran 60 Arthur St. S. Elmira ON N3B 2M9;X-APPLE-RADIUS=500;X-TITLE=60 Arthur St. S.:geo:-80.5598585,43.5980982
END:VEVENT
END:VCALENDAR