BEGIN:VCALENDAR
VERSION:2.0
PRODID:-//GardenOntario - ECPv6.15.20//NONSGML v1.0//EN
CALSCALE:GREGORIAN
METHOD:PUBLISH
X-ORIGINAL-URL:https://gardenontario.org
X-WR-CALDESC:Events for GardenOntario
REFRESH-INTERVAL;VALUE=DURATION:PT1H
X-Robots-Tag:noindex
X-PUBLISHED-TTL:PT1H
BEGIN:VTIMEZONE
TZID:America/Toronto
BEGIN:DAYLIGHT
TZOFFSETFROM:-0500
TZOFFSETTO:-0400
TZNAME:EDT
DTSTART:20240310T070000
END:DAYLIGHT
BEGIN:STANDARD
TZOFFSETFROM:-0400
TZOFFSETTO:-0500
TZNAME:EST
DTSTART:20241103T060000
END:STANDARD
BEGIN:DAYLIGHT
TZOFFSETFROM:-0500
TZOFFSETTO:-0400
TZNAME:EDT
DTSTART:20250309T070000
END:DAYLIGHT
BEGIN:STANDARD
TZOFFSETFROM:-0400
TZOFFSETTO:-0500
TZNAME:EST
DTSTART:20251102T060000
END:STANDARD
BEGIN:DAYLIGHT
TZOFFSETFROM:-0500
TZOFFSETTO:-0400
TZNAME:EDT
DTSTART:20260308T070000
END:DAYLIGHT
BEGIN:STANDARD
TZOFFSETFROM:-0400
TZOFFSETTO:-0500
TZNAME:EST
DTSTART:20261101T060000
END:STANDARD
END:VTIMEZONE
BEGIN:VEVENT
DTSTART;TZID=America/Toronto:20250908T193000
DTEND;TZID=America/Toronto:20250908T213000
DTSTAMP:20260423T234823
CREATED:20250810T135959Z
LAST-MODIFIED:20250810T140017Z
UID:10001495-1757359800-1757367000@gardenontario.org
SUMMARY:Agincourt Garden Club + Diana Shermet present Urban Forests
DESCRIPTION:AGINCOURT GARDEN CLUB This group is for novice\, regular and expert gardeners \n  \nSept. 8\, in person meeting \nStart time:   7:30 pm \n(No flower show tonight\, we are saving our favourites for our huge fall show Saturday Sept. 13) \nIN PERSON meeting for members and guests. \nLearn from Headliner:  Expert Diana Shermet\, The Role of Urban Forests  (Diana Shermet is a Natural Environment Coordinator for implementation of the Urban Forest Management Plan and related Natural Heritage studies\, strategies and policies. A graduate of Wilfrid Laurier University and Niagara College\, Diana has more than 15 years of experience working with Conservation Authorities focused on ecological monitoring\, natural area inventories\, invasive species management\, ecological restoration planning and implementation\, and development plan review.) \nLaugh:  friendship\, chatter and laughter \nDessert:  light refreshments \nLocation:  Knox United Christian Education Center\, 2575 Midland Ave. @ Sheppard\, driveway off of Rural Ave.  Bus stop at Rural Ave. \nFor more info:  Cheryl.penner@hotmail.com \nVisit our Facebook and Instagram pages. \n 
URL:https://gardenontario.org/event/agincourt-garden-club-diana-shermet-present-urban-forests/
LOCATION:Knox United Christian Education Center\, 2575 Midland Ave @ Sheppard\, Agincourt\, M1S 1R4\, Canada
CATEGORIES:Community Event,Society Meeting
ATTACH;FMTTYPE=image/jpeg:https://gardenontario.org/wp-content/uploads/DSC2341-2-1-scaled.jpg
ORGANIZER;CN="AgincourtGardenClub":MAILTO:cheryl.penner@hotmail.com
GEO:43.7857836;-79.2787445
X-APPLE-STRUCTURED-LOCATION;VALUE=URI;X-ADDRESS=Knox United Christian Education Center 2575 Midland Ave @ Sheppard Agincourt M1S 1R4 Canada;X-APPLE-RADIUS=500;X-TITLE=2575 Midland Ave @ Sheppard:geo:-79.2787445,43.7857836
END:VEVENT
BEGIN:VEVENT
DTSTART;TZID=America/Toronto:20250913T080000
DTEND;TZID=America/Toronto:20250913T170000
DTSTAMP:20260423T234823
CREATED:20250813T135412Z
LAST-MODIFIED:20250813T135412Z
UID:10001497-1757750400-1757782800@gardenontario.org
SUMMARY:BHS 2025 Fall Plant Sale
DESCRIPTION:Please join us on Saturday\, September 13th\, from 10 am to 1 pm for our 2025 Fall Plant Sale.  A beautiful variety of plants will be on display for you to purchase\, with friendly Club members to assist you.  Please join us rain or shine.  Everyone is Welcome!
URL:https://gardenontario.org/event/bhs-2025-fall-plant-sale/2025-09-13/1/
LOCATION:Millennium Park\, Bancroft\, ON.\, 168 Hastings St. N.\, Bancroft\, K0L1C0
CATEGORIES:Community Event
ORGANIZER;CN="Bancroft Horticultural Society (BHS)":MAILTO:bancrofthort@gmail.com
END:VEVENT
BEGIN:VEVENT
DTSTART;TZID=America/Toronto:20250913T100000
DTEND;TZID=America/Toronto:20250913T130000
DTSTAMP:20260423T234823
CREATED:20250813T135412Z
LAST-MODIFIED:20250813T135412Z
UID:10001498-1757757600-1757768400@gardenontario.org
SUMMARY:BHS 2025 Fall Plant Sale
DESCRIPTION:Please join us on Saturday\, September 13th\, from 10 am to 1 pm for our 2025 Fall Plant Sale.  A beautiful variety of plants will be on display for you to purchase\, with friendly Club members to assist you.  Please join us rain or shine.  Everyone is Welcome!
URL:https://gardenontario.org/event/bhs-2025-fall-plant-sale/2025-09-13/2/
LOCATION:Millennium Park\, Bancroft\, ON.\, 168 Hastings St. N.\, Bancroft\, K0L1C0
CATEGORIES:Community Event
ORGANIZER;CN="Bancroft Horticultural Society (BHS)":MAILTO:bancrofthort@gmail.com
END:VEVENT
BEGIN:VEVENT
DTSTART;TZID=America/Toronto:20250913T100000
DTEND;TZID=America/Toronto:20250913T130000
DTSTAMP:20260423T234823
CREATED:20250813T140019Z
LAST-MODIFIED:20250813T140019Z
UID:10001499-1757757600-1757768400@gardenontario.org
SUMMARY:BHS 2025 Fall Plant Sale
DESCRIPTION:Please join us Saturday\, September 13\, 2025\, 10 am to 1 pm for our 2025 Fall Plant Sale.  A beautiful variety of plants will be on display for you to purchase\, with friendly Club members to assist you.  Rain or shine!  Everyone is welcome
URL:https://gardenontario.org/event/bhs-2025-fall-plant-sale-2/
LOCATION:Millennium Park\, Bancroft\, ON\, 168 Hastings St. N.\, Bancroft\, K0L1C0
CATEGORIES:Community Event
ATTACH;FMTTYPE=image/jpeg:https://gardenontario.org/wp-content/uploads/‎Fall-2025-Plant-Sale.‎1.jpeg
ORGANIZER;CN="Bancroft Horticultural Society (BHS)":MAILTO:bancrofthort@gmail.com
END:VEVENT
BEGIN:VEVENT
DTSTART;TZID=America/Toronto:20250913T140000
DTEND;TZID=America/Toronto:20250913T160000
DTSTAMP:20260423T234823
CREATED:20250817T153622Z
LAST-MODIFIED:20250817T155241Z
UID:10001503-1757772000-1757779200@gardenontario.org
SUMMARY:Agincourt Garden Club – Free to the Public: Flower\, Veggie + Design Show + Tea Room
DESCRIPTION:Grab your family + friends to drop in to this annual Flower\, Veggie and Design Show. It’s free!!!  Mark your calendars now! \n  \nYour mission if you choose to accept it is to: \nArrive at this indoor garden hall\, with your camera\, stroll around the hall packed with flowers\, veggies and flower designs\, our members have entered for a friendly competition. \nTake in the fragrances\, the colours\, shapes and displays. \nSee if you agree with the judge’s assessment of who got 1st\, 2nd\, 3rd? lol \nAsk questions of the members and we will help answer your questions. (For instance\, did you know you could keep your geraniums and other plants over winter\, so you don’t have to buy them every year?) \n  \nEvery year we all see plants/flowers we have never seen before. \n  \nOnce you have visited the displays\, move to the Tea Room for light refreshments and socializing. \n  \nWe hope to see you there with your friends and family to help us enjoy the day. \n  \nDate:   Saturday Sept. 13/25 \nTime:    2-4 \nLocation:  Knox United Christian Education Center\, 2575 Midland @ Sheppard\, driveway and bus stop off of Rural Ave. \n  \n  \nFor more info: cheryl.penner@hotmail.com \n 
URL:https://gardenontario.org/event/agiincourt-garden-club-free-to-the-public-flower-veggie-design-show-tea-room/
LOCATION:Knox United Christian Education Center\, 2575 Midland Ave @ Sheppard\, Agincourt\, M1S 1R4\, Canada
CATEGORIES:Community Event,Flower & Vegetable Show
ATTACH;FMTTYPE=image/jpeg:https://gardenontario.org/wp-content/uploads/DSC01763-1-scaled.jpg
ORGANIZER;CN="AgincourtGardenClub":MAILTO:cheryl.penner@hotmail.com
GEO:43.7857836;-79.2787445
X-APPLE-STRUCTURED-LOCATION;VALUE=URI;X-ADDRESS=Knox United Christian Education Center 2575 Midland Ave @ Sheppard Agincourt M1S 1R4 Canada;X-APPLE-RADIUS=500;X-TITLE=2575 Midland Ave @ Sheppard:geo:-79.2787445,43.7857836
END:VEVENT
END:VCALENDAR