BEGIN:VCALENDAR
VERSION:2.0
PRODID:-//GardenOntario - ECPv6.15.20//NONSGML v1.0//EN
CALSCALE:GREGORIAN
METHOD:PUBLISH
X-ORIGINAL-URL:https://gardenontario.org
X-WR-CALDESC:Events for GardenOntario
REFRESH-INTERVAL;VALUE=DURATION:PT1H
X-Robots-Tag:noindex
X-PUBLISHED-TTL:PT1H
BEGIN:VTIMEZONE
TZID:America/Toronto
BEGIN:DAYLIGHT
TZOFFSETFROM:-0500
TZOFFSETTO:-0400
TZNAME:EDT
DTSTART:20250309T070000
END:DAYLIGHT
BEGIN:STANDARD
TZOFFSETFROM:-0400
TZOFFSETTO:-0500
TZNAME:EST
DTSTART:20251102T060000
END:STANDARD
BEGIN:DAYLIGHT
TZOFFSETFROM:-0500
TZOFFSETTO:-0400
TZNAME:EDT
DTSTART:20260308T070000
END:DAYLIGHT
BEGIN:STANDARD
TZOFFSETFROM:-0400
TZOFFSETTO:-0500
TZNAME:EST
DTSTART:20261101T060000
END:STANDARD
BEGIN:DAYLIGHT
TZOFFSETFROM:-0500
TZOFFSETTO:-0400
TZNAME:EDT
DTSTART:20270314T070000
END:DAYLIGHT
BEGIN:STANDARD
TZOFFSETFROM:-0400
TZOFFSETTO:-0500
TZNAME:EST
DTSTART:20271107T060000
END:STANDARD
END:VTIMEZONE
BEGIN:VEVENT
DTSTART;TZID=America/Toronto:20260417T100000
DTEND;TZID=America/Toronto:20260930T110000
DTSTAMP:20260423T062633
CREATED:20260417T112535Z
LAST-MODIFIED:20260417T112535Z
UID:10001839-1776420000-1790766000@gardenontario.org
SUMMARY:Community Civic Improvements
DESCRIPTION:Volunteer to help with Williamstown and Lancaster community civic improvements. \nHelp with planting\, weeding\, watering in public places to beautify our towns. Williamstown bridge boxes\, Glen Gordon Park\, Village entrance signs\, Lancaster library garden and children’s garden at the Nor’ Westerner’s Museum… Contact Mary Regan 613-931-3285 to participate
URL:https://gardenontario.org/event/community-civic-improvements/
CATEGORIES:Community Event
END:VEVENT
BEGIN:VEVENT
DTSTART;TZID=America/Toronto:20260509T080000
DTEND;TZID=America/Toronto:20260509T140000
DTSTAMP:20260423T062633
CREATED:20251230T164330Z
LAST-MODIFIED:20260407T150303Z
UID:10001625-1778313600-1778335200@gardenontario.org
SUMMARY:Schomberg Horticultural Society Annual Plant Sale
DESCRIPTION:The early bird gets the worm! Annual baskets for Mother’s Day\, hard to find perennials\, trees and shrubs. Heirloom tomato plants\, herbs and vegetable plants. Native plants. \nIn partnership with the Schomberg Community farm
URL:https://gardenontario.org/event/schomberg-horticultural-society-annual-plant-sale-2/
LOCATION:Schomberg Community Farm\, 210 Western Road\, Schomberg\, L0G1T0\, Canada
CATEGORIES:Community Event,Course/Seminar/Workshop,District,Flower & Vegetable Show,Grow With Us!,Partner Event,Plant Sale,Workshops
ATTACH;FMTTYPE=image/png:https://gardenontario.org/wp-content/uploads/2026-HORT-plant-sale-FINAL.png
ORGANIZER;CN="Schomberg Horticultural Society":MAILTO:schomberghortsociety@gmail.com
GEO:43.8467356;-79.5610728
X-APPLE-STRUCTURED-LOCATION;VALUE=URI;X-ADDRESS=Schomberg Community Farm 210 Western Road Schomberg L0G1T0 Canada;X-APPLE-RADIUS=500;X-TITLE=210 Western Road:geo:-79.5610728,43.8467356
END:VEVENT
BEGIN:VEVENT
DTSTART;TZID=America/Toronto:20260509T090000
DTEND;TZID=America/Toronto:20260509T120000
DTSTAMP:20260423T062633
CREATED:20260323T173952Z
LAST-MODIFIED:20260323T174455Z
UID:10001798-1778317200-1778328000@gardenontario.org
SUMMARY:Niagara-on-the-Lake Horticultural Society Annual Plant Sale
DESCRIPTION:Our famous Plant Sale is back again \nSaturday May 9th 9:00am to noon \nRain or Shine \nCome and discover wonderful plants that are proven winners shared from the gardens of our horticultural members. \nPerennials\, Annuals\, Groundcovers\, Shrubs\, Tomatoes\, Herbs \nOur experienced members will be on-hand with gardening advice \nAgain we offer Tool Sharpening for a nominal fee – so plan to bring those garden tools and get them ready for a busy season. \nTHIS IS A CASH ONLY EVENT \nMeridian Virgil Arenda – 1565 Four Mile Creek Road\, Niagara-on-the-Lake \n 
URL:https://gardenontario.org/event/niagara-on-the-lake-horticultural-society-annual-plant-sale-3/
LOCATION:Meridian Arena\, 1567 Four Mile Creek\, Virgil\, L0S 1J0
CATEGORIES:Community Event,Plant Sale
ATTACH;FMTTYPE=image/png:https://gardenontario.org/wp-content/uploads/PlantSale-2026-1-scaled.png
ORGANIZER;CN="Niagara on the Lake Horticultural Society":MAILTO:notlhortsociety@gmail.com
GEO:43.2198235;-79.1195306
X-APPLE-STRUCTURED-LOCATION;VALUE=URI;X-ADDRESS=Meridian Arena 1567 Four Mile Creek Virgil L0S 1J0;X-APPLE-RADIUS=500;X-TITLE=1567 Four Mile Creek:geo:-79.1195306,43.2198235
END:VEVENT
BEGIN:VEVENT
DTSTART;TZID=America/Toronto:20260514T113000
DTEND;TZID=America/Toronto:20260514T133000
DTSTAMP:20260423T062633
CREATED:20260206T202030Z
LAST-MODIFIED:20260206T202030Z
UID:10001729-1778758200-1778765400@gardenontario.org
SUMMARY:Tulip Day Festival
DESCRIPTION:This is an annual event to celebrate the liberation of Holland in WWII.  Our area has a number of people with Dutch heritage\, some of whom will share their stories at this event.  There is a BBQ\, cake\, artwork by the local high school\, music and often airforce fly overs.
URL:https://gardenontario.org/event/tulip-day-festival/
CATEGORIES:Community Event
ATTACH;FMTTYPE=image/jpeg:https://gardenontario.org/wp-content/uploads/SGC-2026-Tulip-Fest-poster-let-size-v3_Page_2.jpeg
END:VEVENT
BEGIN:VEVENT
DTSTART;TZID=America/Toronto:20260519T190000
DTEND;TZID=America/Toronto:20260519T213000
DTSTAMP:20260423T062633
CREATED:20251230T154159Z
LAST-MODIFIED:20251230T155656Z
UID:10001622-1779217200-1779226200@gardenontario.org
SUMMARY:Schomberg Horticultural Society – Kathleen Gorsline “Square Foot Gardening”
DESCRIPTION:  \n“Square Foot Gardening” by Kathleen Gorsline. Kathleen is a Master Gardener and revered member of the Schomberg Horticultural Society (and superb curler) who will explain how we can grow wonderful food and flowers in a limited\, organized and manageable space. \nDoors open at 7pm – presentation starts at 7:30 \nRefreshments\, flower show\, door prizes \nFree to members\, $ 5.00 at the door for guests \n 
URL:https://gardenontario.org/event/schomberg-horticultural-society-kristen-martyn-backyard-birds-2/
LOCATION:Schomberg CommunityHall\, 325 Main Street\, Schomberg\, L0G1T0
CATEGORIES:Calling All Volunteers,Community Event,Course/Seminar/Workshop,District,Flower & Vegetable Show,Guest Speaker,Society Meeting,Workshops
ATTACH;FMTTYPE=image/jpeg:https://gardenontario.org/wp-content/uploads/Kathleen-Gorsline-May-2026.jpg
ORGANIZER;CN="Schomberg Horticultural Society":MAILTO:schomberghortsociety@gmail.com
GEO:44.0039021;-79.6844574
X-APPLE-STRUCTURED-LOCATION;VALUE=URI;X-ADDRESS=Schomberg CommunityHall 325 Main Street Schomberg L0G1T0;X-APPLE-RADIUS=500;X-TITLE=325 Main Street:geo:-79.6844574,44.0039021
END:VEVENT
BEGIN:VEVENT
DTSTART;TZID=America/Toronto:20260523T083000
DTEND;TZID=America/Toronto:20260523T110000
DTSTAMP:20260423T062633
CREATED:20260416T181532Z
LAST-MODIFIED:20260416T182053Z
UID:10001836-1779525000-1779534000@gardenontario.org
SUMMARY:2026 SPRING PLANT SALE
DESCRIPTION:Spring is here and that means our annual plant sale is back! \nNeed help choosing plants? We will have the Halton Master Gardeners on site to assist with plant choices and answer all your gardening questions. See you there!
URL:https://gardenontario.org/event/2026-spring-plant-sale/
LOCATION:Glen Abbey United Church\, 1469 Nottinghill Gate\, Oakville\, L6M 1X7
CATEGORIES:Community Event,Plant Sale
ATTACH;FMTTYPE=image/png:https://gardenontario.org/wp-content/uploads/OHS-Plant-sale-flyer.png
ORGANIZER;CN="Oakville Horticultural Society":MAILTO:info.ohs@oakvillehort.org
GEO:43.4456289;-79.7316624
X-APPLE-STRUCTURED-LOCATION;VALUE=URI;X-ADDRESS=Glen Abbey United Church 1469 Nottinghill Gate Oakville L6M 1X7;X-APPLE-RADIUS=500;X-TITLE=1469 Nottinghill Gate:geo:-79.7316624,43.4456289
END:VEVENT
BEGIN:VEVENT
DTSTART;TZID=America/Toronto:20260523T100000
DTEND;TZID=America/Toronto:20260523T130000
DTSTAMP:20260423T062633
CREATED:20260324T144359Z
LAST-MODIFIED:20260324T171645Z
UID:10001799-1779530400-1779541200@gardenontario.org
SUMMARY:Plant Fair 2026: Parkdale & Toronto Horticultural Society
DESCRIPTION:A beloved\, local Plant Fair that’s also a community gardens’ fundraiser!\nFREE admission. A rain or shine event. \n***Featuring***\nNatives\, pollinators\, organic herbs & veggies\, shade lovers & hard-to-find plants. Plus\, a garden flea market\, free gardening advice\, & groovy giveaways! \n***NOT Featuring***\nAnything invasive. Shop with ease knowing that nothing invasive will be on offer\, including unregulated invasive plants (like English Ivy\, Lily of the valley\, Daylily\, Periwinkle\, Goutweed\, etc.) that sadly can still be found at many garden centres. Speak up\, voice your concern! These pests are taking over Ontario’s woodlands. \n***Jumping Worms?***\nWe’ve got you covered! Whether you know about invasive jumping worms or not\, don’t fret when shopping our fair. All donated plants have been thoroughly root-washed\, repotted in clean pots with commercial potting soil\, and stored off the ground. Donated plants are collected two weeks prior to the sale to ensure viability after root-washing. It’s the third year that we are doing this. It’s a lot… but it matters! 💚 \n***Mobility & Accessibility***\nHosted\, once again\, in Roncy United Church\, this accessible space (with ramp access) can accommodate people with mobility devices as well as those bringing wagons and strollers. \n***Gardening Advice***\nHaving trouble knowing what plants to put where? Have a pesky problem with something in your garden? Ask one of our garden experts to weigh in\, FREE of charge. \n***Payment***\nCash\, debit\, and all major credit cards on purchases of $50 or more. \nSee you there! \n– – – – – – – – – – – \nOur horticultural society is a recognized not-for-profit committed to sharing the joys of plant-growing through encouraging school gardens\, outreach that makes gardening accessible to those of all physical and mental abilities\, hosting horticultural talks\, and funding greening initiatives that make for a more livable city. parkdaletorontohort.com
URL:https://gardenontario.org/event/plant-fair-2026-parkdale-toronto-horticultural-society/
LOCATION:Roncesvalles United Church\, 240 Roncesvalles Avenue\, Toronto\, M6R 1M3
CATEGORIES:Community Event,Garden Fair/Festival,Plant Sale
ATTACH;FMTTYPE=image/jpeg:https://gardenontario.org/wp-content/uploads/facebook_event_plantfair_2026-scaled.jpg
ORGANIZER;CN="Horticultural Societies of Parkdale &amp%3B Toronto":MAILTO:plantfair@parkdaletorontohort.com
GEO:43.6455281;-79.4493105
X-APPLE-STRUCTURED-LOCATION;VALUE=URI;X-ADDRESS=Roncesvalles United Church 240 Roncesvalles Avenue Toronto M6R 1M3;X-APPLE-RADIUS=500;X-TITLE=240 Roncesvalles Avenue:geo:-79.4493105,43.6455281
END:VEVENT
END:VCALENDAR