BEGIN:VCALENDAR
VERSION:2.0
PRODID:-//GardenOntario - ECPv6.15.20//NONSGML v1.0//EN
CALSCALE:GREGORIAN
METHOD:PUBLISH
X-ORIGINAL-URL:https://gardenontario.org
X-WR-CALDESC:Events for GardenOntario
REFRESH-INTERVAL;VALUE=DURATION:PT1H
X-Robots-Tag:noindex
X-PUBLISHED-TTL:PT1H
BEGIN:VTIMEZONE
TZID:America/Toronto
BEGIN:DAYLIGHT
TZOFFSETFROM:-0500
TZOFFSETTO:-0400
TZNAME:EDT
DTSTART:20250309T070000
END:DAYLIGHT
BEGIN:STANDARD
TZOFFSETFROM:-0400
TZOFFSETTO:-0500
TZNAME:EST
DTSTART:20251102T060000
END:STANDARD
BEGIN:DAYLIGHT
TZOFFSETFROM:-0500
TZOFFSETTO:-0400
TZNAME:EDT
DTSTART:20260308T070000
END:DAYLIGHT
BEGIN:STANDARD
TZOFFSETFROM:-0400
TZOFFSETTO:-0500
TZNAME:EST
DTSTART:20261101T060000
END:STANDARD
BEGIN:DAYLIGHT
TZOFFSETFROM:-0500
TZOFFSETTO:-0400
TZNAME:EDT
DTSTART:20270314T070000
END:DAYLIGHT
BEGIN:STANDARD
TZOFFSETFROM:-0400
TZOFFSETTO:-0500
TZNAME:EST
DTSTART:20271107T060000
END:STANDARD
END:VTIMEZONE
BEGIN:VEVENT
DTSTART;TZID=America/Toronto:20261015T190000
DTEND;TZID=America/Toronto:20261015T203000
DTSTAMP:20260423T191941
CREATED:20260201T234157Z
LAST-MODIFIED:20260201T234157Z
UID:10001704-1792090800-1792096200@gardenontario.org
SUMMARY:TRENTON HORTICULTURAL SOCIETY OCTOBER MEETING ON HOT SAUCES
DESCRIPTION:Mark Barranger-Mitchell is back in the kitchen cooking up a variety of hot sauces to sample and will provide recipes for our members.  Flower Show and Photo Competition as well.
URL:https://gardenontario.org/event/trenton-horticultural-society-october-meeting-on-hot-sauces/
LOCATION:BatawaCommunityCentre\, 81 Plant St.\, Batawa\, K0K 1E0
ORGANIZER;CN="Trenton Horticultural Society":MAILTO:trentonhorticulture@gmail.com
GEO:44.171082;-77.5939097
X-APPLE-STRUCTURED-LOCATION;VALUE=URI;X-ADDRESS=BatawaCommunityCentre 81 Plant St. Batawa K0K 1E0;X-APPLE-RADIUS=500;X-TITLE=81 Plant St.:geo:-77.5939097,44.171082
END:VEVENT
END:VCALENDAR