BEGIN:VCALENDAR
VERSION:2.0
PRODID:-//GardenOntario - ECPv6.15.20//NONSGML v1.0//EN
CALSCALE:GREGORIAN
METHOD:PUBLISH
X-ORIGINAL-URL:https://gardenontario.org
X-WR-CALDESC:Events for GardenOntario
REFRESH-INTERVAL;VALUE=DURATION:PT1H
X-Robots-Tag:noindex
X-PUBLISHED-TTL:PT1H
BEGIN:VTIMEZONE
TZID:America/Toronto
BEGIN:DAYLIGHT
TZOFFSETFROM:-0500
TZOFFSETTO:-0400
TZNAME:EDT
DTSTART:20250309T070000
END:DAYLIGHT
BEGIN:STANDARD
TZOFFSETFROM:-0400
TZOFFSETTO:-0500
TZNAME:EST
DTSTART:20251102T060000
END:STANDARD
BEGIN:DAYLIGHT
TZOFFSETFROM:-0500
TZOFFSETTO:-0400
TZNAME:EDT
DTSTART:20260308T070000
END:DAYLIGHT
BEGIN:STANDARD
TZOFFSETFROM:-0400
TZOFFSETTO:-0500
TZNAME:EST
DTSTART:20261101T060000
END:STANDARD
BEGIN:DAYLIGHT
TZOFFSETFROM:-0500
TZOFFSETTO:-0400
TZNAME:EDT
DTSTART:20270314T070000
END:DAYLIGHT
BEGIN:STANDARD
TZOFFSETFROM:-0400
TZOFFSETTO:-0500
TZNAME:EST
DTSTART:20271107T060000
END:STANDARD
END:VTIMEZONE
BEGIN:VEVENT
DTSTART;TZID=America/Toronto:20261005T190000
DTEND;TZID=America/Toronto:20261005T210000
DTSTAMP:20260423T204001
CREATED:20260417T124014Z
LAST-MODIFIED:20260417T124014Z
UID:10001847-1791226800-1791234000@gardenontario.org
SUMMARY:Monthly Meeting
DESCRIPTION:Monday\, October 5\, 7:00 p.m. – Monthly Meeting\nContributions to door prizes are most welcome!\nPresentation: Peter Lechner – Artisan Garlic\nTime available for Peter to have a Mini Q&A session with members\nDoor prize includes garlic from our speaker\nGarlic is available for sale. CASH ONLY\nReminder: Bring your mug for coffee or tea \nmore info call Lia Lindeman 613-347-3533
URL:https://gardenontario.org/event/monthly-meeting-8/
LOCATION:Williamstown Char Lan Arena\, 19740 John Street\, Williamstown\, ON\, K0C 2J0\, Canada
END:VEVENT
END:VCALENDAR