BEGIN:VCALENDAR
VERSION:2.0
PRODID:-//GardenOntario - ECPv6.15.20//NONSGML v1.0//EN
CALSCALE:GREGORIAN
METHOD:PUBLISH
X-WR-CALNAME:GardenOntario
X-ORIGINAL-URL:https://gardenontario.org
X-WR-CALDESC:Events for GardenOntario
REFRESH-INTERVAL;VALUE=DURATION:PT1H
X-Robots-Tag:noindex
X-PUBLISHED-TTL:PT1H
BEGIN:VTIMEZONE
TZID:America/Toronto
BEGIN:DAYLIGHT
TZOFFSETFROM:-0500
TZOFFSETTO:-0400
TZNAME:EDT
DTSTART:20250309T070000
END:DAYLIGHT
BEGIN:STANDARD
TZOFFSETFROM:-0400
TZOFFSETTO:-0500
TZNAME:EST
DTSTART:20251102T060000
END:STANDARD
BEGIN:DAYLIGHT
TZOFFSETFROM:-0500
TZOFFSETTO:-0400
TZNAME:EDT
DTSTART:20260308T070000
END:DAYLIGHT
BEGIN:STANDARD
TZOFFSETFROM:-0400
TZOFFSETTO:-0500
TZNAME:EST
DTSTART:20261101T060000
END:STANDARD
BEGIN:DAYLIGHT
TZOFFSETFROM:-0500
TZOFFSETTO:-0400
TZNAME:EDT
DTSTART:20270314T070000
END:DAYLIGHT
BEGIN:STANDARD
TZOFFSETFROM:-0400
TZOFFSETTO:-0500
TZNAME:EST
DTSTART:20271107T060000
END:STANDARD
END:VTIMEZONE
BEGIN:VEVENT
DTSTART;TZID=America/Toronto:20260417T100000
DTEND;TZID=America/Toronto:20260930T110000
DTSTAMP:20260419T110343
CREATED:20260417T112535Z
LAST-MODIFIED:20260417T112535Z
UID:10001839-1776420000-1790766000@gardenontario.org
SUMMARY:Community Civic Improvements
DESCRIPTION:Volunteer to help with Williamstown and Lancaster community civic improvements. \nHelp with planting\, weeding\, watering in public places to beautify our towns. Williamstown bridge boxes\, Glen Gordon Park\, Village entrance signs\, Lancaster library garden and children’s garden at the Nor’ Westerner’s Museum… Contact Mary Regan 613-931-3285 to participate
URL:https://gardenontario.org/event/community-civic-improvements/
CATEGORIES:Community Event
END:VEVENT
BEGIN:VEVENT
DTSTART;TZID=America/Toronto:20260618T170000
DTEND;TZID=America/Toronto:20260618T210000
DTSTAMP:20260419T110343
CREATED:20260415T181951Z
LAST-MODIFIED:20260415T181951Z
UID:10001833-1781802000-1781816400@gardenontario.org
SUMMARY:Orangeville Hidden Gems Garden Tour "Grand Views of Grand Valley"
DESCRIPTION:Please join us for our annual Hidden Gems garden tour. This year we are featuring some “Grand Views of Grand Valley”. Tickets are available to purchase for $20 at the Orangeville\, Hillsburgh\, Grand Valley and Erin horticulture meetings.
URL:https://gardenontario.org/event/orangeville-hidden-gems-garden-tour-grand-views-of-grand-valley/
LOCATION:GrandValleyOntario
END:VEVENT
BEGIN:VEVENT
DTSTART;TZID=America/Toronto:20260618T190000
DTEND;TZID=America/Toronto:20260618T203000
DTSTAMP:20260419T110343
CREATED:20260201T232258Z
LAST-MODIFIED:20260201T232308Z
UID:10001701-1781809200-1781814600@gardenontario.org
SUMMARY:TRENTON HORTICULTURAL SOCIETY ROSE SHOW & COMPETITION
DESCRIPTION:Smell the roses and learn from our guest speaker Roland Cave Brown Cave about successfully growing roses.
URL:https://gardenontario.org/event/trenton-horticultural-society-rose-show-competition/
LOCATION:BatawaCommunityCentre\, 81 Plant St.\, Batawa\, K0K 1E0
ATTACH;FMTTYPE=image/jpeg:https://gardenontario.org/wp-content/uploads/20200830_125030-1-scaled.jpg
ORGANIZER;CN="Trenton Horticultural Society":MAILTO:trentonhorticulture@gmail.com
GEO:44.171082;-77.5939097
X-APPLE-STRUCTURED-LOCATION;VALUE=URI;X-ADDRESS=BatawaCommunityCentre 81 Plant St. Batawa K0K 1E0;X-APPLE-RADIUS=500;X-TITLE=81 Plant St.:geo:-77.5939097,44.171082
END:VEVENT
END:VCALENDAR