BEGIN:VCALENDAR
VERSION:2.0
PRODID:-//GardenOntario - ECPv6.15.20//NONSGML v1.0//EN
CALSCALE:GREGORIAN
METHOD:PUBLISH
X-WR-CALNAME:GardenOntario
X-ORIGINAL-URL:https://gardenontario.org
X-WR-CALDESC:Events for GardenOntario
REFRESH-INTERVAL;VALUE=DURATION:PT1H
X-Robots-Tag:noindex
X-PUBLISHED-TTL:PT1H
BEGIN:VTIMEZONE
TZID:America/Toronto
BEGIN:DAYLIGHT
TZOFFSETFROM:-0500
TZOFFSETTO:-0400
TZNAME:EDT
DTSTART:20250309T070000
END:DAYLIGHT
BEGIN:STANDARD
TZOFFSETFROM:-0400
TZOFFSETTO:-0500
TZNAME:EST
DTSTART:20251102T060000
END:STANDARD
BEGIN:DAYLIGHT
TZOFFSETFROM:-0500
TZOFFSETTO:-0400
TZNAME:EDT
DTSTART:20260308T070000
END:DAYLIGHT
BEGIN:STANDARD
TZOFFSETFROM:-0400
TZOFFSETTO:-0500
TZNAME:EST
DTSTART:20261101T060000
END:STANDARD
BEGIN:DAYLIGHT
TZOFFSETFROM:-0500
TZOFFSETTO:-0400
TZNAME:EDT
DTSTART:20270314T070000
END:DAYLIGHT
BEGIN:STANDARD
TZOFFSETFROM:-0400
TZOFFSETTO:-0500
TZNAME:EST
DTSTART:20271107T060000
END:STANDARD
END:VTIMEZONE
BEGIN:VEVENT
DTSTART;TZID=America/Toronto:20260608T193000
DTEND;TZID=America/Toronto:20260608T210000
DTSTAMP:20260425T190937
CREATED:20260424T151822Z
LAST-MODIFIED:20260424T151822Z
UID:10001854-1780947000-1780952400@gardenontario.org
SUMMARY:Georgina-Brock Garden Club - Top 20 'Must Have' Plants for Your Perennial Garden
DESCRIPTION:Top 20 ‘Must Have’ Plants for Your Perennial Garden with Sherry Dodson. A plant lover and Master Gardener\, Sherry is creating gardens from scratch at her new residence in Beaverton. Her 1.3 acre property presents limitless possibilities! Sherry will identify plants that she loves and explain why she wants them in her new gardens. This informative talk is ideal for both new and seasoned gardeners.\nEveryone welcome.
URL:https://gardenontario.org/event/georgina-brock-garden-club-top-20-must-have-plants-for-your-perennial-garden/
LOCATION:Pefferlaw Lions Community Centre\, 38 Pete's Lane\, Pefferlaw\, L0E 1N0
CATEGORIES:Guest Speaker
ATTACH;FMTTYPE=image/jpeg:https://gardenontario.org/wp-content/uploads/June-meeting-.jpg
GEO:44.3105722;-79.1943974
X-APPLE-STRUCTURED-LOCATION;VALUE=URI;X-ADDRESS=Pefferlaw Lions Community Centre 38 Pete's Lane Pefferlaw L0E 1N0;X-APPLE-RADIUS=500;X-TITLE=38 Pete's Lane:geo:-79.1943974,44.3105722
END:VEVENT
END:VCALENDAR