BEGIN:VCALENDAR
VERSION:2.0
PRODID:-//GardenOntario - ECPv6.15.20//NONSGML v1.0//EN
CALSCALE:GREGORIAN
METHOD:PUBLISH
X-WR-CALNAME:GardenOntario
X-ORIGINAL-URL:https://gardenontario.org
X-WR-CALDESC:Events for GardenOntario
REFRESH-INTERVAL;VALUE=DURATION:PT1H
X-Robots-Tag:noindex
X-PUBLISHED-TTL:PT1H
BEGIN:VTIMEZONE
TZID:America/Toronto
BEGIN:DAYLIGHT
TZOFFSETFROM:-0500
TZOFFSETTO:-0400
TZNAME:EDT
DTSTART:20250309T070000
END:DAYLIGHT
BEGIN:STANDARD
TZOFFSETFROM:-0400
TZOFFSETTO:-0500
TZNAME:EST
DTSTART:20251102T060000
END:STANDARD
BEGIN:DAYLIGHT
TZOFFSETFROM:-0500
TZOFFSETTO:-0400
TZNAME:EDT
DTSTART:20260308T070000
END:DAYLIGHT
BEGIN:STANDARD
TZOFFSETFROM:-0400
TZOFFSETTO:-0500
TZNAME:EST
DTSTART:20261101T060000
END:STANDARD
BEGIN:DAYLIGHT
TZOFFSETFROM:-0500
TZOFFSETTO:-0400
TZNAME:EDT
DTSTART:20270314T070000
END:DAYLIGHT
BEGIN:STANDARD
TZOFFSETFROM:-0400
TZOFFSETTO:-0500
TZNAME:EST
DTSTART:20271107T060000
END:STANDARD
END:VTIMEZONE
BEGIN:VEVENT
DTSTART;TZID=America/Toronto:20260417T100000
DTEND;TZID=America/Toronto:20260930T110000
DTSTAMP:20260419T101413
CREATED:20260417T112535Z
LAST-MODIFIED:20260417T112535Z
UID:10001839-1776420000-1790766000@gardenontario.org
SUMMARY:Community Civic Improvements
DESCRIPTION:Volunteer to help with Williamstown and Lancaster community civic improvements. \nHelp with planting\, weeding\, watering in public places to beautify our towns. Williamstown bridge boxes\, Glen Gordon Park\, Village entrance signs\, Lancaster library garden and children’s garden at the Nor’ Westerner’s Museum… Contact Mary Regan 613-931-3285 to participate
URL:https://gardenontario.org/event/community-civic-improvements/
CATEGORIES:Community Event
END:VEVENT
BEGIN:VEVENT
DTSTART;TZID=America/Toronto:20260526T190000
DTEND;TZID=America/Toronto:20260526T203000
DTSTAMP:20260419T101413
CREATED:20260310T144446Z
LAST-MODIFIED:20260310T144446Z
UID:10001784-1779822000-1779827400@gardenontario.org
SUMMARY:Speaker Series - Van Thi Diep
DESCRIPTION:Join Roselands and Van Thi Diep for a deeply moving talk on Forest Therapy as a Spiritual Philosophy.
URL:https://gardenontario.org/event/speaker-series-van-thi-diep/
LOCATION:North Runnymede United Church\, Toronto\, 33 Pritchard Ave\, Toronto\, M6N 1T4
ATTACH;FMTTYPE=image/jpeg:https://gardenontario.org/wp-content/uploads/m5-May26th-Van-Thi-Diep-scaled.jpg
ORGANIZER;CN="Roselands Horticultural Society":MAILTO:roselands1926@gmail.com
GEO:43.6701854;-79.4888876
X-APPLE-STRUCTURED-LOCATION;VALUE=URI;X-ADDRESS=North Runnymede United Church Toronto 33 Pritchard Ave Toronto M6N 1T4;X-APPLE-RADIUS=500;X-TITLE=33 Pritchard Ave:geo:-79.4888876,43.6701854
END:VEVENT
BEGIN:VEVENT
DTSTART;TZID=America/Toronto:20260526T193000
DTEND;TZID=America/Toronto:20260526T213000
DTSTAMP:20260419T101413
CREATED:20260109T201143Z
LAST-MODIFIED:20260110T113956Z
UID:10001657-1779823800-1779831000@gardenontario.org
SUMMARY:General Meeting\, Mini Flower Show and Guest Speaker Shannon Westwood
DESCRIPTION:General Meeting and Mini Flow Show will be followed by our guest speaker Shannon Westwood who will be telling us about the history and workings of the Riverside Park floral clock. \nNote – Only Guelph Horticultural Society members are eligible to enter these shows 
URL:https://gardenontario.org/event/general-meeting-mini-flower-show-and-guest-speaker-shannon-westwood/
LOCATION:Dublin Street United Church\, 68 Suffolk Street\, West\, Guelph\, N1H2J2
CATEGORIES:Flower & Vegetable Show,Guest Speaker
ATTACH;FMTTYPE=image/jpeg:https://gardenontario.org/wp-content/uploads/Image-83-scaled.jpeg
ORGANIZER;CN="Guelph Horticultural Society":MAILTO:guelphhort@gmail.com
GEO:43.5461992;-80.2563472
X-APPLE-STRUCTURED-LOCATION;VALUE=URI;X-ADDRESS=Dublin Street United Church 68 Suffolk Street West Guelph N1H2J2;X-APPLE-RADIUS=500;X-TITLE=68 Suffolk Street\, West:geo:-80.2563472,43.5461992
END:VEVENT
END:VCALENDAR