BEGIN:VCALENDAR
VERSION:2.0
PRODID:-//GardenOntario - ECPv6.15.20//NONSGML v1.0//EN
CALSCALE:GREGORIAN
METHOD:PUBLISH
X-WR-CALNAME:GardenOntario
X-ORIGINAL-URL:https://gardenontario.org
X-WR-CALDESC:Events for GardenOntario
REFRESH-INTERVAL;VALUE=DURATION:PT1H
X-Robots-Tag:noindex
X-PUBLISHED-TTL:PT1H
BEGIN:VTIMEZONE
TZID:America/Toronto
BEGIN:DAYLIGHT
TZOFFSETFROM:-0500
TZOFFSETTO:-0400
TZNAME:EDT
DTSTART:20250309T070000
END:DAYLIGHT
BEGIN:STANDARD
TZOFFSETFROM:-0400
TZOFFSETTO:-0500
TZNAME:EST
DTSTART:20251102T060000
END:STANDARD
BEGIN:DAYLIGHT
TZOFFSETFROM:-0500
TZOFFSETTO:-0400
TZNAME:EDT
DTSTART:20260308T070000
END:DAYLIGHT
BEGIN:STANDARD
TZOFFSETFROM:-0400
TZOFFSETTO:-0500
TZNAME:EST
DTSTART:20261101T060000
END:STANDARD
BEGIN:DAYLIGHT
TZOFFSETFROM:-0500
TZOFFSETTO:-0400
TZNAME:EDT
DTSTART:20270314T070000
END:DAYLIGHT
BEGIN:STANDARD
TZOFFSETFROM:-0400
TZOFFSETTO:-0500
TZNAME:EST
DTSTART:20271107T060000
END:STANDARD
END:VTIMEZONE
BEGIN:VEVENT
DTSTART;TZID=America/Toronto:20260413T190000
DTEND;TZID=America/Toronto:20260413T210000
DTSTAMP:20260425T162218
CREATED:20260223T200018Z
LAST-MODIFIED:20260223T200018Z
UID:10001769-1776106800-1776114000@gardenontario.org
SUMMARY:Georgina-Brock Garden Club - Creating Habitat for Hummingbirds & Orioles
DESCRIPTION:Creating Habitat for Hummingbirds and Orioles with Paul Oliver from Urban Nature Store presents how to host hummingbirds and orioles\, what habitat and materials they need for nesting\, food\, and preparation for fall migration.  A few simple practices will make your home yard habitat more attractive to them and help ensure they thrive during their seasonal visit.  Also a Welcome to Spring Dessert Party. Everyone Welcome.
URL:https://gardenontario.org/event/georgina-brock-garden-club-creating-habitat-for-hummingbirds-orioles/
LOCATION:Pefferlaw Lions Community Centre\, 38 Pete's Lane\, Pefferlaw\, L0E 1N0
CATEGORIES:Guest Speaker
ATTACH;FMTTYPE=image/jpeg:https://gardenontario.org/wp-content/uploads/April-meeting-4.jpg
GEO:44.3105722;-79.1943974
X-APPLE-STRUCTURED-LOCATION;VALUE=URI;X-ADDRESS=Pefferlaw Lions Community Centre 38 Pete's Lane Pefferlaw L0E 1N0;X-APPLE-RADIUS=500;X-TITLE=38 Pete's Lane:geo:-79.1943974,44.3105722
END:VEVENT
END:VCALENDAR