BEGIN:VCALENDAR
VERSION:2.0
PRODID:-//GardenOntario - ECPv6.15.20//NONSGML v1.0//EN
CALSCALE:GREGORIAN
METHOD:PUBLISH
X-WR-CALNAME:GardenOntario
X-ORIGINAL-URL:https://gardenontario.org
X-WR-CALDESC:Events for GardenOntario
REFRESH-INTERVAL;VALUE=DURATION:PT1H
X-Robots-Tag:noindex
X-PUBLISHED-TTL:PT1H
BEGIN:VTIMEZONE
TZID:America/Toronto
BEGIN:DAYLIGHT
TZOFFSETFROM:-0500
TZOFFSETTO:-0400
TZNAME:EDT
DTSTART:20250309T070000
END:DAYLIGHT
BEGIN:STANDARD
TZOFFSETFROM:-0400
TZOFFSETTO:-0500
TZNAME:EST
DTSTART:20251102T060000
END:STANDARD
BEGIN:DAYLIGHT
TZOFFSETFROM:-0500
TZOFFSETTO:-0400
TZNAME:EDT
DTSTART:20260308T070000
END:DAYLIGHT
BEGIN:STANDARD
TZOFFSETFROM:-0400
TZOFFSETTO:-0500
TZNAME:EST
DTSTART:20261101T060000
END:STANDARD
BEGIN:DAYLIGHT
TZOFFSETFROM:-0500
TZOFFSETTO:-0400
TZNAME:EDT
DTSTART:20270314T070000
END:DAYLIGHT
BEGIN:STANDARD
TZOFFSETFROM:-0400
TZOFFSETTO:-0500
TZNAME:EST
DTSTART:20271107T060000
END:STANDARD
END:VTIMEZONE
BEGIN:VEVENT
DTSTART;TZID=America/Toronto:20260228T100000
DTEND;TZID=America/Toronto:20260228T140000
DTSTAMP:20260425T191644
CREATED:20260214T181436Z
LAST-MODIFIED:20260214T181436Z
UID:10001748-1772272800-1772287200@gardenontario.org
SUMMARY:Seedy Saturday
DESCRIPTION:Seed swap\, vendors\, kids make ‘n take plus annual membership drive
URL:https://gardenontario.org/event/seedy-saturday-12/
LOCATION:200 Station Street\, Orono – Durham County Senior’s Complex\, 200 Station Street\, Orono\, L0B 1M0
CATEGORIES:Seed Exchange
ATTACH;FMTTYPE=image/jpeg:https://gardenontario.org/wp-content/uploads/Seedy-Saturday.jpg
ORGANIZER;CN="Orono Horticultural Society":MAILTO:oronohortsociety@gmail.com
GEO:43.9757;-78.62029
X-APPLE-STRUCTURED-LOCATION;VALUE=URI;X-ADDRESS=200 Station Street Orono – Durham County Senior’s Complex 200 Station Street Orono L0B 1M0;X-APPLE-RADIUS=500;X-TITLE=200 Station Street:geo:-78.62029,43.9757
END:VEVENT
END:VCALENDAR