BEGIN:VCALENDAR
VERSION:2.0
PRODID:-//GardenOntario - ECPv6.15.20//NONSGML v1.0//EN
CALSCALE:GREGORIAN
METHOD:PUBLISH
X-WR-CALNAME:GardenOntario
X-ORIGINAL-URL:https://gardenontario.org
X-WR-CALDESC:Events for GardenOntario
REFRESH-INTERVAL;VALUE=DURATION:PT1H
X-Robots-Tag:noindex
X-PUBLISHED-TTL:PT1H
BEGIN:VTIMEZONE
TZID:America/Toronto
BEGIN:DAYLIGHT
TZOFFSETFROM:-0500
TZOFFSETTO:-0400
TZNAME:EDT
DTSTART:20240310T070000
END:DAYLIGHT
BEGIN:STANDARD
TZOFFSETFROM:-0400
TZOFFSETTO:-0500
TZNAME:EST
DTSTART:20241103T060000
END:STANDARD
BEGIN:DAYLIGHT
TZOFFSETFROM:-0500
TZOFFSETTO:-0400
TZNAME:EDT
DTSTART:20250309T070000
END:DAYLIGHT
BEGIN:STANDARD
TZOFFSETFROM:-0400
TZOFFSETTO:-0500
TZNAME:EST
DTSTART:20251102T060000
END:STANDARD
BEGIN:DAYLIGHT
TZOFFSETFROM:-0500
TZOFFSETTO:-0400
TZNAME:EDT
DTSTART:20260308T070000
END:DAYLIGHT
BEGIN:STANDARD
TZOFFSETFROM:-0400
TZOFFSETTO:-0500
TZNAME:EST
DTSTART:20261101T060000
END:STANDARD
END:VTIMEZONE
BEGIN:VEVENT
DTSTART;TZID=America/Toronto:20250723T180000
DTEND;TZID=America/Toronto:20250723T203000
DTSTAMP:20260423T221336
CREATED:20250203T015104Z
LAST-MODIFIED:20250203T015104Z
UID:10001206-1753293600-1753302600@gardenontario.org
SUMMARY:Off-Site Meeting-Members only
DESCRIPTION:Visit Bunch of Blooms and tour the farm and then visit the flower shop and learn the tricks of flower arranging. \nMembers only
URL:https://gardenontario.org/event/off-site-meeting-members-only/
LOCATION:Elmvale Legion\, 7 John Street\, Elmvale
GEO:44.5812852;-79.8652903
X-APPLE-STRUCTURED-LOCATION;VALUE=URI;X-ADDRESS=Elmvale Legion 7 John Street Elmvale;X-APPLE-RADIUS=500;X-TITLE=7 John Street:geo:-79.8652903,44.5812852
END:VEVENT
END:VCALENDAR