BEGIN:VCALENDAR
VERSION:2.0
PRODID:-//GardenOntario - ECPv6.15.20//NONSGML v1.0//EN
CALSCALE:GREGORIAN
METHOD:PUBLISH
X-WR-CALNAME:GardenOntario
X-ORIGINAL-URL:https://gardenontario.org
X-WR-CALDESC:Events for GardenOntario
REFRESH-INTERVAL;VALUE=DURATION:PT1H
X-Robots-Tag:noindex
X-PUBLISHED-TTL:PT1H
BEGIN:VTIMEZONE
TZID:America/Toronto
BEGIN:DAYLIGHT
TZOFFSETFROM:-0500
TZOFFSETTO:-0400
TZNAME:EDT
DTSTART:20240310T070000
END:DAYLIGHT
BEGIN:STANDARD
TZOFFSETFROM:-0400
TZOFFSETTO:-0500
TZNAME:EST
DTSTART:20241103T060000
END:STANDARD
BEGIN:DAYLIGHT
TZOFFSETFROM:-0500
TZOFFSETTO:-0400
TZNAME:EDT
DTSTART:20250309T070000
END:DAYLIGHT
BEGIN:STANDARD
TZOFFSETFROM:-0400
TZOFFSETTO:-0500
TZNAME:EST
DTSTART:20251102T060000
END:STANDARD
BEGIN:DAYLIGHT
TZOFFSETFROM:-0500
TZOFFSETTO:-0400
TZNAME:EDT
DTSTART:20260308T070000
END:DAYLIGHT
BEGIN:STANDARD
TZOFFSETFROM:-0400
TZOFFSETTO:-0500
TZNAME:EST
DTSTART:20261101T060000
END:STANDARD
END:VTIMEZONE
BEGIN:VEVENT
DTSTART;TZID=America/Toronto:20250706T080000
DTEND;TZID=America/Toronto:20250706T170000
DTSTAMP:20260424T003726
CREATED:20250627T131835Z
LAST-MODIFIED:20250627T131835Z
UID:10001484-1751788800-1751821200@gardenontario.org
SUMMARY:Garden Stratford - Garden Tour
DESCRIPTION:Enjoy visiting 7 private gardens in Stratford on a self-guided tour.  Tickets:  $15 for 2 fo $25.  Tickets available in advance at Cozyn’s\, Klomps or Sebringville Garden Centre.  Tickets available on day of tour (July 6) at Stratford City Hall\, 1 Wellington St.\, Stratford 9-1\, and Cosyn’s 10-1.
URL:https://gardenontario.org/event/garden-stratford-garden-tour/2025-07-06/1/
LOCATION:Stratford City Hall\, 1 Wellington St.\, Stratford\, N5A6W1
CATEGORIES:Garden Tour
ATTACH;FMTTYPE=image/jpeg:https://gardenontario.org/wp-content/uploads/StratfordHortLOGO-2021-41.jpg
ORGANIZER;CN="Stratford and District Horticultural Society (GARDEN STRATFORD)":MAILTO:info@gardenstratford.org
GEO:43.3687436;-80.9839783
X-APPLE-STRUCTURED-LOCATION;VALUE=URI;X-ADDRESS=Stratford City Hall 1 Wellington St. Stratford N5A6W1;X-APPLE-RADIUS=500;X-TITLE=1 Wellington St.:geo:-80.9839783,43.3687436
END:VEVENT
BEGIN:VEVENT
DTSTART;TZID=America/Toronto:20250706T100000
DTEND;TZID=America/Toronto:20250706T160000
DTSTAMP:20260424T003726
CREATED:20250627T131835Z
LAST-MODIFIED:20250627T131835Z
UID:10001485-1751796000-1751817600@gardenontario.org
SUMMARY:Garden Stratford - Garden Tour
DESCRIPTION:Enjoy visiting 7 private gardens in Stratford on a self-guided tour.  Tickets:  $15 for 2 fo $25.  Tickets available in advance at Cozyn’s\, Klomps or Sebringville Garden Centre.  Tickets available on day of tour (July 6) at Stratford City Hall\, 1 Wellington St.\, Stratford 9-1\, and Cosyn’s 10-1.
URL:https://gardenontario.org/event/garden-stratford-garden-tour/2025-07-06/2/
LOCATION:Stratford City Hall\, 1 Wellington St.\, Stratford\, N5A6W1
CATEGORIES:Garden Tour
ATTACH;FMTTYPE=image/jpeg:https://gardenontario.org/wp-content/uploads/StratfordHortLOGO-2021-41.jpg
ORGANIZER;CN="Stratford and District Horticultural Society (GARDEN STRATFORD)":MAILTO:info@gardenstratford.org
GEO:43.3687436;-80.9839783
X-APPLE-STRUCTURED-LOCATION;VALUE=URI;X-ADDRESS=Stratford City Hall 1 Wellington St. Stratford N5A6W1;X-APPLE-RADIUS=500;X-TITLE=1 Wellington St.:geo:-80.9839783,43.3687436
END:VEVENT
BEGIN:VEVENT
DTSTART;TZID=America/Toronto:20250706T100000
DTEND;TZID=America/Toronto:20250706T170000
DTSTAMP:20260424T003726
CREATED:20250514T195328Z
LAST-MODIFIED:20250514T195336Z
UID:10001456-1751796000-1751821200@gardenontario.org
SUMMARY:The Secret Gardens of Milton 2025
DESCRIPTION:Secret Gardens of Milton Tour 2025 is on July 6\, 2025 10 AM – 5 PM\n\n\nTake on a journey through eight exclusive residential gardens secretly hidden in the neighborhood.\n\nAdvance ticket purchase of $20/person either by\n\ne-transfer to\nmdhs6treasurer@gmail.com\n*PLEASE INCLUDE YOUR NAME in the e-transfer information section\nNOTE: You will pick-up ticket booklet(s) the day of the tour at Springridge Farm\, 9:30 am-1 pm\n\nor in person at\nLa Rose Bakery\, 327 Bronte Street\, Milton\, after May 25th\n\nPurchase tickets on the day of the tour $25/person at Springridge Farm 7256 Bell School Line\, 9:30 am to 1pm\n\nAll proceeds will support the Milton & District Horticultural Society\, grows gardens and gardeners in Milton for more than 100 years.\n\nWe hope you’re able to join us!\n\nThe Secret Gardens of Milton Tour 2025 Committee\nwww.miltonhortsociety.com
URL:https://gardenontario.org/event/the-secret-gardens-of-milton-2025/
LOCATION:Milton\, Ontario\, RPO 40064 Derry Heights PO\, Milton\, L9T7W4
CATEGORIES:Community Event,Garden Tour
ORGANIZER;CN="Milton &amp%3B District Horticultural Society":MAILTO:promotion.miltonhortsociety@gmail.com
GEO:43.4974595;-79.8742211
X-APPLE-STRUCTURED-LOCATION;VALUE=URI;X-ADDRESS=Milton Ontario RPO 40064 Derry Heights PO Milton L9T7W4;X-APPLE-RADIUS=500;X-TITLE=RPO 40064 Derry Heights PO:geo:-79.8742211,43.4974595
END:VEVENT
BEGIN:VEVENT
DTSTART;TZID=America/Toronto:20250706T120000
DTEND;TZID=America/Toronto:20250706T160000
DTSTAMP:20260424T003726
CREATED:20250126T013659Z
LAST-MODIFIED:20250126T013659Z
UID:10001158-1751803200-1751817600@gardenontario.org
SUMMARY:GARDEN TOUR
DESCRIPTION:JULY 06\, 2025\, 12:00 – 4:00 P.M.\nGarden Tour – Visit a variety of garden gems around Gananoque. Tickets are $15.00 at the Visitor Centre or call Lynda at 613-382-8021.\nSee beautiful gardens up close and get to talk to the gardeners. A wonderful way to support your local horticultural society and gain new ideas for your gardens
URL:https://gardenontario.org/event/garden-tour-2/
LOCATION:Gananoque\, Gananoque
CATEGORIES:Garden Tour
ATTACH;FMTTYPE=image/jpeg:https://gardenontario.org/wp-content/uploads/Georgia-on-yellow-for-post-card-3.jpg
ORGANIZER;CN="Gananoque Horticultural Society":MAILTO:gan.hort.soc@gmail.com
GEO:44.330618;-76.161864
END:VEVENT
END:VCALENDAR